Workbook

Sheet Candidatures
A1: Date de référence | B1: 46272 | C1: Les alertes sont calculées à partir de cette date de référence.
A3: ID candidature | B3: Date de candidature | C3: Candidat(e) | D3: Poste recherché | E3: Entreprise | F3: Ville | G3: Source | H3: Type de contrat | I3: Salaire brut annuel souhaité (€) | J3: Statut | K3: Étape actuelle | L3: Dernier contact | M3: Prochaine relance | N3: Prochaine action | O3: Score adéquation (%) | P3: Jours depuis candidature | Q3: Alerte relance | R3: Commentaire
A4: CAND-2026-001 | B4: 46252 | C4: Camille Martin | D4: Chargée de communication | E4: Agence Lumière | F4: Paris | G4: LinkedIn | H4: CDI | I4: 38000 | J4: Candidature envoyée | K4: CV envoyé | L4: 46269 | M4: 46270 | N4: Relancer par e-mail | O4: 0.78 | P4: =IF('Candidatures'!$B4="","",'Candidatures'!$B$1-'Candidatures'!$B4) | Q4: =IF('Candidatures'!$A4="","",IF(OR('Candidatures'!$J4="Offre reçue",'Candidatures'!$J4="Acceptée",'Candidatures'!$J4="Refusée",'Candidatures'!$J4="Abandonnée"),"À jour",IF('Candidatures'!$M4="","À planifier",IF('Candidatures'!$M4<='Candidatures'!$B$1,"Relance à faire","À jour"))))
A5: CAND-2026-002 | B5: 46260 | C5: Julien Bernard | D5: Data Analyst | E5: Novadata France | F5: Lyon | G5: Indeed | H5: CDI | I5: 46000 | J5: Entretien | K5: Entretien RH | L5: 46271 | M5: 46275 | N5: Préparer entretien | O5: 0.88 | P5: =IF('Candidatures'!$B5="","",'Candidatures'!$B$1-'Candidatures'!$B5) | Q5: =IF('Candidatures'!$A5="","",IF(OR('Candidatures'!$J5="Offre reçue",'Candidatures'!$J5="Acceptée",'Candidatures'!$J5="Refusée",'Candidatures'!$J5="Abandonnée"),"À jour",IF('Candidatures'!$M5="","À planifier",IF('Candidatures'!$M5<='Candidatures'!$B$1,"Relance à faire","À jour"))))
A6: CAND-2026-003 | B6: 46189 | C6: Émilie Dubois | D6: Responsable administrative | E6: Groupe Atlantique | F6: Nantes | G6: France Travail | H6: CDI | I6: 42000 | J6: En cours | K6: Préqualification RH | L6: 46266 | N6: Attendre retour | O6: 0.74 | P6: =IF('Candidatures'!$B6="","",'Candidatures'!$B$1-'Candidatures'!$B6) | Q6: =IF('Candidatures'!$A6="","",IF(OR('Candidatures'!$J6="Offre reçue",'Candidatures'!$J6="Acceptée",'Candidatures'!$J6="Refusée",'Candidatures'!$J6="Abandonnée"),"À jour",IF('Candidatures'!$M6="","À planifier",IF('Candidatures'!$M6<='Candidatures'!$B$1,"Relance à faire","À jour"))))
A7: CAND-2026-004 | B7: 46211 | C7: Lucas Moreau | D7: Développeur Python | E7: Tech Sud | F7: Toulouse | G7: Site entreprise | H7: CDI | I7: 48000 | J7: En cours | K7: Test technique | L7: 46270 | M7: 46277 | N7: Envoyer portfolio | O7: 0.91 | P7: =IF('Candidatures'!$B7="","",'Candidatures'!$B$1-'Candidatures'!$B7) | Q7: =IF('Candidatures'!$A7="","",IF(OR('Candidatures'!$J7="Offre reçue",'Candidatures'!$J7="Acceptée",'Candidatures'!$J7="Refusée",'Candidatures'!$J7="Abandonnée"),"À jour",IF('Candidatures'!$M7="","À planifier",IF('Candidatures'!$M7<='Candidatures'!$B$1,"Relance à faire","À jour"))))
A8: CAND-2026-005 | B8: 46131 | C8: Chloé Petit | D8: Assistante commerciale | E8: Vins de Garonne | F8: Bordeaux | G8: Cabinet de recrutement | H8: CDD | I8: 32000 | J8: Refusée | K8: Décision finale | L8: 46254 | N8: Aucune action | O8: 0.66 | P8: =IF('Candidatures'!$B8="","",'Candidatures'!$B$1-'Candidatures'!$B8) | Q8: =IF('Candidatures'!$A8="","",IF(OR('Candidatures'!$J8="Offre reçue",'Candidatures'!$J8="Acceptée",'Candidatures'!$J8="Refusée",'Candidatures'!$J8="Abandonnée"),"À jour",IF('Candidatures'!$M8="","À planifier",IF('Candidatures'!$M8<='Candidatures'!$B$1,"Relance à faire","À jour"))))
A9: CAND-2026-006 | B9: 46078 | C9: Thomas Robert | D9: Chef de projet digital | E9: Nord Numérique | F9: Lille | G9: Réseau professionnel | H9: CDI | I9: 50000 | J9: Entretien | K9: Entretien manager | L9: 46271 | M9: 46276 | N9: Attendre retour | O9: 0.84 | P9: =IF('Candidatures'!$B9="","",'Candidatures'!$B$1-'Candidatures'!$B9) | Q9: =IF('Candidatures'!$A9="","",IF(OR('Candidatures'!$J9="Offre reçue",'Candidatures'!$J9="Acceptée",'Candidatures'!$J9="Refusée",'Candidatures'!$J9="Abandonnée"),"À jour",IF('Candidatures'!$M9="","À planifier",IF('Candidatures'!$M9<='Candidatures'!$B$1,"Relance à faire","À jour"))))
A10: CAND-2026-007 | B10: 46239 | C10: Léa Laurent | D10: Consultante RH | E10: Alsace Conseil | F10: Strasbourg | G10: LinkedIn | H10: CDI | I10: 41000 | J10: En cours | K10: Préqualification RH | L10: 46268 | M10: 46271 | N10: Appeler le recruteur | O10: 0.81 | P10: =IF('Candidatures'!$B10="","",'Candidatures'!$B$1-'Candidatures'!$B10) | Q10: =IF('Candidatures'!$A10="","",IF(OR('Candidatures'!$J10="Offre reçue",'Candidatures'!$J10="Acceptée",'Candidatures'!$J10="Refusée",'Candidatures'!$J10="Abandonnée"),"À jour",IF('Candidatures'!$M10="","À planifier",IF('Candidatures'!$M10<='Candidatures'!$B$1,"Relance à faire","À jour"))))
A11: CAND-2026-008 | B11: 46266 | C11: Nicolas Garcia | D11: Ingénieur commercial | E11: Méditerranée Solutions | F11: Marseille | G11: France Travail | H11: CDI | I11: 52000 | J11: Candidature envoyée | K11: CV envoyé | L11: 46267 | M11: 46271 | N11: Relancer par e-mail | O11: 0.76 | P11: =IF('Candidatures'!$B11="","",'Candidatures'!$B$1-'Candidatures'!$B11) | Q11: =IF('Candidatures'!$A11="","",IF(OR('Candidatures'!$J11="Offre reçue",'Candidatures'!$J11="Acceptée",'Candidatures'!$J11="Refusée",'Candidatures'!$J11="Abandonnée"),"À jour",IF('Candidatures'!$M11="","À planifier",IF('Candidatures'!$M11<='Candidatures'!$B$1,"Relance à faire","À jour"))))
A12: CAND-2026-009 | B12: 46217 | C12: Manon Lefèvre | D12: UX Designer | E12: Studio Azur | F12: Nice | G12: Site entreprise | H12: Freelance | I12: 44000 | J12: Offre reçue | K12: Décision finale | L12: 46271 | N12: Attendre retour | O12: 0.93 | P12: =IF('Candidatures'!$B12="","",'Candidatures'!$B$1-'Candidatures'!$B12) | Q12: =IF('Candidatures'!$A12="","",IF(OR('Candidatures'!$J12="Offre reçue",'Candidatures'!$J12="Acceptée",'Candidatures'!$J12="Refusée",'Candidatures'!$J12="Abandonnée"),"À jour",IF('Candidatures'!$M12="","À planifier",IF('Candidatures'!$M12<='Candidatures'!$B$1,"Relance à faire","À jour"))))
P13: =IF('Candidatures'!$B13="","",'Candidatures'!$B$1-'Candidatures'!$B13) | Q13: =IF('Candidatures'!$A13="","",IF(OR('Candidatures'!$J13="Offre reçue",'Candidatures'!$J13="Acceptée",'Candidatures'!$J13="Refusée",'Candidatures'!$J13="Abandonnée"),"À jour",IF('Candidatures'!$M13="","À planifier",IF('Candidatures'!$M13<='Candidatures'!$B$1,"Relance à faire","À jour"))))
P14: =IF('Candidatures'!$B14="","",'Candidatures'!$B$1-'Candidatures'!$B14) | Q14: =IF('Candidatures'!$A14="","",IF(OR('Candidatures'!$J14="Offre reçue",'Candidatures'!$J14="Acceptée",'Candidatures'!$J14="Refusée",'Candidatures'!$J14="Abandonnée"),"À jour",IF('Candidatures'!$M14="","À planifier",IF('Candidatures'!$M14<='Candidatures'!$B$1,"Relance à faire","À jour"))))
P15: =IF('Candidatures'!$B15="","",'Candidatures'!$B$1-'Candidatures'!$B15) | Q15: =IF('Candidatures'!$A15="","",IF(OR('Candidatures'!$J15="Offre reçue",'Candidatures'!$J15="Acceptée",'Candidatures'!$J15="Refusée",'Candidatures'!$J15="Abandonnée"),"À jour",IF('Candidatures'!$M15="","À planifier",IF('Candidatures'!$M15<='Candidatures'!$B$1,"Relance à faire","À jour"))))
P16: =IF('Candidatures'!$B16="","",'Candidatures'!$B$1-'Candidatures'!$B16) | Q16: =IF('Candidatures'!$A16="","",IF(OR('Candidatures'!$J16="Offre reçue",'Candidatures'!$J16="Acceptée",'Candidatures'!$J16="Refusée",'Candidatures'!$J16="Abandonnée"),"À jour",IF('Candidatures'!$M16="","À planifier",IF('Candidatures'!$M16<='Candidatures'!$B$1,"Relance à faire","À jour"))))
P17: =IF('Candidatures'!$B17="","",'Candidatures'!$B$1-'Candidatures'!$B17) | Q17: =IF('Candidatures'!$A17="","",IF(OR('Candidatures'!$J17="Offre reçue",'Candidatures'!$J17="Acceptée",'Candidatures'!$J17="Refusée",'Candidatures'!$J17="Abandonnée"),"À jour",IF('Candidatures'!$M17="","À planifier",IF('Candidatures'!$M17<='Candidatures'!$B$1,"Relance à faire","À jour"))))
P18: =IF('Candidatures'!$B18="","",'Candidatures'!$B$1-'Candidatures'!$B18) | Q18: =IF('Candidatures'!$A18="","",IF(OR('Candidatures'!$J18="Offre reçue",'Candidatures'!$J18="Acceptée",'Candidatures'!$J18="Refusée",'Candidatures'!$J18="Abandonnée"),"À jour",IF('Candidatures'!$M18="","À planifier",IF('Candidatures'!$M18<='Candidatures'!$B$1,"Relance à faire","À jour"))))
P19: =IF('Candidatures'!$B19="","",'Candidatures'!$B$1-'Candidatures'!$B19) | Q19: =IF('Candidatures'!$A19="","",IF(OR('Candidatures'!$J19="Offre reçue",'Candidatures'!$J19="Acceptée",'Candidatures'!$J19="Refusée",'Candidatures'!$J19="Abandonnée"),"À jour",IF('Candidatures'!$M19="","À planifier",IF('Candidatures'!$M19<='Candidatures'!$B$1,"Relance à faire","À jour"))))
P20: =IF('Candidatures'!$B20="","",'Candidatures'!$B$1-'Candidatures'!$B20) | Q20: =IF('Candidatures'!$A20="","",IF(OR('Candidatures'!$J20="Offre reçue",'Candidatures'!$J20="Acceptée",'Candidatures'!$J20="Refusée",'Candidatures'!$J20="Abandonnée"),"À jour",IF('Candidatures'!$M20="","À planifier",IF('Candidatures'!$M20<='Candidatures'!$B$1,"Relance à faire","À jour"))))
P21: =IF('Candidatures'!$B21="","",'Candidatures'!$B$1-'Candidatures'!$B21) | Q21: =IF('Candidatures'!$A21="","",IF(OR('Candidatures'!$J21="Offre reçue",'Candidatures'!$J21="Acceptée",'Candidatures'!$J21="Refusée",'Candidatures'!$J21="Abandonnée"),"À jour",IF('Candidatures'!$M21="","À planifier",IF('Candidatures'!$M21<='Candidatures'!$B$1,"Relance à faire","À jour"))))
P22: =IF('Candidatures'!$B22="","",'Candidatures'!$B$1-'Candidatures'!$B22) | Q22: =IF('Candidatures'!$A22="","",IF(OR('Candidatures'!$J22="Offre reçue",'Candidatures'!$J22="Acceptée",'Candidatures'!$J22="Refusée",'Candidatures'!$J22="Abandonnée"),"À jour",IF('Candidatures'!$M22="","À planifier",IF('Candidatures'!$M22<='Candidatures'!$B$1,"Relance à faire","À jour"))))
P23: =IF('Candidatures'!$B23="","",'Candidatures'!$B$1-'Candidatures'!$B23) | Q23: =IF('Candidatures'!$A23="","",IF(OR('Candidatures'!$J23="Offre reçue",'Candidatures'!$J23="Acceptée",'Candidatures'!$J23="Refusée",'Candidatures'!$J23="Abandonnée"),"À jour",IF('Candidatures'!$M23="","À planifier",IF('Candidatures'!$M23<='Candidatures'!$B$1,"Relance à faire","À jour"))))
P24: =IF('Candidatures'!$B24="","",'Candidatures'!$B$1-'Candidatures'!$B24) | Q24: =IF('Candidatures'!$A24="","",IF(OR('Candidatures'!$J24="Offre reçue",'Candidatures'!$J24="Acceptée",'Candidatures'!$J24="Refusée",'Candidatures'!$J24="Abandonnée"),"À jour",IF('Candidatures'!$M24="","À planifier",IF('Candidatures'!$M24<='Candidatures'!$B$1,"Relance à faire","À jour"))))
... P103: =IF('Candidatures'!$B103="","",'Candidatures'!$B$1-'Candidatures'!$B103) | Q103: =IF('Candidatures'!$A103="","",IF(OR('Candidatures'!$J103="Offre reçue",'Candidatures'!$J103="Acceptée",'Candidatures'!$J103="Refusée",'Candidatures'!$J103="Abandonnée"),"À jour",IF('Candidatures'!$M103="","À planifier",IF('Candidatures'!$M103<='Candidatures'!$B$1,"Relance à faire","À jour"))))

Sheet Tableau de bord
A1: Tableau de bord — suivi hebdomadaire des candidatures
A3: Indicateur | B3: Valeur
A4: Nombre total de candidatures | B4: =COUNTA('Candidatures'!$A$4:$A$103)
A5: Candidatures en cours | B5: =COUNTIF('Candidatures'!$J$4:$J$103,"En cours")
A6: Entretiens obtenus | B6: =COUNTIF('Candidatures'!$J$4:$J$103,"Entretien")
A7: Offres reçues | B7: =COUNTIF('Candidatures'!$J$4:$J$103,"Offre reçue")
A8: Candidatures acceptées | B8: =COUNTIF('Candidatures'!$J$4:$J$103,"Acceptée")
A9: Taux de réponse | B9: =IFERROR((COUNTIF('Candidatures'!$J$4:$J$103,"Entretien")+COUNTIF('Candidatures'!$J$4:$J$103,"Offre reçue")+COUNTIF('Candidatures'!$J$4:$J$103,"Acceptée"))/COUNTA('Candidatures'!$A$4:$A$103),0)
A10: Score moyen d’adéquation | B10: =IFERROR(AVERAGE('Candidatures'!$O$4:$O$103),0)
A11: Salaire moyen souhaité | B11: =IFERROR(AVERAGE('Candidatures'!$I$4:$I$103),0)
A12: Relances à faire | B12: =COUNTIF('Candidatures'!$Q$4:$Q$103,"Relance à faire")
A14: Statut | B14: Nombre | C14: Pourcentage du total | D14: Repère | E14: Source | F14: Nombre | G14: Pourcentage du total | I14: Ville | J14: Nombre
A15: À contacter | B15: =COUNTIF('Candidatures'!$J$4:$J$103,$A15) | C15: =IFERROR($B15/$B$23,0) | D15: 1 | E15: =IFERROR(VLOOKUP($D15,'Listes et instructions'!$H$4:$I$9,2,FALSE),"") | F15: =COUNTIF('Candidatures'!$G$4:$G$103,$E15) | G15: =IFERROR($F15/$F$21,0) | I15: Paris | J15: =COUNTIF('Candidatures'!$F$4:$F$103,$I15)
A16: Candidature envoyée | B16: =COUNTIF('Candidatures'!$J$4:$J$103,$A16) | C16: =IFERROR($B16/$B$23,0) | D16: 2 | E16: =IFERROR(VLOOKUP($D16,'Listes et instructions'!$H$4:$I$9,2,FALSE),"") | F16: =COUNTIF('Candidatures'!$G$4:$G$103,$E16) | G16: =IFERROR($F16/$F$21,0) | I16: Lyon | J16: =COUNTIF('Candidatures'!$F$4:$F$103,$I16)
A17: En cours | B17: =COUNTIF('Candidatures'!$J$4:$J$103,$A17) | C17: =IFERROR($B17/$B$23,0) | D17: 3 | E17: =IFERROR(VLOOKUP($D17,'Listes et instructions'!$H$4:$I$9,2,FALSE),"") | F17: =COUNTIF('Candidatures'!$G$4:$G$103,$E17) | G17: =IFERROR($F17/$F$21,0) | I17: Nantes | J17: =COUNTIF('Candidatures'!$F$4:$F$103,$I17)
A18: Entretien | B18: =COUNTIF('Candidatures'!$J$4:$J$103,$A18) | C18: =IFERROR($B18/$B$23,0) | D18: 4 | E18: =IFERROR(VLOOKUP($D18,'Listes et instructions'!$H$4:$I$9,2,FALSE),"") | F18: =COUNTIF('Candidatures'!$G$4:$G$103,$E18) | G18: =IFERROR($F18/$F$21,0) | I18: Toulouse | J18: =COUNTIF('Candidatures'!$F$4:$F$103,$I18)
A19: Offre reçue | B19: =COUNTIF('Candidatures'!$J$4:$J$103,$A19) | C19: =IFERROR($B19/$B$23,0) | D19: 5 | E19: =IFERROR(VLOOKUP($D19,'Listes et instructions'!$H$4:$I$9,2,FALSE),"") | F19: =COUNTIF('Candidatures'!$G$4:$G$103,$E19) | G19: =IFERROR($F19/$F$21,0) | I19: Bordeaux | J19: =COUNTIF('Candidatures'!$F$4:$F$103,$I19)
A20: Acceptée | B20: =COUNTIF('Candidatures'!$J$4:$J$103,$A20) | C20: =IFERROR($B20/$B$23,0) | D20: 6 | E20: =IFERROR(VLOOKUP($D20,'Listes et instructions'!$H$4:$I$9,2,FALSE),"") | F20: =COUNTIF('Candidatures'!$G$4:$G$103,$E20) | G20: =IFERROR($F20/$F$21,0) | I20: Lille | J20: =COUNTIF('Candidatures'!$F$4:$F$103,$I20)
A21: Refusée | B21: =COUNTIF('Candidatures'!$J$4:$J$103,$A21) | C21: =IFERROR($B21/$B$23,0) | D21: Total | F21: =SUM($F$15:$F$20) | G21: =IFERROR($F$21/$F$21,0) | I21: Strasbourg | J21: =COUNTIF('Candidatures'!$F$4:$F$103,$I21)
A22: Abandonnée | B22: =COUNTIF('Candidatures'!$J$4:$J$103,$A22) | C22: =IFERROR($B22/$B$23,0) | I22: Marseille | J22: =COUNTIF('Candidatures'!$F$4:$F$103,$I22)
A23: Total | B23: =SUM($B$15:$B$22) | C23: =IFERROR($B$23/$B$23,0) | I23: Nice | J23: =COUNTIF('Candidatures'!$F$4:$F$103,$I23)
I24: Rennes | J24: =COUNTIF('Candidatures'!$F$4:$F$103,$I24)
I25: Total | J25: =SUM($J$15:$J$24)

Sheet Listes et instructions
A1: Listes de validation et instructions de suivi
A3: Source | B3: Type de contrat | C3: Statut | D3: Étape actuelle | E3: Prochaine action | F3: Consignes de suivi | H3: Repère | I3: Source pour synthèse
A4: LinkedIn | B4: CDI | C4: À contacter | D4: CV envoyé | E4: Relancer par e-mail | F4: Mettre à jour le statut après chaque échange. | H4: 1 | I4: LinkedIn
A5: France Travail | B5: CDD | C5: Candidature envoyée | D5: Préqualification RH | E5: Appeler le recruteur | F5: Renseigner une date de relance pour toute candidature active. | H5: 2 | I5: France Travail
A6: Indeed | B6: Alternance | C6: En cours | D6: Entretien RH | E6: Préparer entretien | F6: Utiliser les filtres pour afficher les relances urgentes. | H6: 3 | I6: Indeed
A7: Site entreprise | B7: Stage | C7: Entretien | D7: Entretien manager | E7: Envoyer portfolio | F7: Les scores sont exprimés en pourcentage. | H7: 4 | I7: Site entreprise
A8: Cabinet de recrutement | B8: Freelance | C8: Offre reçue | D8: Test technique | E8: Attendre retour | F8: Ne pas saisir de données sensibles non nécessaires au recrutement, conformément au RGPD/CNIL. | H8: 5 | I8: Cabinet de recrutement
A9: Réseau professionnel | C9: Acceptée | D9: Références | E9: Aucune action | H9: 6 | I9: Réseau professionnel
C10: Refusée | D10: Décision finale
C11: Abandonnée
