Workbook

Sheet Instructions
A1: Gestion tournoi foot Excel — Mode d'emploi
A3: Démarrage | B3: Renseignez les informations des équipes dans la feuille « Équipes », puis programmez et saisissez les résultats dans la feuille « Matchs ».
A5: Saisie des équipes | B5: Les cellules jaunes sont réservées à la saisie. Conservez un identifiant unique par équipe et indiquez le paiement reçu pour suivre les inscriptions.
A7: Saisie des matchs | B7: Pour un match non joué, laissez les deux scores vides et choisissez le statut « Programmé ». Une fois le match terminé, saisissez les buts et choisissez « Joué ».
A9: Classement automatique | B9: Le tableau de bord calcule automatiquement les matchs joués, les buts, les points, les pourcentages de victoire et le classement des équipes.
A11: Barème recommandé | B11: Victoire : 3 points. Match nul : 1 point. Défaite : 0 point. Les points sont calculés automatiquement selon les scores renseignés.
A13: Budget d'inscription | B13: La feuille « Équipes » calcule les frais attendus, les recettes encaissées, le taux d'encaissement et les paiements à relancer.
A15: Rappel RGPD | B15: Limitez les informations personnelles aux seules données nécessaires à l'organisation du tournoi et évitez de diffuser les coordonnées des capitaines sans nécessité.
A17: Repère visuel | B17: Cellules jaunes : saisie manuelle. Cellules blanches ou roses : calculs et informations automatiques.

Sheet Équipes
A1: ID équipe | B1: Nom de l'équipe | C1: Ville | D1: Capitaine | E1: E-mail | F1: Téléphone | G1: Groupe | H1: Frais d'inscription (€) | I1: Paiement reçu | J1: Statut | K1: Date d'inscription
A2: EQ01 | B2: Les Aiglons | C2: Paris | D2: Camille Martin | E2: camille.martin@aiglons.fr | F2: 06 12 34 56 01 | G2: Groupe A | H2: 150 | I2: Oui | J2: =IF(I2="","",IF(I2="Oui","Inscription validée","Paiement à relancer")) | K2: 46032
A3: EQ02 | B3: Olympique Lyonnais Entreprise | C3: Lyon | D3: Julien Bernard | E3: julien.bernard@olentreprise.fr | F3: 06 12 34 56 02 | G3: Groupe A | H3: 150 | I3: Oui | J3: =IF(I3="","",IF(I3="Oui","Inscription validée","Paiement à relancer")) | K3: 46038
A4: EQ03 | B4: Phocéens FC | C4: Marseille | D4: Émilie Roux | E4: emilie.roux@phoceensfc.fr | F4: 06 12 34 56 03 | G4: Groupe A | H4: 150 | I4: Non | J4: =IF(I4="","",IF(I4="Oui","Inscription validée","Paiement à relancer")) | K4: 46046
A5: EQ04 | B5: Toulouse Capitole | C5: Toulouse | D5: Lucas Moreau | E5: lucas.moreau@capitole.fr | F5: 06 12 34 56 04 | G5: Groupe A | H5: 150 | I5: Oui | J5: =IF(I5="","",IF(I5="Oui","Inscription validée","Paiement à relancer")) | K5: 46052
A6: EQ05 | B6: Girondins Business | C6: Bordeaux | D6: Chloé Petit | E6: chloe.petit@girondinsbusiness.fr | F6: 06 12 34 56 05 | G6: Groupe B | H6: 150 | I6: Oui | J6: =IF(I6="","",IF(I6="Oui","Inscription validée","Paiement à relancer")) | K6: 46059
A7: EQ06 | B7: Lille Métropole | C7: Lille | D7: Thomas Leroy | E7: thomas.leroy@lillemetropole.fr | F7: 06 12 34 56 06 | G7: Groupe B | H7: 150 | I7: Oui | J7: =IF(I7="","",IF(I7="Oui","Inscription validée","Paiement à relancer")) | K7: 46065
A8: EQ07 | B8: Canaris de Nantes | C8: Nantes | D8: Léa Fontaine | E8: lea.fontaine@canarisnantes.fr | F8: 06 12 34 56 07 | G8: Groupe B | H8: 150 | I8: Non | J8: =IF(I8="","",IF(I8="Oui","Inscription validée","Paiement à relancer")) | K8: 46073
A9: EQ08 | B9: Racing Strasbourg | C9: Strasbourg | D9: Nicolas Giraud | E9: nicolas.giraud@racingstrasbourg.fr | F9: 06 12 34 56 08 | G9: Groupe B | H9: 150 | I9: Oui | J9: =IF(I9="","",IF(I9="Oui","Inscription validée","Paiement à relancer")) | K9: 46081
J10: =IF(I10="","",IF(I10="Oui","Inscription validée","Paiement à relancer"))
J11: =IF(I11="","",IF(I11="Oui","Inscription validée","Paiement à relancer"))
J12: =IF(I12="","",IF(I12="Oui","Inscription validée","Paiement à relancer"))
J13: =IF(I13="","",IF(I13="Oui","Inscription validée","Paiement à relancer"))
J14: =IF(I14="","",IF(I14="Oui","Inscription validée","Paiement à relancer"))
J15: =IF(I15="","",IF(I15="Oui","Inscription validée","Paiement à relancer"))
J16: =IF(I16="","",IF(I16="Oui","Inscription validée","Paiement à relancer"))
J17: =IF(I17="","",IF(I17="Oui","Inscription validée","Paiement à relancer"))
J18: =IF(I18="","",IF(I18="Oui","Inscription validée","Paiement à relancer"))
J19: =IF(I19="","",IF(I19="Oui","Inscription validée","Paiement à relancer"))
J20: =IF(I20="","",IF(I20="Oui","Inscription validée","Paiement à relancer"))
J21: =IF(I21="","",IF(I21="Oui","Inscription validée","Paiement à relancer"))
... J101: =IF(I101="","",IF(I101="Oui","Inscription validée","Paiement à relancer"))
A104: Synthèse des inscriptions
A105: Indicateur | B105: Valeur
A106: Frais attendus | B106: =SUM(H2:H101)
A107: Total encaissé | B107: =SUMIF(I2:I101,"Oui",H2:H101)
A108: Taux d'encaissement | B108: =IFERROR(B107/B106,0)
A109: Équipes du Groupe A | B109: =COUNTIF(G2:G101,"Groupe A")
A110: Équipes du Groupe B | B110: =COUNTIF(G2:G101,"Groupe B")
A111: Frais moyens par équipe | B111: =IFERROR(AVERAGE(H2:H101),0)

Sheet Matchs
A1: N° match | B1: Date | C1: Heure | D1: Terrain | E1: Groupe | F1: Équipe domicile | G1: Équipe extérieure | H1: Buts domicile | I1: Buts extérieurs | J1: Statut | K1: Résultat | L1: Points domicile | M1: Points extérieurs | N1: Ville équipe domicile | O1: Ville équipe extérieure
A2: 1 | B2: 46096 | C2: 0.375 | D2: Terrain 1 | E2: Groupe A | F2: Les Aiglons | G2: Olympique Lyonnais Entreprise | H2: 2 | I2: 1 | J2: Joué | K2: =IF(A2="","",IF(J2<>"Joué","À jouer",IF(OR(H2="",I2=""),"Score à renseigner",IF(H2>I2,"Victoire domicile",IF(H2<I2,"Victoire extérieur","Match nul"))))) | L2: =IF(A2="","",IF(OR(J2<>"Joué",H2="",I2=""),0,IF(H2>I2,3,IF(H2=I2,1,0)))) | M2: =IF(A2="","",IF(OR(J2<>"Joué",H2="",I2=""),0,IF(I2>H2,3,IF(H2=I2,1,0)))) | N2: =IF(F2="","",IFERROR(VLOOKUP(F2,'Équipes'!$B$2:$C$101,2,FALSE),"")) | O2: =IF(G2="","",IFERROR(VLOOKUP(G2,'Équipes'!$B$2:$C$101,2,FALSE),""))
A3: 2 | B3: 46096 | C3: 0.4375 | D3: Terrain 1 | E3: Groupe A | F3: Phocéens FC | G3: Toulouse Capitole | H3: 1 | I3: 1 | J3: Joué | K3: =IF(A3="","",IF(J3<>"Joué","À jouer",IF(OR(H3="",I3=""),"Score à renseigner",IF(H3>I3,"Victoire domicile",IF(H3<I3,"Victoire extérieur","Match nul"))))) | L3: =IF(A3="","",IF(OR(J3<>"Joué",H3="",I3=""),0,IF(H3>I3,3,IF(H3=I3,1,0)))) | M3: =IF(A3="","",IF(OR(J3<>"Joué",H3="",I3=""),0,IF(I3>H3,3,IF(H3=I3,1,0)))) | N3: =IF(F3="","",IFERROR(VLOOKUP(F3,'Équipes'!$B$2:$C$101,2,FALSE),"")) | O3: =IF(G3="","",IFERROR(VLOOKUP(G3,'Équipes'!$B$2:$C$101,2,FALSE),""))
A4: 3 | B4: 46096 | C4: 0.58333333 | D4: Terrain 1 | E4: Groupe B | F4: Girondins Business | G4: Lille Métropole | H4: 3 | I4: 0 | J4: Joué | K4: =IF(A4="","",IF(J4<>"Joué","À jouer",IF(OR(H4="",I4=""),"Score à renseigner",IF(H4>I4,"Victoire domicile",IF(H4<I4,"Victoire extérieur","Match nul"))))) | L4: =IF(A4="","",IF(OR(J4<>"Joué",H4="",I4=""),0,IF(H4>I4,3,IF(H4=I4,1,0)))) | M4: =IF(A4="","",IF(OR(J4<>"Joué",H4="",I4=""),0,IF(I4>H4,3,IF(H4=I4,1,0)))) | N4: =IF(F4="","",IFERROR(VLOOKUP(F4,'Équipes'!$B$2:$C$101,2,FALSE),"")) | O4: =IF(G4="","",IFERROR(VLOOKUP(G4,'Équipes'!$B$2:$C$101,2,FALSE),""))
A5: 4 | B5: 46096 | C5: 0.64583333 | D5: Terrain 1 | E5: Groupe B | F5: Canaris de Nantes | G5: Racing Strasbourg | H5: 2 | I5: 2 | J5: Joué | K5: =IF(A5="","",IF(J5<>"Joué","À jouer",IF(OR(H5="",I5=""),"Score à renseigner",IF(H5>I5,"Victoire domicile",IF(H5<I5,"Victoire extérieur","Match nul"))))) | L5: =IF(A5="","",IF(OR(J5<>"Joué",H5="",I5=""),0,IF(H5>I5,3,IF(H5=I5,1,0)))) | M5: =IF(A5="","",IF(OR(J5<>"Joué",H5="",I5=""),0,IF(I5>H5,3,IF(H5=I5,1,0)))) | N5: =IF(F5="","",IFERROR(VLOOKUP(F5,'Équipes'!$B$2:$C$101,2,FALSE),"")) | O5: =IF(G5="","",IFERROR(VLOOKUP(G5,'Équipes'!$B$2:$C$101,2,FALSE),""))
A6: 5 | B6: 46099 | C6: 0.77083333 | D6: Terrain 2 | E6: Groupe A | F6: Les Aiglons | G6: Phocéens FC | J6: Programmé | K6: =IF(A6="","",IF(J6<>"Joué","À jouer",IF(OR(H6="",I6=""),"Score à renseigner",IF(H6>I6,"Victoire domicile",IF(H6<I6,"Victoire extérieur","Match nul"))))) | L6: =IF(A6="","",IF(OR(J6<>"Joué",H6="",I6=""),0,IF(H6>I6,3,IF(H6=I6,1,0)))) | M6: =IF(A6="","",IF(OR(J6<>"Joué",H6="",I6=""),0,IF(I6>H6,3,IF(H6=I6,1,0)))) | N6: =IF(F6="","",IFERROR(VLOOKUP(F6,'Équipes'!$B$2:$C$101,2,FALSE),"")) | O6: =IF(G6="","",IFERROR(VLOOKUP(G6,'Équipes'!$B$2:$C$101,2,FALSE),""))
A7: 6 | B7: 46099 | C7: 0.83333333 | D7: Terrain 2 | E7: Groupe A | F7: Olympique Lyonnais Entreprise | G7: Toulouse Capitole | J7: Programmé | K7: =IF(A7="","",IF(J7<>"Joué","À jouer",IF(OR(H7="",I7=""),"Score à renseigner",IF(H7>I7,"Victoire domicile",IF(H7<I7,"Victoire extérieur","Match nul"))))) | L7: =IF(A7="","",IF(OR(J7<>"Joué",H7="",I7=""),0,IF(H7>I7,3,IF(H7=I7,1,0)))) | M7: =IF(A7="","",IF(OR(J7<>"Joué",H7="",I7=""),0,IF(I7>H7,3,IF(H7=I7,1,0)))) | N7: =IF(F7="","",IFERROR(VLOOKUP(F7,'Équipes'!$B$2:$C$101,2,FALSE),"")) | O7: =IF(G7="","",IFERROR(VLOOKUP(G7,'Équipes'!$B$2:$C$101,2,FALSE),""))
A8: 7 | B8: 46100 | C8: 0.77083333 | D8: Terrain 2 | E8: Groupe B | F8: Girondins Business | G8: Canaris de Nantes | J8: Programmé | K8: =IF(A8="","",IF(J8<>"Joué","À jouer",IF(OR(H8="",I8=""),"Score à renseigner",IF(H8>I8,"Victoire domicile",IF(H8<I8,"Victoire extérieur","Match nul"))))) | L8: =IF(A8="","",IF(OR(J8<>"Joué",H8="",I8=""),0,IF(H8>I8,3,IF(H8=I8,1,0)))) | M8: =IF(A8="","",IF(OR(J8<>"Joué",H8="",I8=""),0,IF(I8>H8,3,IF(H8=I8,1,0)))) | N8: =IF(F8="","",IFERROR(VLOOKUP(F8,'Équipes'!$B$2:$C$101,2,FALSE),"")) | O8: =IF(G8="","",IFERROR(VLOOKUP(G8,'Équipes'!$B$2:$C$101,2,FALSE),""))
A9: 8 | B9: 46100 | C9: 0.83333333 | D9: Terrain 2 | E9: Groupe B | F9: Lille Métropole | G9: Racing Strasbourg | J9: Programmé | K9: =IF(A9="","",IF(J9<>"Joué","À jouer",IF(OR(H9="",I9=""),"Score à renseigner",IF(H9>I9,"Victoire domicile",IF(H9<I9,"Victoire extérieur","Match nul"))))) | L9: =IF(A9="","",IF(OR(J9<>"Joué",H9="",I9=""),0,IF(H9>I9,3,IF(H9=I9,1,0)))) | M9: =IF(A9="","",IF(OR(J9<>"Joué",H9="",I9=""),0,IF(I9>H9,3,IF(H9=I9,1,0)))) | N9: =IF(F9="","",IFERROR(VLOOKUP(F9,'Équipes'!$B$2:$C$101,2,FALSE),"")) | O9: =IF(G9="","",IFERROR(VLOOKUP(G9,'Équipes'!$B$2:$C$101,2,FALSE),""))
A10: 9 | B10: 46103 | C10: 0.39583333 | D10: Terrain 1 | E10: Groupe A | F10: Les Aiglons | G10: Toulouse Capitole | J10: Programmé | K10: =IF(A10="","",IF(J10<>"Joué","À jouer",IF(OR(H10="",I10=""),"Score à renseigner",IF(H10>I10,"Victoire domicile",IF(H10<I10,"Victoire extérieur","Match nul"))))) | L10: =IF(A10="","",IF(OR(J10<>"Joué",H10="",I10=""),0,IF(H10>I10,3,IF(H10=I10,1,0)))) | M10: =IF(A10="","",IF(OR(J10<>"Joué",H10="",I10=""),0,IF(I10>H10,3,IF(H10=I10,1,0)))) | N10: =IF(F10="","",IFERROR(VLOOKUP(F10,'Équipes'!$B$2:$C$101,2,FALSE),"")) | O10: =IF(G10="","",IFERROR(VLOOKUP(G10,'Équipes'!$B$2:$C$101,2,FALSE),""))
A11: 10 | B11: 46103 | C11: 0.45833333 | D11: Terrain 1 | E11: Groupe B | F11: Girondins Business | G11: Racing Strasbourg | J11: Programmé | K11: =IF(A11="","",IF(J11<>"Joué","À jouer",IF(OR(H11="",I11=""),"Score à renseigner",IF(H11>I11,"Victoire domicile",IF(H11<I11,"Victoire extérieur","Match nul"))))) | L11: =IF(A11="","",IF(OR(J11<>"Joué",H11="",I11=""),0,IF(H11>I11,3,IF(H11=I11,1,0)))) | M11: =IF(A11="","",IF(OR(J11<>"Joué",H11="",I11=""),0,IF(I11>H11,3,IF(H11=I11,1,0)))) | N11: =IF(F11="","",IFERROR(VLOOKUP(F11,'Équipes'!$B$2:$C$101,2,FALSE),"")) | O11: =IF(G11="","",IFERROR(VLOOKUP(G11,'Équipes'!$B$2:$C$101,2,FALSE),""))
K12: =IF(A12="","",IF(J12<>"Joué","À jouer",IF(OR(H12="",I12=""),"Score à renseigner",IF(H12>I12,"Victoire domicile",IF(H12<I12,"Victoire extérieur","Match nul"))))) | L12: =IF(A12="","",IF(OR(J12<>"Joué",H12="",I12=""),0,IF(H12>I12,3,IF(H12=I12,1,0)))) | M12: =IF(A12="","",IF(OR(J12<>"Joué",H12="",I12=""),0,IF(I12>H12,3,IF(H12=I12,1,0)))) | N12: =IF(F12="","",IFERROR(VLOOKUP(F12,'Équipes'!$B$2:$C$101,2,FALSE),"")) | O12: =IF(G12="","",IFERROR(VLOOKUP(G12,'Équipes'!$B$2:$C$101,2,FALSE),""))
K13: =IF(A13="","",IF(J13<>"Joué","À jouer",IF(OR(H13="",I13=""),"Score à renseigner",IF(H13>I13,"Victoire domicile",IF(H13<I13,"Victoire extérieur","Match nul"))))) | L13: =IF(A13="","",IF(OR(J13<>"Joué",H13="",I13=""),0,IF(H13>I13,3,IF(H13=I13,1,0)))) | M13: =IF(A13="","",IF(OR(J13<>"Joué",H13="",I13=""),0,IF(I13>H13,3,IF(H13=I13,1,0)))) | N13: =IF(F13="","",IFERROR(VLOOKUP(F13,'Équipes'!$B$2:$C$101,2,FALSE),"")) | O13: =IF(G13="","",IFERROR(VLOOKUP(G13,'Équipes'!$B$2:$C$101,2,FALSE),""))
K14: =IF(A14="","",IF(J14<>"Joué","À jouer",IF(OR(H14="",I14=""),"Score à renseigner",IF(H14>I14,"Victoire domicile",IF(H14<I14,"Victoire extérieur","Match nul"))))) | L14: =IF(A14="","",IF(OR(J14<>"Joué",H14="",I14=""),0,IF(H14>I14,3,IF(H14=I14,1,0)))) | M14: =IF(A14="","",IF(OR(J14<>"Joué",H14="",I14=""),0,IF(I14>H14,3,IF(H14=I14,1,0)))) | N14: =IF(F14="","",IFERROR(VLOOKUP(F14,'Équipes'!$B$2:$C$101,2,FALSE),"")) | O14: =IF(G14="","",IFERROR(VLOOKUP(G14,'Équipes'!$B$2:$C$101,2,FALSE),""))
K15: =IF(A15="","",IF(J15<>"Joué","À jouer",IF(OR(H15="",I15=""),"Score à renseigner",IF(H15>I15,"Victoire domicile",IF(H15<I15,"Victoire extérieur","Match nul"))))) | L15: =IF(A15="","",IF(OR(J15<>"Joué",H15="",I15=""),0,IF(H15>I15,3,IF(H15=I15,1,0)))) | M15: =IF(A15="","",IF(OR(J15<>"Joué",H15="",I15=""),0,IF(I15>H15,3,IF(H15=I15,1,0)))) | N15: =IF(F15="","",IFERROR(VLOOKUP(F15,'Équipes'!$B$2:$C$101,2,FALSE),"")) | O15: =IF(G15="","",IFERROR(VLOOKUP(G15,'Équipes'!$B$2:$C$101,2,FALSE),""))
K16: =IF(A16="","",IF(J16<>"Joué","À jouer",IF(OR(H16="",I16=""),"Score à renseigner",IF(H16>I16,"Victoire domicile",IF(H16<I16,"Victoire extérieur","Match nul"))))) | L16: =IF(A16="","",IF(OR(J16<>"Joué",H16="",I16=""),0,IF(H16>I16,3,IF(H16=I16,1,0)))) | M16: =IF(A16="","",IF(OR(J16<>"Joué",H16="",I16=""),0,IF(I16>H16,3,IF(H16=I16,1,0)))) | N16: =IF(F16="","",IFERROR(VLOOKUP(F16,'Équipes'!$B$2:$C$101,2,FALSE),"")) | O16: =IF(G16="","",IFERROR(VLOOKUP(G16,'Équipes'!$B$2:$C$101,2,FALSE),""))
K17: =IF(A17="","",IF(J17<>"Joué","À jouer",IF(OR(H17="",I17=""),"Score à renseigner",IF(H17>I17,"Victoire domicile",IF(H17<I17,"Victoire extérieur","Match nul"))))) | L17: =IF(A17="","",IF(OR(J17<>"Joué",H17="",I17=""),0,IF(H17>I17,3,IF(H17=I17,1,0)))) | M17: =IF(A17="","",IF(OR(J17<>"Joué",H17="",I17=""),0,IF(I17>H17,3,IF(H17=I17,1,0)))) | N17: =IF(F17="","",IFERROR(VLOOKUP(F17,'Équipes'!$B$2:$C$101,2,FALSE),"")) | O17: =IF(G17="","",IFERROR(VLOOKUP(G17,'Équipes'!$B$2:$C$101,2,FALSE),""))
K18: =IF(A18="","",IF(J18<>"Joué","À jouer",IF(OR(H18="",I18=""),"Score à renseigner",IF(H18>I18,"Victoire domicile",IF(H18<I18,"Victoire extérieur","Match nul"))))) | L18: =IF(A18="","",IF(OR(J18<>"Joué",H18="",I18=""),0,IF(H18>I18,3,IF(H18=I18,1,0)))) | M18: =IF(A18="","",IF(OR(J18<>"Joué",H18="",I18=""),0,IF(I18>H18,3,IF(H18=I18,1,0)))) | N18: =IF(F18="","",IFERROR(VLOOKUP(F18,'Équipes'!$B$2:$C$101,2,FALSE),"")) | O18: =IF(G18="","",IFERROR(VLOOKUP(G18,'Équipes'!$B$2:$C$101,2,FALSE),""))
K19: =IF(A19="","",IF(J19<>"Joué","À jouer",IF(OR(H19="",I19=""),"Score à renseigner",IF(H19>I19,"Victoire domicile",IF(H19<I19,"Victoire extérieur","Match nul"))))) | L19: =IF(A19="","",IF(OR(J19<>"Joué",H19="",I19=""),0,IF(H19>I19,3,IF(H19=I19,1,0)))) | M19: =IF(A19="","",IF(OR(J19<>"Joué",H19="",I19=""),0,IF(I19>H19,3,IF(H19=I19,1,0)))) | N19: =IF(F19="","",IFERROR(VLOOKUP(F19,'Équipes'!$B$2:$C$101,2,FALSE),"")) | O19: =IF(G19="","",IFERROR(VLOOKUP(G19,'Équipes'!$B$2:$C$101,2,FALSE),""))
K20: =IF(A20="","",IF(J20<>"Joué","À jouer",IF(OR(H20="",I20=""),"Score à renseigner",IF(H20>I20,"Victoire domicile",IF(H20<I20,"Victoire extérieur","Match nul"))))) | L20: =IF(A20="","",IF(OR(J20<>"Joué",H20="",I20=""),0,IF(H20>I20,3,IF(H20=I20,1,0)))) | M20: =IF(A20="","",IF(OR(J20<>"Joué",H20="",I20=""),0,IF(I20>H20,3,IF(H20=I20,1,0)))) | N20: =IF(F20="","",IFERROR(VLOOKUP(F20,'Équipes'!$B$2:$C$101,2,FALSE),"")) | O20: =IF(G20="","",IFERROR(VLOOKUP(G20,'Équipes'!$B$2:$C$101,2,FALSE),""))
K21: =IF(A21="","",IF(J21<>"Joué","À jouer",IF(OR(H21="",I21=""),"Score à renseigner",IF(H21>I21,"Victoire domicile",IF(H21<I21,"Victoire extérieur","Match nul"))))) | L21: =IF(A21="","",IF(OR(J21<>"Joué",H21="",I21=""),0,IF(H21>I21,3,IF(H21=I21,1,0)))) | M21: =IF(A21="","",IF(OR(J21<>"Joué",H21="",I21=""),0,IF(I21>H21,3,IF(H21=I21,1,0)))) | N21: =IF(F21="","",IFERROR(VLOOKUP(F21,'Équipes'!$B$2:$C$101,2,FALSE),"")) | O21: =IF(G21="","",IFERROR(VLOOKUP(G21,'Équipes'!$B$2:$C$101,2,FALSE),""))
K22: =IF(A22="","",IF(J22<>"Joué","À jouer",IF(OR(H22="",I22=""),"Score à renseigner",IF(H22>I22,"Victoire domicile",IF(H22<I22,"Victoire extérieur","Match nul"))))) | L22: =IF(A22="","",IF(OR(J22<>"Joué",H22="",I22=""),0,IF(H22>I22,3,IF(H22=I22,1,0)))) | M22: =IF(A22="","",IF(OR(J22<>"Joué",H22="",I22=""),0,IF(I22>H22,3,IF(H22=I22,1,0)))) | N22: =IF(F22="","",IFERROR(VLOOKUP(F22,'Équipes'!$B$2:$C$101,2,FALSE),"")) | O22: =IF(G22="","",IFERROR(VLOOKUP(G22,'Équipes'!$B$2:$C$101,2,FALSE),""))
K23: =IF(A23="","",IF(J23<>"Joué","À jouer",IF(OR(H23="",I23=""),"Score à renseigner",IF(H23>I23,"Victoire domicile",IF(H23<I23,"Victoire extérieur","Match nul"))))) | L23: =IF(A23="","",IF(OR(J23<>"Joué",H23="",I23=""),0,IF(H23>I23,3,IF(H23=I23,1,0)))) | M23: =IF(A23="","",IF(OR(J23<>"Joué",H23="",I23=""),0,IF(I23>H23,3,IF(H23=I23,1,0)))) | N23: =IF(F23="","",IFERROR(VLOOKUP(F23,'Équipes'!$B$2:$C$101,2,FALSE),"")) | O23: =IF(G23="","",IFERROR(VLOOKUP(G23,'Équipes'!$B$2:$C$101,2,FALSE),""))
... K101: =IF(A101="","",IF(J101<>"Joué","À jouer",IF(OR(H101="",I101=""),"Score à renseigner",IF(H101>I101,"Victoire domicile",IF(H101<I101,"Victoire extérieur","Match nul"))))) | L101: =IF(A101="","",IF(OR(J101<>"Joué",H101="",I101=""),0,IF(H101>I101,3,IF(H101=I101,1,0)))) | M101: =IF(A101="","",IF(OR(J101<>"Joué",H101="",I101=""),0,IF(I101>H101,3,IF(H101=I101,1,0)))) | N101: =IF(F101="","",IFERROR(VLOOKUP(F101,'Équipes'!$B$2:$C$101,2,FALSE),"")) | O101: =IF(G101="","",IFERROR(VLOOKUP(G101,'Équipes'!$B$2:$C$101,2,FALSE),""))

Sheet Tableau de bord
A1: Tableau de bord — Tournoi de football
A3: Indicateur clé | B3: Valeur | D3: Répartition des matchs | E3: Nombre
A4: Nombre d'équipes | B4: =COUNTA('Équipes'!$B$2:$B$101) | D4: Matchs joués | E4: =COUNTIF('Matchs'!$J$2:$J$101,"Joué")
A5: Matchs joués | B5: =COUNTIF('Matchs'!$J$2:$J$101,"Joué") | D5: Matchs programmés | E5: =COUNTIF('Matchs'!$J$2:$J$101,"Programmé")
A6: Matchs restant à jouer | B6: =COUNTIF('Matchs'!$J$2:$J$101,"Programmé")
A7: Taux d'avancement | B7: =IFERROR(B5/COUNTA('Matchs'!$A$2:$A$101),0)
A8: Recettes encaissées | B8: =SUMIF('Équipes'!$I$2:$I$101,"Oui",'Équipes'!$H$2:$H$101)
A9: Moyenne des frais inscrits | B9: =IFERROR(AVERAGE('Équipes'!$H$2:$H$101),0)
A13: Rang | B13: Équipe | C13: Groupe | D13: Matchs joués | E13: Victoires | F13: Nuls | G13: Défaites | H13: Buts pour | I13: Buts contre | J13: Différence | K13: Points | L13: % de victoires
A14: =IF('Équipes'!$B$2="","",1+COUNTIFS($K$14:$K$113,">"&K14)+COUNTIFS($K$14:$K$113,K14,$J$14:$J$113,">"&J14)) | B14: =IF('Équipes'!$B$2="","",'Équipes'!$B$2) | C14: =IF($B14="","",IFERROR(VLOOKUP($B14,'Équipes'!$B$2:$G$101,6,FALSE),"")) | D14: =IF($B14="","",COUNTIFS('Matchs'!$F$2:$F$101,$B14,'Matchs'!$J$2:$J$101,"Joué")+COUNTIFS('Matchs'!$G$2:$G$101,$B14,'Matchs'!$J$2:$J$101,"Joué")) | E14: =IF($B14="","",COUNTIFS('Matchs'!$F$2:$F$101,$B14,'Matchs'!$J$2:$J$101,"Joué",'Matchs'!$L$2:$L$101,3)+COUNTIFS('Matchs'!$G$2:$G$101,$B14,'Matchs'!$J$2:$J$101,"Joué",'Matchs'!$M$2:$M$101,3)) | F14: =IF($B14="","",COUNTIFS('Matchs'!$F$2:$F$101,$B14,'Matchs'!$J$2:$J$101,"Joué",'Matchs'!$L$2:$L$101,1)+COUNTIFS('Matchs'!$G$2:$G$101,$B14,'Matchs'!$J$2:$J$101,"Joué",'Matchs'!$M$2:$M$101,1)) | G14: =IF($B14="","",D14-E14-F14) | H14: =IF($B14="","",SUMPRODUCT(('Matchs'!$F$2:$F$101=$B14)*('Matchs'!$J$2:$J$101="Joué")*'Matchs'!$H$2:$H$101)+SUMPRODUCT(('Matchs'!$G$2:$G$101=$B14)*('Matchs'!$J$2:$J$101="Joué")*'Matchs'!$I$2:$I$101)) | I14: =IF($B14="","",SUMPRODUCT(('Matchs'!$F$2:$F$101=$B14)*('Matchs'!$J$2:$J$101="Joué")*'Matchs'!$I$2:$I$101)+SUMPRODUCT(('Matchs'!$G$2:$G$101=$B14)*('Matchs'!$J$2:$J$101="Joué")*'Matchs'!$H$2:$H$101)) | J14: =IF($B14="","",H14-I14) | K14: =IF($B14="","",SUMIF('Matchs'!$F$2:$F$101,$B14,'Matchs'!$L$2:$L$101)+SUMIF('Matchs'!$G$2:$G$101,$B14,'Matchs'!$M$2:$M$101)) | L14: =IF($B14="","",IFERROR(E14/D14,0))
A15: =IF('Équipes'!$B$3="","",1+COUNTIFS($K$14:$K$113,">"&K15)+COUNTIFS($K$14:$K$113,K15,$J$14:$J$113,">"&J15)) | B15: =IF('Équipes'!$B$3="","",'Équipes'!$B$3) | C15: =IF($B15="","",IFERROR(VLOOKUP($B15,'Équipes'!$B$2:$G$101,6,FALSE),"")) | D15: =IF($B15="","",COUNTIFS('Matchs'!$F$2:$F$101,$B15,'Matchs'!$J$2:$J$101,"Joué")+COUNTIFS('Matchs'!$G$2:$G$101,$B15,'Matchs'!$J$2:$J$101,"Joué")) | E15: =IF($B15="","",COUNTIFS('Matchs'!$F$2:$F$101,$B15,'Matchs'!$J$2:$J$101,"Joué",'Matchs'!$L$2:$L$101,3)+COUNTIFS('Matchs'!$G$2:$G$101,$B15,'Matchs'!$J$2:$J$101,"Joué",'Matchs'!$M$2:$M$101,3)) | F15: =IF($B15="","",COUNTIFS('Matchs'!$F$2:$F$101,$B15,'Matchs'!$J$2:$J$101,"Joué",'Matchs'!$L$2:$L$101,1)+COUNTIFS('Matchs'!$G$2:$G$101,$B15,'Matchs'!$J$2:$J$101,"Joué",'Matchs'!$M$2:$M$101,1)) | G15: =IF($B15="","",D15-E15-F15) | H15: =IF($B15="","",SUMPRODUCT(('Matchs'!$F$2:$F$101=$B15)*('Matchs'!$J$2:$J$101="Joué")*'Matchs'!$H$2:$H$101)+SUMPRODUCT(('Matchs'!$G$2:$G$101=$B15)*('Matchs'!$J$2:$J$101="Joué")*'Matchs'!$I$2:$I$101)) | I15: =IF($B15="","",SUMPRODUCT(('Matchs'!$F$2:$F$101=$B15)*('Matchs'!$J$2:$J$101="Joué")*'Matchs'!$I$2:$I$101)+SUMPRODUCT(('Matchs'!$G$2:$G$101=$B15)*('Matchs'!$J$2:$J$101="Joué")*'Matchs'!$H$2:$H$101)) | J15: =IF($B15="","",H15-I15) | K15: =IF($B15="","",SUMIF('Matchs'!$F$2:$F$101,$B15,'Matchs'!$L$2:$L$101)+SUMIF('Matchs'!$G$2:$G$101,$B15,'Matchs'!$M$2:$M$101)) | L15: =IF($B15="","",IFERROR(E15/D15,0))
A16: =IF('Équipes'!$B$4="","",1+COUNTIFS($K$14:$K$113,">"&K16)+COUNTIFS($K$14:$K$113,K16,$J$14:$J$113,">"&J16)) | B16: =IF('Équipes'!$B$4="","",'Équipes'!$B$4) | C16: =IF($B16="","",IFERROR(VLOOKUP($B16,'Équipes'!$B$2:$G$101,6,FALSE),"")) | D16: =IF($B16="","",COUNTIFS('Matchs'!$F$2:$F$101,$B16,'Matchs'!$J$2:$J$101,"Joué")+COUNTIFS('Matchs'!$G$2:$G$101,$B16,'Matchs'!$J$2:$J$101,"Joué")) | E16: =IF($B16="","",COUNTIFS('Matchs'!$F$2:$F$101,$B16,'Matchs'!$J$2:$J$101,"Joué",'Matchs'!$L$2:$L$101,3)+COUNTIFS('Matchs'!$G$2:$G$101,$B16,'Matchs'!$J$2:$J$101,"Joué",'Matchs'!$M$2:$M$101,3)) | F16: =IF($B16="","",COUNTIFS('Matchs'!$F$2:$F$101,$B16,'Matchs'!$J$2:$J$101,"Joué",'Matchs'!$L$2:$L$101,1)+COUNTIFS('Matchs'!$G$2:$G$101,$B16,'Matchs'!$J$2:$J$101,"Joué",'Matchs'!$M$2:$M$101,1)) | G16: =IF($B16="","",D16-E16-F16) | H16: =IF($B16="","",SUMPRODUCT(('Matchs'!$F$2:$F$101=$B16)*('Matchs'!$J$2:$J$101="Joué")*'Matchs'!$H$2:$H$101)+SUMPRODUCT(('Matchs'!$G$2:$G$101=$B16)*('Matchs'!$J$2:$J$101="Joué")*'Matchs'!$I$2:$I$101)) | I16: =IF($B16="","",SUMPRODUCT(('Matchs'!$F$2:$F$101=$B16)*('Matchs'!$J$2:$J$101="Joué")*'Matchs'!$I$2:$I$101)+SUMPRODUCT(('Matchs'!$G$2:$G$101=$B16)*('Matchs'!$J$2:$J$101="Joué")*'Matchs'!$H$2:$H$101)) | J16: =IF($B16="","",H16-I16) | K16: =IF($B16="","",SUMIF('Matchs'!$F$2:$F$101,$B16,'Matchs'!$L$2:$L$101)+SUMIF('Matchs'!$G$2:$G$101,$B16,'Matchs'!$M$2:$M$101)) | L16: =IF($B16="","",IFERROR(E16/D16,0))
A17: =IF('Équipes'!$B$5="","",1+COUNTIFS($K$14:$K$113,">"&K17)+COUNTIFS($K$14:$K$113,K17,$J$14:$J$113,">"&J17)) | B17: =IF('Équipes'!$B$5="","",'Équipes'!$B$5) | C17: =IF($B17="","",IFERROR(VLOOKUP($B17,'Équipes'!$B$2:$G$101,6,FALSE),"")) | D17: =IF($B17="","",COUNTIFS('Matchs'!$F$2:$F$101,$B17,'Matchs'!$J$2:$J$101,"Joué")+COUNTIFS('Matchs'!$G$2:$G$101,$B17,'Matchs'!$J$2:$J$101,"Joué")) | E17: =IF($B17="","",COUNTIFS('Matchs'!$F$2:$F$101,$B17,'Matchs'!$J$2:$J$101,"Joué",'Matchs'!$L$2:$L$101,3)+COUNTIFS('Matchs'!$G$2:$G$101,$B17,'Matchs'!$J$2:$J$101,"Joué",'Matchs'!$M$2:$M$101,3)) | F17: =IF($B17="","",COUNTIFS('Matchs'!$F$2:$F$101,$B17,'Matchs'!$J$2:$J$101,"Joué",'Matchs'!$L$2:$L$101,1)+COUNTIFS('Matchs'!$G$2:$G$101,$B17,'Matchs'!$J$2:$J$101,"Joué",'Matchs'!$M$2:$M$101,1)) | G17: =IF($B17="","",D17-E17-F17) | H17: =IF($B17="","",SUMPRODUCT(('Matchs'!$F$2:$F$101=$B17)*('Matchs'!$J$2:$J$101="Joué")*'Matchs'!$H$2:$H$101)+SUMPRODUCT(('Matchs'!$G$2:$G$101=$B17)*('Matchs'!$J$2:$J$101="Joué")*'Matchs'!$I$2:$I$101)) | I17: =IF($B17="","",SUMPRODUCT(('Matchs'!$F$2:$F$101=$B17)*('Matchs'!$J$2:$J$101="Joué")*'Matchs'!$I$2:$I$101)+SUMPRODUCT(('Matchs'!$G$2:$G$101=$B17)*('Matchs'!$J$2:$J$101="Joué")*'Matchs'!$H$2:$H$101)) | J17: =IF($B17="","",H17-I17) | K17: =IF($B17="","",SUMIF('Matchs'!$F$2:$F$101,$B17,'Matchs'!$L$2:$L$101)+SUMIF('Matchs'!$G$2:$G$101,$B17,'Matchs'!$M$2:$M$101)) | L17: =IF($B17="","",IFERROR(E17/D17,0))
A18: =IF('Équipes'!$B$6="","",1+COUNTIFS($K$14:$K$113,">"&K18)+COUNTIFS($K$14:$K$113,K18,$J$14:$J$113,">"&J18)) | B18: =IF('Équipes'!$B$6="","",'Équipes'!$B$6) | C18: =IF($B18="","",IFERROR(VLOOKUP($B18,'Équipes'!$B$2:$G$101,6,FALSE),"")) | D18: =IF($B18="","",COUNTIFS('Matchs'!$F$2:$F$101,$B18,'Matchs'!$J$2:$J$101,"Joué")+COUNTIFS('Matchs'!$G$2:$G$101,$B18,'Matchs'!$J$2:$J$101,"Joué")) | E18: =IF($B18="","",COUNTIFS('Matchs'!$F$2:$F$101,$B18,'Matchs'!$J$2:$J$101,"Joué",'Matchs'!$L$2:$L$101,3)+COUNTIFS('Matchs'!$G$2:$G$101,$B18,'Matchs'!$J$2:$J$101,"Joué",'Matchs'!$M$2:$M$101,3)) | F18: =IF($B18="","",COUNTIFS('Matchs'!$F$2:$F$101,$B18,'Matchs'!$J$2:$J$101,"Joué",'Matchs'!$L$2:$L$101,1)+COUNTIFS('Matchs'!$G$2:$G$101,$B18,'Matchs'!$J$2:$J$101,"Joué",'Matchs'!$M$2:$M$101,1)) | G18: =IF($B18="","",D18-E18-F18) | H18: =IF($B18="","",SUMPRODUCT(('Matchs'!$F$2:$F$101=$B18)*('Matchs'!$J$2:$J$101="Joué")*'Matchs'!$H$2:$H$101)+SUMPRODUCT(('Matchs'!$G$2:$G$101=$B18)*('Matchs'!$J$2:$J$101="Joué")*'Matchs'!$I$2:$I$101)) | I18: =IF($B18="","",SUMPRODUCT(('Matchs'!$F$2:$F$101=$B18)*('Matchs'!$J$2:$J$101="Joué")*'Matchs'!$I$2:$I$101)+SUMPRODUCT(('Matchs'!$G$2:$G$101=$B18)*('Matchs'!$J$2:$J$101="Joué")*'Matchs'!$H$2:$H$101)) | J18: =IF($B18="","",H18-I18) | K18: =IF($B18="","",SUMIF('Matchs'!$F$2:$F$101,$B18,'Matchs'!$L$2:$L$101)+SUMIF('Matchs'!$G$2:$G$101,$B18,'Matchs'!$M$2:$M$101)) | L18: =IF($B18="","",IFERROR(E18/D18,0))
A19: =IF('Équipes'!$B$7="","",1+COUNTIFS($K$14:$K$113,">"&K19)+COUNTIFS($K$14:$K$113,K19,$J$14:$J$113,">"&J19)) | B19: =IF('Équipes'!$B$7="","",'Équipes'!$B$7) | C19: =IF($B19="","",IFERROR(VLOOKUP($B19,'Équipes'!$B$2:$G$101,6,FALSE),"")) | D19: =IF($B19="","",COUNTIFS('Matchs'!$F$2:$F$101,$B19,'Matchs'!$J$2:$J$101,"Joué")+COUNTIFS('Matchs'!$G$2:$G$101,$B19,'Matchs'!$J$2:$J$101,"Joué")) | E19: =IF($B19="","",COUNTIFS('Matchs'!$F$2:$F$101,$B19,'Matchs'!$J$2:$J$101,"Joué",'Matchs'!$L$2:$L$101,3)+COUNTIFS('Matchs'!$G$2:$G$101,$B19,'Matchs'!$J$2:$J$101,"Joué",'Matchs'!$M$2:$M$101,3)) | F19: =IF($B19="","",COUNTIFS('Matchs'!$F$2:$F$101,$B19,'Matchs'!$J$2:$J$101,"Joué",'Matchs'!$L$2:$L$101,1)+COUNTIFS('Matchs'!$G$2:$G$101,$B19,'Matchs'!$J$2:$J$101,"Joué",'Matchs'!$M$2:$M$101,1)) | G19: =IF($B19="","",D19-E19-F19) | H19: =IF($B19="","",SUMPRODUCT(('Matchs'!$F$2:$F$101=$B19)*('Matchs'!$J$2:$J$101="Joué")*'Matchs'!$H$2:$H$101)+SUMPRODUCT(('Matchs'!$G$2:$G$101=$B19)*('Matchs'!$J$2:$J$101="Joué")*'Matchs'!$I$2:$I$101)) | I19: =IF($B19="","",SUMPRODUCT(('Matchs'!$F$2:$F$101=$B19)*('Matchs'!$J$2:$J$101="Joué")*'Matchs'!$I$2:$I$101)+SUMPRODUCT(('Matchs'!$G$2:$G$101=$B19)*('Matchs'!$J$2:$J$101="Joué")*'Matchs'!$H$2:$H$101)) | J19: =IF($B19="","",H19-I19) | K19: =IF($B19="","",SUMIF('Matchs'!$F$2:$F$101,$B19,'Matchs'!$L$2:$L$101)+SUMIF('Matchs'!$G$2:$G$101,$B19,'Matchs'!$M$2:$M$101)) | L19: =IF($B19="","",IFERROR(E19/D19,0))
A20: =IF('Équipes'!$B$8="","",1+COUNTIFS($K$14:$K$113,">"&K20)+COUNTIFS($K$14:$K$113,K20,$J$14:$J$113,">"&J20)) | B20: =IF('Équipes'!$B$8="","",'Équipes'!$B$8) | C20: =IF($B20="","",IFERROR(VLOOKUP($B20,'Équipes'!$B$2:$G$101,6,FALSE),"")) | D20: =IF($B20="","",COUNTIFS('Matchs'!$F$2:$F$101,$B20,'Matchs'!$J$2:$J$101,"Joué")+COUNTIFS('Matchs'!$G$2:$G$101,$B20,'Matchs'!$J$2:$J$101,"Joué")) | E20: =IF($B20="","",COUNTIFS('Matchs'!$F$2:$F$101,$B20,'Matchs'!$J$2:$J$101,"Joué",'Matchs'!$L$2:$L$101,3)+COUNTIFS('Matchs'!$G$2:$G$101,$B20,'Matchs'!$J$2:$J$101,"Joué",'Matchs'!$M$2:$M$101,3)) | F20: =IF($B20="","",COUNTIFS('Matchs'!$F$2:$F$101,$B20,'Matchs'!$J$2:$J$101,"Joué",'Matchs'!$L$2:$L$101,1)+COUNTIFS('Matchs'!$G$2:$G$101,$B20,'Matchs'!$J$2:$J$101,"Joué",'Matchs'!$M$2:$M$101,1)) | G20: =IF($B20="","",D20-E20-F20) | H20: =IF($B20="","",SUMPRODUCT(('Matchs'!$F$2:$F$101=$B20)*('Matchs'!$J$2:$J$101="Joué")*'Matchs'!$H$2:$H$101)+SUMPRODUCT(('Matchs'!$G$2:$G$101=$B20)*('Matchs'!$J$2:$J$101="Joué")*'Matchs'!$I$2:$I$101)) | I20: =IF($B20="","",SUMPRODUCT(('Matchs'!$F$2:$F$101=$B20)*('Matchs'!$J$2:$J$101="Joué")*'Matchs'!$I$2:$I$101)+SUMPRODUCT(('Matchs'!$G$2:$G$101=$B20)*('Matchs'!$J$2:$J$101="Joué")*'Matchs'!$H$2:$H$101)) | J20: =IF($B20="","",H20-I20) | K20: =IF($B20="","",SUMIF('Matchs'!$F$2:$F$101,$B20,'Matchs'!$L$2:$L$101)+SUMIF('Matchs'!$G$2:$G$101,$B20,'Matchs'!$M$2:$M$101)) | L20: =IF($B20="","",IFERROR(E20/D20,0))
A21: =IF('Équipes'!$B$9="","",1+COUNTIFS($K$14:$K$113,">"&K21)+COUNTIFS($K$14:$K$113,K21,$J$14:$J$113,">"&J21)) | B21: =IF('Équipes'!$B$9="","",'Équipes'!$B$9) | C21: =IF($B21="","",IFERROR(VLOOKUP($B21,'Équipes'!$B$2:$G$101,6,FALSE),"")) | D21: =IF($B21="","",COUNTIFS('Matchs'!$F$2:$F$101,$B21,'Matchs'!$J$2:$J$101,"Joué")+COUNTIFS('Matchs'!$G$2:$G$101,$B21,'Matchs'!$J$2:$J$101,"Joué")) | E21: =IF($B21="","",COUNTIFS('Matchs'!$F$2:$F$101,$B21,'Matchs'!$J$2:$J$101,"Joué",'Matchs'!$L$2:$L$101,3)+COUNTIFS('Matchs'!$G$2:$G$101,$B21,'Matchs'!$J$2:$J$101,"Joué",'Matchs'!$M$2:$M$101,3)) | F21: =IF($B21="","",COUNTIFS('Matchs'!$F$2:$F$101,$B21,'Matchs'!$J$2:$J$101,"Joué",'Matchs'!$L$2:$L$101,1)+COUNTIFS('Matchs'!$G$2:$G$101,$B21,'Matchs'!$J$2:$J$101,"Joué",'Matchs'!$M$2:$M$101,1)) | G21: =IF($B21="","",D21-E21-F21) | H21: =IF($B21="","",SUMPRODUCT(('Matchs'!$F$2:$F$101=$B21)*('Matchs'!$J$2:$J$101="Joué")*'Matchs'!$H$2:$H$101)+SUMPRODUCT(('Matchs'!$G$2:$G$101=$B21)*('Matchs'!$J$2:$J$101="Joué")*'Matchs'!$I$2:$I$101)) | I21: =IF($B21="","",SUMPRODUCT(('Matchs'!$F$2:$F$101=$B21)*('Matchs'!$J$2:$J$101="Joué")*'Matchs'!$I$2:$I$101)+SUMPRODUCT(('Matchs'!$G$2:$G$101=$B21)*('Matchs'!$J$2:$J$101="Joué")*'Matchs'!$H$2:$H$101)) | J21: =IF($B21="","",H21-I21) | K21: =IF($B21="","",SUMIF('Matchs'!$F$2:$F$101,$B21,'Matchs'!$L$2:$L$101)+SUMIF('Matchs'!$G$2:$G$101,$B21,'Matchs'!$M$2:$M$101)) | L21: =IF($B21="","",IFERROR(E21/D21,0))
A22: =IF('Équipes'!$B$10="","",1+COUNTIFS($K$14:$K$113,">"&K22)+COUNTIFS($K$14:$K$113,K22,$J$14:$J$113,">"&J22)) | B22: =IF('Équipes'!$B$10="","",'Équipes'!$B$10) | C22: =IF($B22="","",IFERROR(VLOOKUP($B22,'Équipes'!$B$2:$G$101,6,FALSE),"")) | D22: =IF($B22="","",COUNTIFS('Matchs'!$F$2:$F$101,$B22,'Matchs'!$J$2:$J$101,"Joué")+COUNTIFS('Matchs'!$G$2:$G$101,$B22,'Matchs'!$J$2:$J$101,"Joué")) | E22: =IF($B22="","",COUNTIFS('Matchs'!$F$2:$F$101,$B22,'Matchs'!$J$2:$J$101,"Joué",'Matchs'!$L$2:$L$101,3)+COUNTIFS('Matchs'!$G$2:$G$101,$B22,'Matchs'!$J$2:$J$101,"Joué",'Matchs'!$M$2:$M$101,3)) | F22: =IF($B22="","",COUNTIFS('Matchs'!$F$2:$F$101,$B22,'Matchs'!$J$2:$J$101,"Joué",'Matchs'!$L$2:$L$101,1)+COUNTIFS('Matchs'!$G$2:$G$101,$B22,'Matchs'!$J$2:$J$101,"Joué",'Matchs'!$M$2:$M$101,1)) | G22: =IF($B22="","",D22-E22-F22) | H22: =IF($B22="","",SUMPRODUCT(('Matchs'!$F$2:$F$101=$B22)*('Matchs'!$J$2:$J$101="Joué")*'Matchs'!$H$2:$H$101)+SUMPRODUCT(('Matchs'!$G$2:$G$101=$B22)*('Matchs'!$J$2:$J$101="Joué")*'Matchs'!$I$2:$I$101)) | I22: =IF($B22="","",SUMPRODUCT(('Matchs'!$F$2:$F$101=$B22)*('Matchs'!$J$2:$J$101="Joué")*'Matchs'!$I$2:$I$101)+SUMPRODUCT(('Matchs'!$G$2:$G$101=$B22)*('Matchs'!$J$2:$J$101="Joué")*'Matchs'!$H$2:$H$101)) | J22: =IF($B22="","",H22-I22) | K22: =IF($B22="","",SUMIF('Matchs'!$F$2:$F$101,$B22,'Matchs'!$L$2:$L$101)+SUMIF('Matchs'!$G$2:$G$101,$B22,'Matchs'!$M$2:$M$101)) | L22: =IF($B22="","",IFERROR(E22/D22,0))
A23: =IF('Équipes'!$B$11="","",1+COUNTIFS($K$14:$K$113,">"&K23)+COUNTIFS($K$14:$K$113,K23,$J$14:$J$113,">"&J23)) | B23: =IF('Équipes'!$B$11="","",'Équipes'!$B$11) | C23: =IF($B23="","",IFERROR(VLOOKUP($B23,'Équipes'!$B$2:$G$101,6,FALSE),"")) | D23: =IF($B23="","",COUNTIFS('Matchs'!$F$2:$F$101,$B23,'Matchs'!$J$2:$J$101,"Joué")+COUNTIFS('Matchs'!$G$2:$G$101,$B23,'Matchs'!$J$2:$J$101,"Joué")) | E23: =IF($B23="","",COUNTIFS('Matchs'!$F$2:$F$101,$B23,'Matchs'!$J$2:$J$101,"Joué",'Matchs'!$L$2:$L$101,3)+COUNTIFS('Matchs'!$G$2:$G$101,$B23,'Matchs'!$J$2:$J$101,"Joué",'Matchs'!$M$2:$M$101,3)) | F23: =IF($B23="","",COUNTIFS('Matchs'!$F$2:$F$101,$B23,'Matchs'!$J$2:$J$101,"Joué",'Matchs'!$L$2:$L$101,1)+COUNTIFS('Matchs'!$G$2:$G$101,$B23,'Matchs'!$J$2:$J$101,"Joué",'Matchs'!$M$2:$M$101,1)) | G23: =IF($B23="","",D23-E23-F23) | H23: =IF($B23="","",SUMPRODUCT(('Matchs'!$F$2:$F$101=$B23)*('Matchs'!$J$2:$J$101="Joué")*'Matchs'!$H$2:$H$101)+SUMPRODUCT(('Matchs'!$G$2:$G$101=$B23)*('Matchs'!$J$2:$J$101="Joué")*'Matchs'!$I$2:$I$101)) | I23: =IF($B23="","",SUMPRODUCT(('Matchs'!$F$2:$F$101=$B23)*('Matchs'!$J$2:$J$101="Joué")*'Matchs'!$I$2:$I$101)+SUMPRODUCT(('Matchs'!$G$2:$G$101=$B23)*('Matchs'!$J$2:$J$101="Joué")*'Matchs'!$H$2:$H$101)) | J23: =IF($B23="","",H23-I23) | K23: =IF($B23="","",SUMIF('Matchs'!$F$2:$F$101,$B23,'Matchs'!$L$2:$L$101)+SUMIF('Matchs'!$G$2:$G$101,$B23,'Matchs'!$M$2:$M$101)) | L23: =IF($B23="","",IFERROR(E23/D23,0))
A24: =IF('Équipes'!$B$12="","",1+COUNTIFS($K$14:$K$113,">"&K24)+COUNTIFS($K$14:$K$113,K24,$J$14:$J$113,">"&J24)) | B24: =IF('Équipes'!$B$12="","",'Équipes'!$B$12) | C24: =IF($B24="","",IFERROR(VLOOKUP($B24,'Équipes'!$B$2:$G$101,6,FALSE),"")) | D24: =IF($B24="","",COUNTIFS('Matchs'!$F$2:$F$101,$B24,'Matchs'!$J$2:$J$101,"Joué")+COUNTIFS('Matchs'!$G$2:$G$101,$B24,'Matchs'!$J$2:$J$101,"Joué")) | E24: =IF($B24="","",COUNTIFS('Matchs'!$F$2:$F$101,$B24,'Matchs'!$J$2:$J$101,"Joué",'Matchs'!$L$2:$L$101,3)+COUNTIFS('Matchs'!$G$2:$G$101,$B24,'Matchs'!$J$2:$J$101,"Joué",'Matchs'!$M$2:$M$101,3)) | F24: =IF($B24="","",COUNTIFS('Matchs'!$F$2:$F$101,$B24,'Matchs'!$J$2:$J$101,"Joué",'Matchs'!$L$2:$L$101,1)+COUNTIFS('Matchs'!$G$2:$G$101,$B24,'Matchs'!$J$2:$J$101,"Joué",'Matchs'!$M$2:$M$101,1)) | G24: =IF($B24="","",D24-E24-F24) | H24: =IF($B24="","",SUMPRODUCT(('Matchs'!$F$2:$F$101=$B24)*('Matchs'!$J$2:$J$101="Joué")*'Matchs'!$H$2:$H$101)+SUMPRODUCT(('Matchs'!$G$2:$G$101=$B24)*('Matchs'!$J$2:$J$101="Joué")*'Matchs'!$I$2:$I$101)) | I24: =IF($B24="","",SUMPRODUCT(('Matchs'!$F$2:$F$101=$B24)*('Matchs'!$J$2:$J$101="Joué")*'Matchs'!$I$2:$I$101)+SUMPRODUCT(('Matchs'!$G$2:$G$101=$B24)*('Matchs'!$J$2:$J$101="Joué")*'Matchs'!$H$2:$H$101)) | J24: =IF($B24="","",H24-I24) | K24: =IF($B24="","",SUMIF('Matchs'!$F$2:$F$101,$B24,'Matchs'!$L$2:$L$101)+SUMIF('Matchs'!$G$2:$G$101,$B24,'Matchs'!$M$2:$M$101)) | L24: =IF($B24="","",IFERROR(E24/D24,0))
A25: =IF('Équipes'!$B$13="","",1+COUNTIFS($K$14:$K$113,">"&K25)+COUNTIFS($K$14:$K$113,K25,$J$14:$J$113,">"&J25)) | B25: =IF('Équipes'!$B$13="","",'Équipes'!$B$13) | C25: =IF($B25="","",IFERROR(VLOOKUP($B25,'Équipes'!$B$2:$G$101,6,FALSE),"")) | D25: =IF($B25="","",COUNTIFS('Matchs'!$F$2:$F$101,$B25,'Matchs'!$J$2:$J$101,"Joué")+COUNTIFS('Matchs'!$G$2:$G$101,$B25,'Matchs'!$J$2:$J$101,"Joué")) | E25: =IF($B25="","",COUNTIFS('Matchs'!$F$2:$F$101,$B25,'Matchs'!$J$2:$J$101,"Joué",'Matchs'!$L$2:$L$101,3)+COUNTIFS('Matchs'!$G$2:$G$101,$B25,'Matchs'!$J$2:$J$101,"Joué",'Matchs'!$M$2:$M$101,3)) | F25: =IF($B25="","",COUNTIFS('Matchs'!$F$2:$F$101,$B25,'Matchs'!$J$2:$J$101,"Joué",'Matchs'!$L$2:$L$101,1)+COUNTIFS('Matchs'!$G$2:$G$101,$B25,'Matchs'!$J$2:$J$101,"Joué",'Matchs'!$M$2:$M$101,1)) | G25: =IF($B25="","",D25-E25-F25) | H25: =IF($B25="","",SUMPRODUCT(('Matchs'!$F$2:$F$101=$B25)*('Matchs'!$J$2:$J$101="Joué")*'Matchs'!$H$2:$H$101)+SUMPRODUCT(('Matchs'!$G$2:$G$101=$B25)*('Matchs'!$J$2:$J$101="Joué")*'Matchs'!$I$2:$I$101)) | I25: =IF($B25="","",SUMPRODUCT(('Matchs'!$F$2:$F$101=$B25)*('Matchs'!$J$2:$J$101="Joué")*'Matchs'!$I$2:$I$101)+SUMPRODUCT(('Matchs'!$G$2:$G$101=$B25)*('Matchs'!$J$2:$J$101="Joué")*'Matchs'!$H$2:$H$101)) | J25: =IF($B25="","",H25-I25) | K25: =IF($B25="","",SUMIF('Matchs'!$F$2:$F$101,$B25,'Matchs'!$L$2:$L$101)+SUMIF('Matchs'!$G$2:$G$101,$B25,'Matchs'!$M$2:$M$101)) | L25: =IF($B25="","",IFERROR(E25/D25,0))
A26: =IF('Équipes'!$B$14="","",1+COUNTIFS($K$14:$K$113,">"&K26)+COUNTIFS($K$14:$K$113,K26,$J$14:$J$113,">"&J26)) | B26: =IF('Équipes'!$B$14="","",'Équipes'!$B$14) | C26: =IF($B26="","",IFERROR(VLOOKUP($B26,'Équipes'!$B$2:$G$101,6,FALSE),"")) | D26: =IF($B26="","",COUNTIFS('Matchs'!$F$2:$F$101,$B26,'Matchs'!$J$2:$J$101,"Joué")+COUNTIFS('Matchs'!$G$2:$G$101,$B26,'Matchs'!$J$2:$J$101,"Joué")) | E26: =IF($B26="","",COUNTIFS('Matchs'!$F$2:$F$101,$B26,'Matchs'!$J$2:$J$101,"Joué",'Matchs'!$L$2:$L$101,3)+COUNTIFS('Matchs'!$G$2:$G$101,$B26,'Matchs'!$J$2:$J$101,"Joué",'Matchs'!$M$2:$M$101,3)) | F26: =IF($B26="","",COUNTIFS('Matchs'!$F$2:$F$101,$B26,'Matchs'!$J$2:$J$101,"Joué",'Matchs'!$L$2:$L$101,1)+COUNTIFS('Matchs'!$G$2:$G$101,$B26,'Matchs'!$J$2:$J$101,"Joué",'Matchs'!$M$2:$M$101,1)) | G26: =IF($B26="","",D26-E26-F26) | H26: =IF($B26="","",SUMPRODUCT(('Matchs'!$F$2:$F$101=$B26)*('Matchs'!$J$2:$J$101="Joué")*'Matchs'!$H$2:$H$101)+SUMPRODUCT(('Matchs'!$G$2:$G$101=$B26)*('Matchs'!$J$2:$J$101="Joué")*'Matchs'!$I$2:$I$101)) | I26: =IF($B26="","",SUMPRODUCT(('Matchs'!$F$2:$F$101=$B26)*('Matchs'!$J$2:$J$101="Joué")*'Matchs'!$I$2:$I$101)+SUMPRODUCT(('Matchs'!$G$2:$G$101=$B26)*('Matchs'!$J$2:$J$101="Joué")*'Matchs'!$H$2:$H$101)) | J26: =IF($B26="","",H26-I26) | K26: =IF($B26="","",SUMIF('Matchs'!$F$2:$F$101,$B26,'Matchs'!$L$2:$L$101)+SUMIF('Matchs'!$G$2:$G$101,$B26,'Matchs'!$M$2:$M$101)) | L26: =IF($B26="","",IFERROR(E26/D26,0))
A27: =IF('Équipes'!$B$15="","",1+COUNTIFS($K$14:$K$113,">"&K27)+COUNTIFS($K$14:$K$113,K27,$J$14:$J$113,">"&J27)) | B27: =IF('Équipes'!$B$15="","",'Équipes'!$B$15) | C27: =IF($B27="","",IFERROR(VLOOKUP($B27,'Équipes'!$B$2:$G$101,6,FALSE),"")) | D27: =IF($B27="","",COUNTIFS('Matchs'!$F$2:$F$101,$B27,'Matchs'!$J$2:$J$101,"Joué")+COUNTIFS('Matchs'!$G$2:$G$101,$B27,'Matchs'!$J$2:$J$101,"Joué")) | E27: =IF($B27="","",COUNTIFS('Matchs'!$F$2:$F$101,$B27,'Matchs'!$J$2:$J$101,"Joué",'Matchs'!$L$2:$L$101,3)+COUNTIFS('Matchs'!$G$2:$G$101,$B27,'Matchs'!$J$2:$J$101,"Joué",'Matchs'!$M$2:$M$101,3)) | F27: =IF($B27="","",COUNTIFS('Matchs'!$F$2:$F$101,$B27,'Matchs'!$J$2:$J$101,"Joué",'Matchs'!$L$2:$L$101,1)+COUNTIFS('Matchs'!$G$2:$G$101,$B27,'Matchs'!$J$2:$J$101,"Joué",'Matchs'!$M$2:$M$101,1)) | G27: =IF($B27="","",D27-E27-F27) | H27: =IF($B27="","",SUMPRODUCT(('Matchs'!$F$2:$F$101=$B27)*('Matchs'!$J$2:$J$101="Joué")*'Matchs'!$H$2:$H$101)+SUMPRODUCT(('Matchs'!$G$2:$G$101=$B27)*('Matchs'!$J$2:$J$101="Joué")*'Matchs'!$I$2:$I$101)) | I27: =IF($B27="","",SUMPRODUCT(('Matchs'!$F$2:$F$101=$B27)*('Matchs'!$J$2:$J$101="Joué")*'Matchs'!$I$2:$I$101)+SUMPRODUCT(('Matchs'!$G$2:$G$101=$B27)*('Matchs'!$J$2:$J$101="Joué")*'Matchs'!$H$2:$H$101)) | J27: =IF($B27="","",H27-I27) | K27: =IF($B27="","",SUMIF('Matchs'!$F$2:$F$101,$B27,'Matchs'!$L$2:$L$101)+SUMIF('Matchs'!$G$2:$G$101,$B27,'Matchs'!$M$2:$M$101)) | L27: =IF($B27="","",IFERROR(E27/D27,0))
A28: =IF('Équipes'!$B$16="","",1+COUNTIFS($K$14:$K$113,">"&K28)+COUNTIFS($K$14:$K$113,K28,$J$14:$J$113,">"&J28)) | B28: =IF('Équipes'!$B$16="","",'Équipes'!$B$16) | C28: =IF($B28="","",IFERROR(VLOOKUP($B28,'Équipes'!$B$2:$G$101,6,FALSE),"")) | D28: =IF($B28="","",COUNTIFS('Matchs'!$F$2:$F$101,$B28,'Matchs'!$J$2:$J$101,"Joué")+COUNTIFS('Matchs'!$G$2:$G$101,$B28,'Matchs'!$J$2:$J$101,"Joué")) | E28: =IF($B28="","",COUNTIFS('Matchs'!$F$2:$F$101,$B28,'Matchs'!$J$2:$J$101,"Joué",'Matchs'!$L$2:$L$101,3)+COUNTIFS('Matchs'!$G$2:$G$101,$B28,'Matchs'!$J$2:$J$101,"Joué",'Matchs'!$M$2:$M$101,3)) | F28: =IF($B28="","",COUNTIFS('Matchs'!$F$2:$F$101,$B28,'Matchs'!$J$2:$J$101,"Joué",'Matchs'!$L$2:$L$101,1)+COUNTIFS('Matchs'!$G$2:$G$101,$B28,'Matchs'!$J$2:$J$101,"Joué",'Matchs'!$M$2:$M$101,1)) | G28: =IF($B28="","",D28-E28-F28) | H28: =IF($B28="","",SUMPRODUCT(('Matchs'!$F$2:$F$101=$B28)*('Matchs'!$J$2:$J$101="Joué")*'Matchs'!$H$2:$H$101)+SUMPRODUCT(('Matchs'!$G$2:$G$101=$B28)*('Matchs'!$J$2:$J$101="Joué")*'Matchs'!$I$2:$I$101)) | I28: =IF($B28="","",SUMPRODUCT(('Matchs'!$F$2:$F$101=$B28)*('Matchs'!$J$2:$J$101="Joué")*'Matchs'!$I$2:$I$101)+SUMPRODUCT(('Matchs'!$G$2:$G$101=$B28)*('Matchs'!$J$2:$J$101="Joué")*'Matchs'!$H$2:$H$101)) | J28: =IF($B28="","",H28-I28) | K28: =IF($B28="","",SUMIF('Matchs'!$F$2:$F$101,$B28,'Matchs'!$L$2:$L$101)+SUMIF('Matchs'!$G$2:$G$101,$B28,'Matchs'!$M$2:$M$101)) | L28: =IF($B28="","",IFERROR(E28/D28,0))
A29: =IF('Équipes'!$B$17="","",1+COUNTIFS($K$14:$K$113,">"&K29)+COUNTIFS($K$14:$K$113,K29,$J$14:$J$113,">"&J29)) | B29: =IF('Équipes'!$B$17="","",'Équipes'!$B$17) | C29: =IF($B29="","",IFERROR(VLOOKUP($B29,'Équipes'!$B$2:$G$101,6,FALSE),"")) | D29: =IF($B29="","",COUNTIFS('Matchs'!$F$2:$F$101,$B29,'Matchs'!$J$2:$J$101,"Joué")+COUNTIFS('Matchs'!$G$2:$G$101,$B29,'Matchs'!$J$2:$J$101,"Joué")) | E29: =IF($B29="","",COUNTIFS('Matchs'!$F$2:$F$101,$B29,'Matchs'!$J$2:$J$101,"Joué",'Matchs'!$L$2:$L$101,3)+COUNTIFS('Matchs'!$G$2:$G$101,$B29,'Matchs'!$J$2:$J$101,"Joué",'Matchs'!$M$2:$M$101,3)) | F29: =IF($B29="","",COUNTIFS('Matchs'!$F$2:$F$101,$B29,'Matchs'!$J$2:$J$101,"Joué",'Matchs'!$L$2:$L$101,1)+COUNTIFS('Matchs'!$G$2:$G$101,$B29,'Matchs'!$J$2:$J$101,"Joué",'Matchs'!$M$2:$M$101,1)) | G29: =IF($B29="","",D29-E29-F29) | H29: =IF($B29="","",SUMPRODUCT(('Matchs'!$F$2:$F$101=$B29)*('Matchs'!$J$2:$J$101="Joué")*'Matchs'!$H$2:$H$101)+SUMPRODUCT(('Matchs'!$G$2:$G$101=$B29)*('Matchs'!$J$2:$J$101="Joué")*'Matchs'!$I$2:$I$101)) | I29: =IF($B29="","",SUMPRODUCT(('Matchs'!$F$2:$F$101=$B29)*('Matchs'!$J$2:$J$101="Joué")*'Matchs'!$I$2:$I$101)+SUMPRODUCT(('Matchs'!$G$2:$G$101=$B29)*('Matchs'!$J$2:$J$101="Joué")*'Matchs'!$H$2:$H$101)) | J29: =IF($B29="","",H29-I29) | K29: =IF($B29="","",SUMIF('Matchs'!$F$2:$F$101,$B29,'Matchs'!$L$2:$L$101)+SUMIF('Matchs'!$G$2:$G$101,$B29,'Matchs'!$M$2:$M$101)) | L29: =IF($B29="","",IFERROR(E29/D29,0))
A30: =IF('Équipes'!$B$18="","",1+COUNTIFS($K$14:$K$113,">"&K30)+COUNTIFS($K$14:$K$113,K30,$J$14:$J$113,">"&J30)) | B30: =IF('Équipes'!$B$18="","",'Équipes'!$B$18) | C30: =IF($B30="","",IFERROR(VLOOKUP($B30,'Équipes'!$B$2:$G$101,6,FALSE),"")) | D30: =IF($B30="","",COUNTIFS('Matchs'!$F$2:$F$101,$B30,'Matchs'!$J$2:$J$101,"Joué")+COUNTIFS('Matchs'!$G$2:$G$101,$B30,'Matchs'!$J$2:$J$101,"Joué")) | E30: =IF($B30="","",COUNTIFS('Matchs'!$F$2:$F$101,$B30,'Matchs'!$J$2:$J$101,"Joué",'Matchs'!$L$2:$L$101,3)+COUNTIFS('Matchs'!$G$2:$G$101,$B30,'Matchs'!$J$2:$J$101,"Joué",'Matchs'!$M$2:$M$101,3)) | F30: =IF($B30="","",COUNTIFS('Matchs'!$F$2:$F$101,$B30,'Matchs'!$J$2:$J$101,"Joué",'Matchs'!$L$2:$L$101,1)+COUNTIFS('Matchs'!$G$2:$G$101,$B30,'Matchs'!$J$2:$J$101,"Joué",'Matchs'!$M$2:$M$101,1)) | G30: =IF($B30="","",D30-E30-F30) | H30: =IF($B30="","",SUMPRODUCT(('Matchs'!$F$2:$F$101=$B30)*('Matchs'!$J$2:$J$101="Joué")*'Matchs'!$H$2:$H$101)+SUMPRODUCT(('Matchs'!$G$2:$G$101=$B30)*('Matchs'!$J$2:$J$101="Joué")*'Matchs'!$I$2:$I$101)) | I30: =IF($B30="","",SUMPRODUCT(('Matchs'!$F$2:$F$101=$B30)*('Matchs'!$J$2:$J$101="Joué")*'Matchs'!$I$2:$I$101)+SUMPRODUCT(('Matchs'!$G$2:$G$101=$B30)*('Matchs'!$J$2:$J$101="Joué")*'Matchs'!$H$2:$H$101)) | J30: =IF($B30="","",H30-I30) | K30: =IF($B30="","",SUMIF('Matchs'!$F$2:$F$101,$B30,'Matchs'!$L$2:$L$101)+SUMIF('Matchs'!$G$2:$G$101,$B30,'Matchs'!$M$2:$M$101)) | L30: =IF($B30="","",IFERROR(E30/D30,0))
A31: =IF('Équipes'!$B$19="","",1+COUNTIFS($K$14:$K$113,">"&K31)+COUNTIFS($K$14:$K$113,K31,$J$14:$J$113,">"&J31)) | B31: =IF('Équipes'!$B$19="","",'Équipes'!$B$19) | C31: =IF($B31="","",IFERROR(VLOOKUP($B31,'Équipes'!$B$2:$G$101,6,FALSE),"")) | D31: =IF($B31="","",COUNTIFS('Matchs'!$F$2:$F$101,$B31,'Matchs'!$J$2:$J$101,"Joué")+COUNTIFS('Matchs'!$G$2:$G$101,$B31,'Matchs'!$J$2:$J$101,"Joué")) | E31: =IF($B31="","",COUNTIFS('Matchs'!$F$2:$F$101,$B31,'Matchs'!$J$2:$J$101,"Joué",'Matchs'!$L$2:$L$101,3)+COUNTIFS('Matchs'!$G$2:$G$101,$B31,'Matchs'!$J$2:$J$101,"Joué",'Matchs'!$M$2:$M$101,3)) | F31: =IF($B31="","",COUNTIFS('Matchs'!$F$2:$F$101,$B31,'Matchs'!$J$2:$J$101,"Joué",'Matchs'!$L$2:$L$101,1)+COUNTIFS('Matchs'!$G$2:$G$101,$B31,'Matchs'!$J$2:$J$101,"Joué",'Matchs'!$M$2:$M$101,1)) | G31: =IF($B31="","",D31-E31-F31) | H31: =IF($B31="","",SUMPRODUCT(('Matchs'!$F$2:$F$101=$B31)*('Matchs'!$J$2:$J$101="Joué")*'Matchs'!$H$2:$H$101)+SUMPRODUCT(('Matchs'!$G$2:$G$101=$B31)*('Matchs'!$J$2:$J$101="Joué")*'Matchs'!$I$2:$I$101)) | I31: =IF($B31="","",SUMPRODUCT(('Matchs'!$F$2:$F$101=$B31)*('Matchs'!$J$2:$J$101="Joué")*'Matchs'!$I$2:$I$101)+SUMPRODUCT(('Matchs'!$G$2:$G$101=$B31)*('Matchs'!$J$2:$J$101="Joué")*'Matchs'!$H$2:$H$101)) | J31: =IF($B31="","",H31-I31) | K31: =IF($B31="","",SUMIF('Matchs'!$F$2:$F$101,$B31,'Matchs'!$L$2:$L$101)+SUMIF('Matchs'!$G$2:$G$101,$B31,'Matchs'!$M$2:$M$101)) | L31: =IF($B31="","",IFERROR(E31/D31,0))
A32: =IF('Équipes'!$B$20="","",1+COUNTIFS($K$14:$K$113,">"&K32)+COUNTIFS($K$14:$K$113,K32,$J$14:$J$113,">"&J32)) | B32: =IF('Équipes'!$B$20="","",'Équipes'!$B$20) | C32: =IF($B32="","",IFERROR(VLOOKUP($B32,'Équipes'!$B$2:$G$101,6,FALSE),"")) | D32: =IF($B32="","",COUNTIFS('Matchs'!$F$2:$F$101,$B32,'Matchs'!$J$2:$J$101,"Joué")+COUNTIFS('Matchs'!$G$2:$G$101,$B32,'Matchs'!$J$2:$J$101,"Joué")) | E32: =IF($B32="","",COUNTIFS('Matchs'!$F$2:$F$101,$B32,'Matchs'!$J$2:$J$101,"Joué",'Matchs'!$L$2:$L$101,3)+COUNTIFS('Matchs'!$G$2:$G$101,$B32,'Matchs'!$J$2:$J$101,"Joué",'Matchs'!$M$2:$M$101,3)) | F32: =IF($B32="","",COUNTIFS('Matchs'!$F$2:$F$101,$B32,'Matchs'!$J$2:$J$101,"Joué",'Matchs'!$L$2:$L$101,1)+COUNTIFS('Matchs'!$G$2:$G$101,$B32,'Matchs'!$J$2:$J$101,"Joué",'Matchs'!$M$2:$M$101,1)) | G32: =IF($B32="","",D32-E32-F32) | H32: =IF($B32="","",SUMPRODUCT(('Matchs'!$F$2:$F$101=$B32)*('Matchs'!$J$2:$J$101="Joué")*'Matchs'!$H$2:$H$101)+SUMPRODUCT(('Matchs'!$G$2:$G$101=$B32)*('Matchs'!$J$2:$J$101="Joué")*'Matchs'!$I$2:$I$101)) | I32: =IF($B32="","",SUMPRODUCT(('Matchs'!$F$2:$F$101=$B32)*('Matchs'!$J$2:$J$101="Joué")*'Matchs'!$I$2:$I$101)+SUMPRODUCT(('Matchs'!$G$2:$G$101=$B32)*('Matchs'!$J$2:$J$101="Joué")*'Matchs'!$H$2:$H$101)) | J32: =IF($B32="","",H32-I32) | K32: =IF($B32="","",SUMIF('Matchs'!$F$2:$F$101,$B32,'Matchs'!$L$2:$L$101)+SUMIF('Matchs'!$G$2:$G$101,$B32,'Matchs'!$M$2:$M$101)) | L32: =IF($B32="","",IFERROR(E32/D32,0))
A33: =IF('Équipes'!$B$21="","",1+COUNTIFS($K$14:$K$113,">"&K33)+COUNTIFS($K$14:$K$113,K33,$J$14:$J$113,">"&J33)) | B33: =IF('Équipes'!$B$21="","",'Équipes'!$B$21) | C33: =IF($B33="","",IFERROR(VLOOKUP($B33,'Équipes'!$B$2:$G$101,6,FALSE),"")) | D33: =IF($B33="","",COUNTIFS('Matchs'!$F$2:$F$101,$B33,'Matchs'!$J$2:$J$101,"Joué")+COUNTIFS('Matchs'!$G$2:$G$101,$B33,'Matchs'!$J$2:$J$101,"Joué")) | E33: =IF($B33="","",COUNTIFS('Matchs'!$F$2:$F$101,$B33,'Matchs'!$J$2:$J$101,"Joué",'Matchs'!$L$2:$L$101,3)+COUNTIFS('Matchs'!$G$2:$G$101,$B33,'Matchs'!$J$2:$J$101,"Joué",'Matchs'!$M$2:$M$101,3)) | F33: =IF($B33="","",COUNTIFS('Matchs'!$F$2:$F$101,$B33,'Matchs'!$J$2:$J$101,"Joué",'Matchs'!$L$2:$L$101,1)+COUNTIFS('Matchs'!$G$2:$G$101,$B33,'Matchs'!$J$2:$J$101,"Joué",'Matchs'!$M$2:$M$101,1)) | G33: =IF($B33="","",D33-E33-F33) | H33: =IF($B33="","",SUMPRODUCT(('Matchs'!$F$2:$F$101=$B33)*('Matchs'!$J$2:$J$101="Joué")*'Matchs'!$H$2:$H$101)+SUMPRODUCT(('Matchs'!$G$2:$G$101=$B33)*('Matchs'!$J$2:$J$101="Joué")*'Matchs'!$I$2:$I$101)) | I33: =IF($B33="","",SUMPRODUCT(('Matchs'!$F$2:$F$101=$B33)*('Matchs'!$J$2:$J$101="Joué")*'Matchs'!$I$2:$I$101)+SUMPRODUCT(('Matchs'!$G$2:$G$101=$B33)*('Matchs'!$J$2:$J$101="Joué")*'Matchs'!$H$2:$H$101)) | J33: =IF($B33="","",H33-I33) | K33: =IF($B33="","",SUMIF('Matchs'!$F$2:$F$101,$B33,'Matchs'!$L$2:$L$101)+SUMIF('Matchs'!$G$2:$G$101,$B33,'Matchs'!$M$2:$M$101)) | L33: =IF($B33="","",IFERROR(E33/D33,0))
A34: =IF('Équipes'!$B$22="","",1+COUNTIFS($K$14:$K$113,">"&K34)+COUNTIFS($K$14:$K$113,K34,$J$14:$J$113,">"&J34)) | B34: =IF('Équipes'!$B$22="","",'Équipes'!$B$22) | C34: =IF($B34="","",IFERROR(VLOOKUP($B34,'Équipes'!$B$2:$G$101,6,FALSE),"")) | D34: =IF($B34="","",COUNTIFS('Matchs'!$F$2:$F$101,$B34,'Matchs'!$J$2:$J$101,"Joué")+COUNTIFS('Matchs'!$G$2:$G$101,$B34,'Matchs'!$J$2:$J$101,"Joué")) | E34: =IF($B34="","",COUNTIFS('Matchs'!$F$2:$F$101,$B34,'Matchs'!$J$2:$J$101,"Joué",'Matchs'!$L$2:$L$101,3)+COUNTIFS('Matchs'!$G$2:$G$101,$B34,'Matchs'!$J$2:$J$101,"Joué",'Matchs'!$M$2:$M$101,3)) | F34: =IF($B34="","",COUNTIFS('Matchs'!$F$2:$F$101,$B34,'Matchs'!$J$2:$J$101,"Joué",'Matchs'!$L$2:$L$101,1)+COUNTIFS('Matchs'!$G$2:$G$101,$B34,'Matchs'!$J$2:$J$101,"Joué",'Matchs'!$M$2:$M$101,1)) | G34: =IF($B34="","",D34-E34-F34) | H34: =IF($B34="","",SUMPRODUCT(('Matchs'!$F$2:$F$101=$B34)*('Matchs'!$J$2:$J$101="Joué")*'Matchs'!$H$2:$H$101)+SUMPRODUCT(('Matchs'!$G$2:$G$101=$B34)*('Matchs'!$J$2:$J$101="Joué")*'Matchs'!$I$2:$I$101)) | I34: =IF($B34="","",SUMPRODUCT(('Matchs'!$F$2:$F$101=$B34)*('Matchs'!$J$2:$J$101="Joué")*'Matchs'!$I$2:$I$101)+SUMPRODUCT(('Matchs'!$G$2:$G$101=$B34)*('Matchs'!$J$2:$J$101="Joué")*'Matchs'!$H$2:$H$101)) | J34: =IF($B34="","",H34-I34) | K34: =IF($B34="","",SUMIF('Matchs'!$F$2:$F$101,$B34,'Matchs'!$L$2:$L$101)+SUMIF('Matchs'!$G$2:$G$101,$B34,'Matchs'!$M$2:$M$101)) | L34: =IF($B34="","",IFERROR(E34/D34,0))
A35: =IF('Équipes'!$B$23="","",1+COUNTIFS($K$14:$K$113,">"&K35)+COUNTIFS($K$14:$K$113,K35,$J$14:$J$113,">"&J35)) | B35: =IF('Équipes'!$B$23="","",'Équipes'!$B$23) | C35: =IF($B35="","",IFERROR(VLOOKUP($B35,'Équipes'!$B$2:$G$101,6,FALSE),"")) | D35: =IF($B35="","",COUNTIFS('Matchs'!$F$2:$F$101,$B35,'Matchs'!$J$2:$J$101,"Joué")+COUNTIFS('Matchs'!$G$2:$G$101,$B35,'Matchs'!$J$2:$J$101,"Joué")) | E35: =IF($B35="","",COUNTIFS('Matchs'!$F$2:$F$101,$B35,'Matchs'!$J$2:$J$101,"Joué",'Matchs'!$L$2:$L$101,3)+COUNTIFS('Matchs'!$G$2:$G$101,$B35,'Matchs'!$J$2:$J$101,"Joué",'Matchs'!$M$2:$M$101,3)) | F35: =IF($B35="","",COUNTIFS('Matchs'!$F$2:$F$101,$B35,'Matchs'!$J$2:$J$101,"Joué",'Matchs'!$L$2:$L$101,1)+COUNTIFS('Matchs'!$G$2:$G$101,$B35,'Matchs'!$J$2:$J$101,"Joué",'Matchs'!$M$2:$M$101,1)) | G35: =IF($B35="","",D35-E35-F35) | H35: =IF($B35="","",SUMPRODUCT(('Matchs'!$F$2:$F$101=$B35)*('Matchs'!$J$2:$J$101="Joué")*'Matchs'!$H$2:$H$101)+SUMPRODUCT(('Matchs'!$G$2:$G$101=$B35)*('Matchs'!$J$2:$J$101="Joué")*'Matchs'!$I$2:$I$101)) | I35: =IF($B35="","",SUMPRODUCT(('Matchs'!$F$2:$F$101=$B35)*('Matchs'!$J$2:$J$101="Joué")*'Matchs'!$I$2:$I$101)+SUMPRODUCT(('Matchs'!$G$2:$G$101=$B35)*('Matchs'!$J$2:$J$101="Joué")*'Matchs'!$H$2:$H$101)) | J35: =IF($B35="","",H35-I35) | K35: =IF($B35="","",SUMIF('Matchs'!$F$2:$F$101,$B35,'Matchs'!$L$2:$L$101)+SUMIF('Matchs'!$G$2:$G$101,$B35,'Matchs'!$M$2:$M$101)) | L35: =IF($B35="","",IFERROR(E35/D35,0))
A36: =IF('Équipes'!$B$24="","",1+COUNTIFS($K$14:$K$113,">"&K36)+COUNTIFS($K$14:$K$113,K36,$J$14:$J$113,">"&J36)) | B36: =IF('Équipes'!$B$24="","",'Équipes'!$B$24) | C36: =IF($B36="","",IFERROR(VLOOKUP($B36,'Équipes'!$B$2:$G$101,6,FALSE),"")) | D36: =IF($B36="","",COUNTIFS('Matchs'!$F$2:$F$101,$B36,'Matchs'!$J$2:$J$101,"Joué")+COUNTIFS('Matchs'!$G$2:$G$101,$B36,'Matchs'!$J$2:$J$101,"Joué")) | E36: =IF($B36="","",COUNTIFS('Matchs'!$F$2:$F$101,$B36,'Matchs'!$J$2:$J$101,"Joué",'Matchs'!$L$2:$L$101,3)+COUNTIFS('Matchs'!$G$2:$G$101,$B36,'Matchs'!$J$2:$J$101,"Joué",'Matchs'!$M$2:$M$101,3)) | F36: =IF($B36="","",COUNTIFS('Matchs'!$F$2:$F$101,$B36,'Matchs'!$J$2:$J$101,"Joué",'Matchs'!$L$2:$L$101,1)+COUNTIFS('Matchs'!$G$2:$G$101,$B36,'Matchs'!$J$2:$J$101,"Joué",'Matchs'!$M$2:$M$101,1)) | G36: =IF($B36="","",D36-E36-F36) | H36: =IF($B36="","",SUMPRODUCT(('Matchs'!$F$2:$F$101=$B36)*('Matchs'!$J$2:$J$101="Joué")*'Matchs'!$H$2:$H$101)+SUMPRODUCT(('Matchs'!$G$2:$G$101=$B36)*('Matchs'!$J$2:$J$101="Joué")*'Matchs'!$I$2:$I$101)) | I36: =IF($B36="","",SUMPRODUCT(('Matchs'!$F$2:$F$101=$B36)*('Matchs'!$J$2:$J$101="Joué")*'Matchs'!$I$2:$I$101)+SUMPRODUCT(('Matchs'!$G$2:$G$101=$B36)*('Matchs'!$J$2:$J$101="Joué")*'Matchs'!$H$2:$H$101)) | J36: =IF($B36="","",H36-I36) | K36: =IF($B36="","",SUMIF('Matchs'!$F$2:$F$101,$B36,'Matchs'!$L$2:$L$101)+SUMIF('Matchs'!$G$2:$G$101,$B36,'Matchs'!$M$2:$M$101)) | L36: =IF($B36="","",IFERROR(E36/D36,0))
A37: =IF('Équipes'!$B$25="","",1+COUNTIFS($K$14:$K$113,">"&K37)+COUNTIFS($K$14:$K$113,K37,$J$14:$J$113,">"&J37)) | B37: =IF('Équipes'!$B$25="","",'Équipes'!$B$25) | C37: =IF($B37="","",IFERROR(VLOOKUP($B37,'Équipes'!$B$2:$G$101,6,FALSE),"")) | D37: =IF($B37="","",COUNTIFS('Matchs'!$F$2:$F$101,$B37,'Matchs'!$J$2:$J$101,"Joué")+COUNTIFS('Matchs'!$G$2:$G$101,$B37,'Matchs'!$J$2:$J$101,"Joué")) | E37: =IF($B37="","",COUNTIFS('Matchs'!$F$2:$F$101,$B37,'Matchs'!$J$2:$J$101,"Joué",'Matchs'!$L$2:$L$101,3)+COUNTIFS('Matchs'!$G$2:$G$101,$B37,'Matchs'!$J$2:$J$101,"Joué",'Matchs'!$M$2:$M$101,3)) | F37: =IF($B37="","",COUNTIFS('Matchs'!$F$2:$F$101,$B37,'Matchs'!$J$2:$J$101,"Joué",'Matchs'!$L$2:$L$101,1)+COUNTIFS('Matchs'!$G$2:$G$101,$B37,'Matchs'!$J$2:$J$101,"Joué",'Matchs'!$M$2:$M$101,1)) | G37: =IF($B37="","",D37-E37-F37) | H37: =IF($B37="","",SUMPRODUCT(('Matchs'!$F$2:$F$101=$B37)*('Matchs'!$J$2:$J$101="Joué")*'Matchs'!$H$2:$H$101)+SUMPRODUCT(('Matchs'!$G$2:$G$101=$B37)*('Matchs'!$J$2:$J$101="Joué")*'Matchs'!$I$2:$I$101)) | I37: =IF($B37="","",SUMPRODUCT(('Matchs'!$F$2:$F$101=$B37)*('Matchs'!$J$2:$J$101="Joué")*'Matchs'!$I$2:$I$101)+SUMPRODUCT(('Matchs'!$G$2:$G$101=$B37)*('Matchs'!$J$2:$J$101="Joué")*'Matchs'!$H$2:$H$101)) | J37: =IF($B37="","",H37-I37) | K37: =IF($B37="","",SUMIF('Matchs'!$F$2:$F$101,$B37,'Matchs'!$L$2:$L$101)+SUMIF('Matchs'!$G$2:$G$101,$B37,'Matchs'!$M$2:$M$101)) | L37: =IF($B37="","",IFERROR(E37/D37,0))
A38: =IF('Équipes'!$B$26="","",1+COUNTIFS($K$14:$K$113,">"&K38)+COUNTIFS($K$14:$K$113,K38,$J$14:$J$113,">"&J38)) | B38: =IF('Équipes'!$B$26="","",'Équipes'!$B$26) | C38: =IF($B38="","",IFERROR(VLOOKUP($B38,'Équipes'!$B$2:$G$101,6,FALSE),"")) | D38: =IF($B38="","",COUNTIFS('Matchs'!$F$2:$F$101,$B38,'Matchs'!$J$2:$J$101,"Joué")+COUNTIFS('Matchs'!$G$2:$G$101,$B38,'Matchs'!$J$2:$J$101,"Joué")) | E38: =IF($B38="","",COUNTIFS('Matchs'!$F$2:$F$101,$B38,'Matchs'!$J$2:$J$101,"Joué",'Matchs'!$L$2:$L$101,3)+COUNTIFS('Matchs'!$G$2:$G$101,$B38,'Matchs'!$J$2:$J$101,"Joué",'Matchs'!$M$2:$M$101,3)) | F38: =IF($B38="","",COUNTIFS('Matchs'!$F$2:$F$101,$B38,'Matchs'!$J$2:$J$101,"Joué",'Matchs'!$L$2:$L$101,1)+COUNTIFS('Matchs'!$G$2:$G$101,$B38,'Matchs'!$J$2:$J$101,"Joué",'Matchs'!$M$2:$M$101,1)) | G38: =IF($B38="","",D38-E38-F38) | H38: =IF($B38="","",SUMPRODUCT(('Matchs'!$F$2:$F$101=$B38)*('Matchs'!$J$2:$J$101="Joué")*'Matchs'!$H$2:$H$101)+SUMPRODUCT(('Matchs'!$G$2:$G$101=$B38)*('Matchs'!$J$2:$J$101="Joué")*'Matchs'!$I$2:$I$101)) | I38: =IF($B38="","",SUMPRODUCT(('Matchs'!$F$2:$F$101=$B38)*('Matchs'!$J$2:$J$101="Joué")*'Matchs'!$I$2:$I$101)+SUMPRODUCT(('Matchs'!$G$2:$G$101=$B38)*('Matchs'!$J$2:$J$101="Joué")*'Matchs'!$H$2:$H$101)) | J38: =IF($B38="","",H38-I38) | K38: =IF($B38="","",SUMIF('Matchs'!$F$2:$F$101,$B38,'Matchs'!$L$2:$L$101)+SUMIF('Matchs'!$G$2:$G$101,$B38,'Matchs'!$M$2:$M$101)) | L38: =IF($B38="","",IFERROR(E38/D38,0))
A39: =IF('Équipes'!$B$27="","",1+COUNTIFS($K$14:$K$113,">"&K39)+COUNTIFS($K$14:$K$113,K39,$J$14:$J$113,">"&J39)) | B39: =IF('Équipes'!$B$27="","",'Équipes'!$B$27) | C39: =IF($B39="","",IFERROR(VLOOKUP($B39,'Équipes'!$B$2:$G$101,6,FALSE),"")) | D39: =IF($B39="","",COUNTIFS('Matchs'!$F$2:$F$101,$B39,'Matchs'!$J$2:$J$101,"Joué")+COUNTIFS('Matchs'!$G$2:$G$101,$B39,'Matchs'!$J$2:$J$101,"Joué")) | E39: =IF($B39="","",COUNTIFS('Matchs'!$F$2:$F$101,$B39,'Matchs'!$J$2:$J$101,"Joué",'Matchs'!$L$2:$L$101,3)+COUNTIFS('Matchs'!$G$2:$G$101,$B39,'Matchs'!$J$2:$J$101,"Joué",'Matchs'!$M$2:$M$101,3)) | F39: =IF($B39="","",COUNTIFS('Matchs'!$F$2:$F$101,$B39,'Matchs'!$J$2:$J$101,"Joué",'Matchs'!$L$2:$L$101,1)+COUNTIFS('Matchs'!$G$2:$G$101,$B39,'Matchs'!$J$2:$J$101,"Joué",'Matchs'!$M$2:$M$101,1)) | G39: =IF($B39="","",D39-E39-F39) | H39: =IF($B39="","",SUMPRODUCT(('Matchs'!$F$2:$F$101=$B39)*('Matchs'!$J$2:$J$101="Joué")*'Matchs'!$H$2:$H$101)+SUMPRODUCT(('Matchs'!$G$2:$G$101=$B39)*('Matchs'!$J$2:$J$101="Joué")*'Matchs'!$I$2:$I$101)) | I39: =IF($B39="","",SUMPRODUCT(('Matchs'!$F$2:$F$101=$B39)*('Matchs'!$J$2:$J$101="Joué")*'Matchs'!$I$2:$I$101)+SUMPRODUCT(('Matchs'!$G$2:$G$101=$B39)*('Matchs'!$J$2:$J$101="Joué")*'Matchs'!$H$2:$H$101)) | J39: =IF($B39="","",H39-I39) | K39: =IF($B39="","",SUMIF('Matchs'!$F$2:$F$101,$B39,'Matchs'!$L$2:$L$101)+SUMIF('Matchs'!$G$2:$G$101,$B39,'Matchs'!$M$2:$M$101)) | L39: =IF($B39="","",IFERROR(E39/D39,0))
A40: =IF('Équipes'!$B$28="","",1+COUNTIFS($K$14:$K$113,">"&K40)+COUNTIFS($K$14:$K$113,K40,$J$14:$J$113,">"&J40)) | B40: =IF('Équipes'!$B$28="","",'Équipes'!$B$28) | C40: =IF($B40="","",IFERROR(VLOOKUP($B40,'Équipes'!$B$2:$G$101,6,FALSE),"")) | D40: =IF($B40="","",COUNTIFS('Matchs'!$F$2:$F$101,$B40,'Matchs'!$J$2:$J$101,"Joué")+COUNTIFS('Matchs'!$G$2:$G$101,$B40,'Matchs'!$J$2:$J$101,"Joué")) | E40: =IF($B40="","",COUNTIFS('Matchs'!$F$2:$F$101,$B40,'Matchs'!$J$2:$J$101,"Joué",'Matchs'!$L$2:$L$101,3)+COUNTIFS('Matchs'!$G$2:$G$101,$B40,'Matchs'!$J$2:$J$101,"Joué",'Matchs'!$M$2:$M$101,3)) | F40: =IF($B40="","",COUNTIFS('Matchs'!$F$2:$F$101,$B40,'Matchs'!$J$2:$J$101,"Joué",'Matchs'!$L$2:$L$101,1)+COUNTIFS('Matchs'!$G$2:$G$101,$B40,'Matchs'!$J$2:$J$101,"Joué",'Matchs'!$M$2:$M$101,1)) | G40: =IF($B40="","",D40-E40-F40) | H40: =IF($B40="","",SUMPRODUCT(('Matchs'!$F$2:$F$101=$B40)*('Matchs'!$J$2:$J$101="Joué")*'Matchs'!$H$2:$H$101)+SUMPRODUCT(('Matchs'!$G$2:$G$101=$B40)*('Matchs'!$J$2:$J$101="Joué")*'Matchs'!$I$2:$I$101)) | I40: =IF($B40="","",SUMPRODUCT(('Matchs'!$F$2:$F$101=$B40)*('Matchs'!$J$2:$J$101="Joué")*'Matchs'!$I$2:$I$101)+SUMPRODUCT(('Matchs'!$G$2:$G$101=$B40)*('Matchs'!$J$2:$J$101="Joué")*'Matchs'!$H$2:$H$101)) | J40: =IF($B40="","",H40-I40) | K40: =IF($B40="","",SUMIF('Matchs'!$F$2:$F$101,$B40,'Matchs'!$L$2:$L$101)+SUMIF('Matchs'!$G$2:$G$101,$B40,'Matchs'!$M$2:$M$101)) | L40: =IF($B40="","",IFERROR(E40/D40,0))
A41: =IF('Équipes'!$B$29="","",1+COUNTIFS($K$14:$K$113,">"&K41)+COUNTIFS($K$14:$K$113,K41,$J$14:$J$113,">"&J41)) | B41: =IF('Équipes'!$B$29="","",'Équipes'!$B$29) | C41: =IF($B41="","",IFERROR(VLOOKUP($B41,'Équipes'!$B$2:$G$101,6,FALSE),"")) | D41: =IF($B41="","",COUNTIFS('Matchs'!$F$2:$F$101,$B41,'Matchs'!$J$2:$J$101,"Joué")+COUNTIFS('Matchs'!$G$2:$G$101,$B41,'Matchs'!$J$2:$J$101,"Joué")) | E41: =IF($B41="","",COUNTIFS('Matchs'!$F$2:$F$101,$B41,'Matchs'!$J$2:$J$101,"Joué",'Matchs'!$L$2:$L$101,3)+COUNTIFS('Matchs'!$G$2:$G$101,$B41,'Matchs'!$J$2:$J$101,"Joué",'Matchs'!$M$2:$M$101,3)) | F41: =IF($B41="","",COUNTIFS('Matchs'!$F$2:$F$101,$B41,'Matchs'!$J$2:$J$101,"Joué",'Matchs'!$L$2:$L$101,1)+COUNTIFS('Matchs'!$G$2:$G$101,$B41,'Matchs'!$J$2:$J$101,"Joué",'Matchs'!$M$2:$M$101,1)) | G41: =IF($B41="","",D41-E41-F41) | H41: =IF($B41="","",SUMPRODUCT(('Matchs'!$F$2:$F$101=$B41)*('Matchs'!$J$2:$J$101="Joué")*'Matchs'!$H$2:$H$101)+SUMPRODUCT(('Matchs'!$G$2:$G$101=$B41)*('Matchs'!$J$2:$J$101="Joué")*'Matchs'!$I$2:$I$101)) | I41: =IF($B41="","",SUMPRODUCT(('Matchs'!$F$2:$F$101=$B41)*('Matchs'!$J$2:$J$101="Joué")*'Matchs'!$I$2:$I$101)+SUMPRODUCT(('Matchs'!$G$2:$G$101=$B41)*('Matchs'!$J$2:$J$101="Joué")*'Matchs'!$H$2:$H$101)) | J41: =IF($B41="","",H41-I41) | K41: =IF($B41="","",SUMIF('Matchs'!$F$2:$F$101,$B41,'Matchs'!$L$2:$L$101)+SUMIF('Matchs'!$G$2:$G$101,$B41,'Matchs'!$M$2:$M$101)) | L41: =IF($B41="","",IFERROR(E41/D41,0))
A42: =IF('Équipes'!$B$30="","",1+COUNTIFS($K$14:$K$113,">"&K42)+COUNTIFS($K$14:$K$113,K42,$J$14:$J$113,">"&J42)) | B42: =IF('Équipes'!$B$30="","",'Équipes'!$B$30) | C42: =IF($B42="","",IFERROR(VLOOKUP($B42,'Équipes'!$B$2:$G$101,6,FALSE),"")) | D42: =IF($B42="","",COUNTIFS('Matchs'!$F$2:$F$101,$B42,'Matchs'!$J$2:$J$101,"Joué")+COUNTIFS('Matchs'!$G$2:$G$101,$B42,'Matchs'!$J$2:$J$101,"Joué")) | E42: =IF($B42="","",COUNTIFS('Matchs'!$F$2:$F$101,$B42,'Matchs'!$J$2:$J$101,"Joué",'Matchs'!$L$2:$L$101,3)+COUNTIFS('Matchs'!$G$2:$G$101,$B42,'Matchs'!$J$2:$J$101,"Joué",'Matchs'!$M$2:$M$101,3)) | F42: =IF($B42="","",COUNTIFS('Matchs'!$F$2:$F$101,$B42,'Matchs'!$J$2:$J$101,"Joué",'Matchs'!$L$2:$L$101,1)+COUNTIFS('Matchs'!$G$2:$G$101,$B42,'Matchs'!$J$2:$J$101,"Joué",'Matchs'!$M$2:$M$101,1)) | G42: =IF($B42="","",D42-E42-F42) | H42: =IF($B42="","",SUMPRODUCT(('Matchs'!$F$2:$F$101=$B42)*('Matchs'!$J$2:$J$101="Joué")*'Matchs'!$H$2:$H$101)+SUMPRODUCT(('Matchs'!$G$2:$G$101=$B42)*('Matchs'!$J$2:$J$101="Joué")*'Matchs'!$I$2:$I$101)) | I42: =IF($B42="","",SUMPRODUCT(('Matchs'!$F$2:$F$101=$B42)*('Matchs'!$J$2:$J$101="Joué")*'Matchs'!$I$2:$I$101)+SUMPRODUCT(('Matchs'!$G$2:$G$101=$B42)*('Matchs'!$J$2:$J$101="Joué")*'Matchs'!$H$2:$H$101)) | J42: =IF($B42="","",H42-I42) | K42: =IF($B42="","",SUMIF('Matchs'!$F$2:$F$101,$B42,'Matchs'!$L$2:$L$101)+SUMIF('Matchs'!$G$2:$G$101,$B42,'Matchs'!$M$2:$M$101)) | L42: =IF($B42="","",IFERROR(E42/D42,0))
A43: =IF('Équipes'!$B$31="","",1+COUNTIFS($K$14:$K$113,">"&K43)+COUNTIFS($K$14:$K$113,K43,$J$14:$J$113,">"&J43)) | B43: =IF('Équipes'!$B$31="","",'Équipes'!$B$31) | C43: =IF($B43="","",IFERROR(VLOOKUP($B43,'Équipes'!$B$2:$G$101,6,FALSE),"")) | D43: =IF($B43="","",COUNTIFS('Matchs'!$F$2:$F$101,$B43,'Matchs'!$J$2:$J$101,"Joué")+COUNTIFS('Matchs'!$G$2:$G$101,$B43,'Matchs'!$J$2:$J$101,"Joué")) | E43: =IF($B43="","",COUNTIFS('Matchs'!$F$2:$F$101,$B43,'Matchs'!$J$2:$J$101,"Joué",'Matchs'!$L$2:$L$101,3)+COUNTIFS('Matchs'!$G$2:$G$101,$B43,'Matchs'!$J$2:$J$101,"Joué",'Matchs'!$M$2:$M$101,3)) | F43: =IF($B43="","",COUNTIFS('Matchs'!$F$2:$F$101,$B43,'Matchs'!$J$2:$J$101,"Joué",'Matchs'!$L$2:$L$101,1)+COUNTIFS('Matchs'!$G$2:$G$101,$B43,'Matchs'!$J$2:$J$101,"Joué",'Matchs'!$M$2:$M$101,1)) | G43: =IF($B43="","",D43-E43-F43) | H43: =IF($B43="","",SUMPRODUCT(('Matchs'!$F$2:$F$101=$B43)*('Matchs'!$J$2:$J$101="Joué")*'Matchs'!$H$2:$H$101)+SUMPRODUCT(('Matchs'!$G$2:$G$101=$B43)*('Matchs'!$J$2:$J$101="Joué")*'Matchs'!$I$2:$I$101)) | I43: =IF($B43="","",SUMPRODUCT(('Matchs'!$F$2:$F$101=$B43)*('Matchs'!$J$2:$J$101="Joué")*'Matchs'!$I$2:$I$101)+SUMPRODUCT(('Matchs'!$G$2:$G$101=$B43)*('Matchs'!$J$2:$J$101="Joué")*'Matchs'!$H$2:$H$101)) | J43: =IF($B43="","",H43-I43) | K43: =IF($B43="","",SUMIF('Matchs'!$F$2:$F$101,$B43,'Matchs'!$L$2:$L$101)+SUMIF('Matchs'!$G$2:$G$101,$B43,'Matchs'!$M$2:$M$101)) | L43: =IF($B43="","",IFERROR(E43/D43,0))
A44: =IF('Équipes'!$B$32="","",1+COUNTIFS($K$14:$K$113,">"&K44)+COUNTIFS($K$14:$K$113,K44,$J$14:$J$113,">"&J44)) | B44: =IF('Équipes'!$B$32="","",'Équipes'!$B$32) | C44: =IF($B44="","",IFERROR(VLOOKUP($B44,'Équipes'!$B$2:$G$101,6,FALSE),"")) | D44: =IF($B44="","",COUNTIFS('Matchs'!$F$2:$F$101,$B44,'Matchs'!$J$2:$J$101,"Joué")+COUNTIFS('Matchs'!$G$2:$G$101,$B44,'Matchs'!$J$2:$J$101,"Joué")) | E44: =IF($B44="","",COUNTIFS('Matchs'!$F$2:$F$101,$B44,'Matchs'!$J$2:$J$101,"Joué",'Matchs'!$L$2:$L$101,3)+COUNTIFS('Matchs'!$G$2:$G$101,$B44,'Matchs'!$J$2:$J$101,"Joué",'Matchs'!$M$2:$M$101,3)) | F44: =IF($B44="","",COUNTIFS('Matchs'!$F$2:$F$101,$B44,'Matchs'!$J$2:$J$101,"Joué",'Matchs'!$L$2:$L$101,1)+COUNTIFS('Matchs'!$G$2:$G$101,$B44,'Matchs'!$J$2:$J$101,"Joué",'Matchs'!$M$2:$M$101,1)) | G44: =IF($B44="","",D44-E44-F44) | H44: =IF($B44="","",SUMPRODUCT(('Matchs'!$F$2:$F$101=$B44)*('Matchs'!$J$2:$J$101="Joué")*'Matchs'!$H$2:$H$101)+SUMPRODUCT(('Matchs'!$G$2:$G$101=$B44)*('Matchs'!$J$2:$J$101="Joué")*'Matchs'!$I$2:$I$101)) | I44: =IF($B44="","",SUMPRODUCT(('Matchs'!$F$2:$F$101=$B44)*('Matchs'!$J$2:$J$101="Joué")*'Matchs'!$I$2:$I$101)+SUMPRODUCT(('Matchs'!$G$2:$G$101=$B44)*('Matchs'!$J$2:$J$101="Joué")*'Matchs'!$H$2:$H$101)) | J44: =IF($B44="","",H44-I44) | K44: =IF($B44="","",SUMIF('Matchs'!$F$2:$F$101,$B44,'Matchs'!$L$2:$L$101)+SUMIF('Matchs'!$G$2:$G$101,$B44,'Matchs'!$M$2:$M$101)) | L44: =IF($B44="","",IFERROR(E44/D44,0))
A45: =IF('Équipes'!$B$33="","",1+COUNTIFS($K$14:$K$113,">"&K45)+COUNTIFS($K$14:$K$113,K45,$J$14:$J$113,">"&J45)) | B45: =IF('Équipes'!$B$33="","",'Équipes'!$B$33) | C45: =IF($B45="","",IFERROR(VLOOKUP($B45,'Équipes'!$B$2:$G$101,6,FALSE),"")) | D45: =IF($B45="","",COUNTIFS('Matchs'!$F$2:$F$101,$B45,'Matchs'!$J$2:$J$101,"Joué")+COUNTIFS('Matchs'!$G$2:$G$101,$B45,'Matchs'!$J$2:$J$101,"Joué")) | E45: =IF($B45="","",COUNTIFS('Matchs'!$F$2:$F$101,$B45,'Matchs'!$J$2:$J$101,"Joué",'Matchs'!$L$2:$L$101,3)+COUNTIFS('Matchs'!$G$2:$G$101,$B45,'Matchs'!$J$2:$J$101,"Joué",'Matchs'!$M$2:$M$101,3)) | F45: =IF($B45="","",COUNTIFS('Matchs'!$F$2:$F$101,$B45,'Matchs'!$J$2:$J$101,"Joué",'Matchs'!$L$2:$L$101,1)+COUNTIFS('Matchs'!$G$2:$G$101,$B45,'Matchs'!$J$2:$J$101,"Joué",'Matchs'!$M$2:$M$101,1)) | G45: =IF($B45="","",D45-E45-F45) | H45: =IF($B45="","",SUMPRODUCT(('Matchs'!$F$2:$F$101=$B45)*('Matchs'!$J$2:$J$101="Joué")*'Matchs'!$H$2:$H$101)+SUMPRODUCT(('Matchs'!$G$2:$G$101=$B45)*('Matchs'!$J$2:$J$101="Joué")*'Matchs'!$I$2:$I$101)) | I45: =IF($B45="","",SUMPRODUCT(('Matchs'!$F$2:$F$101=$B45)*('Matchs'!$J$2:$J$101="Joué")*'Matchs'!$I$2:$I$101)+SUMPRODUCT(('Matchs'!$G$2:$G$101=$B45)*('Matchs'!$J$2:$J$101="Joué")*'Matchs'!$H$2:$H$101)) | J45: =IF($B45="","",H45-I45) | K45: =IF($B45="","",SUMIF('Matchs'!$F$2:$F$101,$B45,'Matchs'!$L$2:$L$101)+SUMIF('Matchs'!$G$2:$G$101,$B45,'Matchs'!$M$2:$M$101)) | L45: =IF($B45="","",IFERROR(E45/D45,0))
A46: =IF('Équipes'!$B$34="","",1+COUNTIFS($K$14:$K$113,">"&K46)+COUNTIFS($K$14:$K$113,K46,$J$14:$J$113,">"&J46)) | B46: =IF('Équipes'!$B$34="","",'Équipes'!$B$34) | C46: =IF($B46="","",IFERROR(VLOOKUP($B46,'Équipes'!$B$2:$G$101,6,FALSE),"")) | D46: =IF($B46="","",COUNTIFS('Matchs'!$F$2:$F$101,$B46,'Matchs'!$J$2:$J$101,"Joué")+COUNTIFS('Matchs'!$G$2:$G$101,$B46,'Matchs'!$J$2:$J$101,"Joué")) | E46: =IF($B46="","",COUNTIFS('Matchs'!$F$2:$F$101,$B46,'Matchs'!$J$2:$J$101,"Joué",'Matchs'!$L$2:$L$101,3)+COUNTIFS('Matchs'!$G$2:$G$101,$B46,'Matchs'!$J$2:$J$101,"Joué",'Matchs'!$M$2:$M$101,3)) | F46: =IF($B46="","",COUNTIFS('Matchs'!$F$2:$F$101,$B46,'Matchs'!$J$2:$J$101,"Joué",'Matchs'!$L$2:$L$101,1)+COUNTIFS('Matchs'!$G$2:$G$101,$B46,'Matchs'!$J$2:$J$101,"Joué",'Matchs'!$M$2:$M$101,1)) | G46: =IF($B46="","",D46-E46-F46) | H46: =IF($B46="","",SUMPRODUCT(('Matchs'!$F$2:$F$101=$B46)*('Matchs'!$J$2:$J$101="Joué")*'Matchs'!$H$2:$H$101)+SUMPRODUCT(('Matchs'!$G$2:$G$101=$B46)*('Matchs'!$J$2:$J$101="Joué")*'Matchs'!$I$2:$I$101)) | I46: =IF($B46="","",SUMPRODUCT(('Matchs'!$F$2:$F$101=$B46)*('Matchs'!$J$2:$J$101="Joué")*'Matchs'!$I$2:$I$101)+SUMPRODUCT(('Matchs'!$G$2:$G$101=$B46)*('Matchs'!$J$2:$J$101="Joué")*'Matchs'!$H$2:$H$101)) | J46: =IF($B46="","",H46-I46) | K46: =IF($B46="","",SUMIF('Matchs'!$F$2:$F$101,$B46,'Matchs'!$L$2:$L$101)+SUMIF('Matchs'!$G$2:$G$101,$B46,'Matchs'!$M$2:$M$101)) | L46: =IF($B46="","",IFERROR(E46/D46,0))
A47: =IF('Équipes'!$B$35="","",1+COUNTIFS($K$14:$K$113,">"&K47)+COUNTIFS($K$14:$K$113,K47,$J$14:$J$113,">"&J47)) | B47: =IF('Équipes'!$B$35="","",'Équipes'!$B$35) | C47: =IF($B47="","",IFERROR(VLOOKUP($B47,'Équipes'!$B$2:$G$101,6,FALSE),"")) | D47: =IF($B47="","",COUNTIFS('Matchs'!$F$2:$F$101,$B47,'Matchs'!$J$2:$J$101,"Joué")+COUNTIFS('Matchs'!$G$2:$G$101,$B47,'Matchs'!$J$2:$J$101,"Joué")) | E47: =IF($B47="","",COUNTIFS('Matchs'!$F$2:$F$101,$B47,'Matchs'!$J$2:$J$101,"Joué",'Matchs'!$L$2:$L$101,3)+COUNTIFS('Matchs'!$G$2:$G$101,$B47,'Matchs'!$J$2:$J$101,"Joué",'Matchs'!$M$2:$M$101,3)) | F47: =IF($B47="","",COUNTIFS('Matchs'!$F$2:$F$101,$B47,'Matchs'!$J$2:$J$101,"Joué",'Matchs'!$L$2:$L$101,1)+COUNTIFS('Matchs'!$G$2:$G$101,$B47,'Matchs'!$J$2:$J$101,"Joué",'Matchs'!$M$2:$M$101,1)) | G47: =IF($B47="","",D47-E47-F47) | H47: =IF($B47="","",SUMPRODUCT(('Matchs'!$F$2:$F$101=$B47)*('Matchs'!$J$2:$J$101="Joué")*'Matchs'!$H$2:$H$101)+SUMPRODUCT(('Matchs'!$G$2:$G$101=$B47)*('Matchs'!$J$2:$J$101="Joué")*'Matchs'!$I$2:$I$101)) | I47: =IF($B47="","",SUMPRODUCT(('Matchs'!$F$2:$F$101=$B47)*('Matchs'!$J$2:$J$101="Joué")*'Matchs'!$I$2:$I$101)+SUMPRODUCT(('Matchs'!$G$2:$G$101=$B47)*('Matchs'!$J$2:$J$101="Joué")*'Matchs'!$H$2:$H$101)) | J47: =IF($B47="","",H47-I47) | K47: =IF($B47="","",SUMIF('Matchs'!$F$2:$F$101,$B47,'Matchs'!$L$2:$L$101)+SUMIF('Matchs'!$G$2:$G$101,$B47,'Matchs'!$M$2:$M$101)) | L47: =IF($B47="","",IFERROR(E47/D47,0))
A48: =IF('Équipes'!$B$36="","",1+COUNTIFS($K$14:$K$113,">"&K48)+COUNTIFS($K$14:$K$113,K48,$J$14:$J$113,">"&J48)) | B48: =IF('Équipes'!$B$36="","",'Équipes'!$B$36) | C48: =IF($B48="","",IFERROR(VLOOKUP($B48,'Équipes'!$B$2:$G$101,6,FALSE),"")) | D48: =IF($B48="","",COUNTIFS('Matchs'!$F$2:$F$101,$B48,'Matchs'!$J$2:$J$101,"Joué")+COUNTIFS('Matchs'!$G$2:$G$101,$B48,'Matchs'!$J$2:$J$101,"Joué")) | E48: =IF($B48="","",COUNTIFS('Matchs'!$F$2:$F$101,$B48,'Matchs'!$J$2:$J$101,"Joué",'Matchs'!$L$2:$L$101,3)+COUNTIFS('Matchs'!$G$2:$G$101,$B48,'Matchs'!$J$2:$J$101,"Joué",'Matchs'!$M$2:$M$101,3)) | F48: =IF($B48="","",COUNTIFS('Matchs'!$F$2:$F$101,$B48,'Matchs'!$J$2:$J$101,"Joué",'Matchs'!$L$2:$L$101,1)+COUNTIFS('Matchs'!$G$2:$G$101,$B48,'Matchs'!$J$2:$J$101,"Joué",'Matchs'!$M$2:$M$101,1)) | G48: =IF($B48="","",D48-E48-F48) | H48: =IF($B48="","",SUMPRODUCT(('Matchs'!$F$2:$F$101=$B48)*('Matchs'!$J$2:$J$101="Joué")*'Matchs'!$H$2:$H$101)+SUMPRODUCT(('Matchs'!$G$2:$G$101=$B48)*('Matchs'!$J$2:$J$101="Joué")*'Matchs'!$I$2:$I$101)) | I48: =IF($B48="","",SUMPRODUCT(('Matchs'!$F$2:$F$101=$B48)*('Matchs'!$J$2:$J$101="Joué")*'Matchs'!$I$2:$I$101)+SUMPRODUCT(('Matchs'!$G$2:$G$101=$B48)*('Matchs'!$J$2:$J$101="Joué")*'Matchs'!$H$2:$H$101)) | J48: =IF($B48="","",H48-I48) | K48: =IF($B48="","",SUMIF('Matchs'!$F$2:$F$101,$B48,'Matchs'!$L$2:$L$101)+SUMIF('Matchs'!$G$2:$G$101,$B48,'Matchs'!$M$2:$M$101)) | L48: =IF($B48="","",IFERROR(E48/D48,0))
A49: =IF('Équipes'!$B$37="","",1+COUNTIFS($K$14:$K$113,">"&K49)+COUNTIFS($K$14:$K$113,K49,$J$14:$J$113,">"&J49)) | B49: =IF('Équipes'!$B$37="","",'Équipes'!$B$37) | C49: =IF($B49="","",IFERROR(VLOOKUP($B49,'Équipes'!$B$2:$G$101,6,FALSE),"")) | D49: =IF($B49="","",COUNTIFS('Matchs'!$F$2:$F$101,$B49,'Matchs'!$J$2:$J$101,"Joué")+COUNTIFS('Matchs'!$G$2:$G$101,$B49,'Matchs'!$J$2:$J$101,"Joué")) | E49: =IF($B49="","",COUNTIFS('Matchs'!$F$2:$F$101,$B49,'Matchs'!$J$2:$J$101,"Joué",'Matchs'!$L$2:$L$101,3)+COUNTIFS('Matchs'!$G$2:$G$101,$B49,'Matchs'!$J$2:$J$101,"Joué",'Matchs'!$M$2:$M$101,3)) | F49: =IF($B49="","",COUNTIFS('Matchs'!$F$2:$F$101,$B49,'Matchs'!$J$2:$J$101,"Joué",'Matchs'!$L$2:$L$101,1)+COUNTIFS('Matchs'!$G$2:$G$101,$B49,'Matchs'!$J$2:$J$101,"Joué",'Matchs'!$M$2:$M$101,1)) | G49: =IF($B49="","",D49-E49-F49) | H49: =IF($B49="","",SUMPRODUCT(('Matchs'!$F$2:$F$101=$B49)*('Matchs'!$J$2:$J$101="Joué")*'Matchs'!$H$2:$H$101)+SUMPRODUCT(('Matchs'!$G$2:$G$101=$B49)*('Matchs'!$J$2:$J$101="Joué")*'Matchs'!$I$2:$I$101)) | I49: =IF($B49="","",SUMPRODUCT(('Matchs'!$F$2:$F$101=$B49)*('Matchs'!$J$2:$J$101="Joué")*'Matchs'!$I$2:$I$101)+SUMPRODUCT(('Matchs'!$G$2:$G$101=$B49)*('Matchs'!$J$2:$J$101="Joué")*'Matchs'!$H$2:$H$101)) | J49: =IF($B49="","",H49-I49) | K49: =IF($B49="","",SUMIF('Matchs'!$F$2:$F$101,$B49,'Matchs'!$L$2:$L$101)+SUMIF('Matchs'!$G$2:$G$101,$B49,'Matchs'!$M$2:$M$101)) | L49: =IF($B49="","",IFERROR(E49/D49,0))
A50: =IF('Équipes'!$B$38="","",1+COUNTIFS($K$14:$K$113,">"&K50)+COUNTIFS($K$14:$K$113,K50,$J$14:$J$113,">"&J50)) | B50: =IF('Équipes'!$B$38="","",'Équipes'!$B$38) | C50: =IF($B50="","",IFERROR(VLOOKUP($B50,'Équipes'!$B$2:$G$101,6,FALSE),"")) | D50: =IF($B50="","",COUNTIFS('Matchs'!$F$2:$F$101,$B50,'Matchs'!$J$2:$J$101,"Joué")+COUNTIFS('Matchs'!$G$2:$G$101,$B50,'Matchs'!$J$2:$J$101,"Joué")) | E50: =IF($B50="","",COUNTIFS('Matchs'!$F$2:$F$101,$B50,'Matchs'!$J$2:$J$101,"Joué",'Matchs'!$L$2:$L$101,3)+COUNTIFS('Matchs'!$G$2:$G$101,$B50,'Matchs'!$J$2:$J$101,"Joué",'Matchs'!$M$2:$M$101,3)) | F50: =IF($B50="","",COUNTIFS('Matchs'!$F$2:$F$101,$B50,'Matchs'!$J$2:$J$101,"Joué",'Matchs'!$L$2:$L$101,1)+COUNTIFS('Matchs'!$G$2:$G$101,$B50,'Matchs'!$J$2:$J$101,"Joué",'Matchs'!$M$2:$M$101,1)) | G50: =IF($B50="","",D50-E50-F50) | H50: =IF($B50="","",SUMPRODUCT(('Matchs'!$F$2:$F$101=$B50)*('Matchs'!$J$2:$J$101="Joué")*'Matchs'!$H$2:$H$101)+SUMPRODUCT(('Matchs'!$G$2:$G$101=$B50)*('Matchs'!$J$2:$J$101="Joué")*'Matchs'!$I$2:$I$101)) | I50: =IF($B50="","",SUMPRODUCT(('Matchs'!$F$2:$F$101=$B50)*('Matchs'!$J$2:$J$101="Joué")*'Matchs'!$I$2:$I$101)+SUMPRODUCT(('Matchs'!$G$2:$G$101=$B50)*('Matchs'!$J$2:$J$101="Joué")*'Matchs'!$H$2:$H$101)) | J50: =IF($B50="","",H50-I50) | K50: =IF($B50="","",SUMIF('Matchs'!$F$2:$F$101,$B50,'Matchs'!$L$2:$L$101)+SUMIF('Matchs'!$G$2:$G$101,$B50,'Matchs'!$M$2:$M$101)) | L50: =IF($B50="","",IFERROR(E50/D50,0))
A51: =IF('Équipes'!$B$39="","",1+COUNTIFS($K$14:$K$113,">"&K51)+COUNTIFS($K$14:$K$113,K51,$J$14:$J$113,">"&J51)) | B51: =IF('Équipes'!$B$39="","",'Équipes'!$B$39) | C51: =IF($B51="","",IFERROR(VLOOKUP($B51,'Équipes'!$B$2:$G$101,6,FALSE),"")) | D51: =IF($B51="","",COUNTIFS('Matchs'!$F$2:$F$101,$B51,'Matchs'!$J$2:$J$101,"Joué")+COUNTIFS('Matchs'!$G$2:$G$101,$B51,'Matchs'!$J$2:$J$101,"Joué")) | E51: =IF($B51="","",COUNTIFS('Matchs'!$F$2:$F$101,$B51,'Matchs'!$J$2:$J$101,"Joué",'Matchs'!$L$2:$L$101,3)+COUNTIFS('Matchs'!$G$2:$G$101,$B51,'Matchs'!$J$2:$J$101,"Joué",'Matchs'!$M$2:$M$101,3)) | F51: =IF($B51="","",COUNTIFS('Matchs'!$F$2:$F$101,$B51,'Matchs'!$J$2:$J$101,"Joué",'Matchs'!$L$2:$L$101,1)+COUNTIFS('Matchs'!$G$2:$G$101,$B51,'Matchs'!$J$2:$J$101,"Joué",'Matchs'!$M$2:$M$101,1)) | G51: =IF($B51="","",D51-E51-F51) | H51: =IF($B51="","",SUMPRODUCT(('Matchs'!$F$2:$F$101=$B51)*('Matchs'!$J$2:$J$101="Joué")*'Matchs'!$H$2:$H$101)+SUMPRODUCT(('Matchs'!$G$2:$G$101=$B51)*('Matchs'!$J$2:$J$101="Joué")*'Matchs'!$I$2:$I$101)) | I51: =IF($B51="","",SUMPRODUCT(('Matchs'!$F$2:$F$101=$B51)*('Matchs'!$J$2:$J$101="Joué")*'Matchs'!$I$2:$I$101)+SUMPRODUCT(('Matchs'!$G$2:$G$101=$B51)*('Matchs'!$J$2:$J$101="Joué")*'Matchs'!$H$2:$H$101)) | J51: =IF($B51="","",H51-I51) | K51: =IF($B51="","",SUMIF('Matchs'!$F$2:$F$101,$B51,'Matchs'!$L$2:$L$101)+SUMIF('Matchs'!$G$2:$G$101,$B51,'Matchs'!$M$2:$M$101)) | L51: =IF($B51="","",IFERROR(E51/D51,0))
A52: =IF('Équipes'!$B$40="","",1+COUNTIFS($K$14:$K$113,">"&K52)+COUNTIFS($K$14:$K$113,K52,$J$14:$J$113,">"&J52)) | B52: =IF('Équipes'!$B$40="","",'Équipes'!$B$40) | C52: =IF($B52="","",IFERROR(VLOOKUP($B52,'Équipes'!$B$2:$G$101,6,FALSE),"")) | D52: =IF($B52="","",COUNTIFS('Matchs'!$F$2:$F$101,$B52,'Matchs'!$J$2:$J$101,"Joué")+COUNTIFS('Matchs'!$G$2:$G$101,$B52,'Matchs'!$J$2:$J$101,"Joué")) | E52: =IF($B52="","",COUNTIFS('Matchs'!$F$2:$F$101,$B52,'Matchs'!$J$2:$J$101,"Joué",'Matchs'!$L$2:$L$101,3)+COUNTIFS('Matchs'!$G$2:$G$101,$B52,'Matchs'!$J$2:$J$101,"Joué",'Matchs'!$M$2:$M$101,3)) | F52: =IF($B52="","",COUNTIFS('Matchs'!$F$2:$F$101,$B52,'Matchs'!$J$2:$J$101,"Joué",'Matchs'!$L$2:$L$101,1)+COUNTIFS('Matchs'!$G$2:$G$101,$B52,'Matchs'!$J$2:$J$101,"Joué",'Matchs'!$M$2:$M$101,1)) | G52: =IF($B52="","",D52-E52-F52) | H52: =IF($B52="","",SUMPRODUCT(('Matchs'!$F$2:$F$101=$B52)*('Matchs'!$J$2:$J$101="Joué")*'Matchs'!$H$2:$H$101)+SUMPRODUCT(('Matchs'!$G$2:$G$101=$B52)*('Matchs'!$J$2:$J$101="Joué")*'Matchs'!$I$2:$I$101)) | I52: =IF($B52="","",SUMPRODUCT(('Matchs'!$F$2:$F$101=$B52)*('Matchs'!$J$2:$J$101="Joué")*'Matchs'!$I$2:$I$101)+SUMPRODUCT(('Matchs'!$G$2:$G$101=$B52)*('Matchs'!$J$2:$J$101="Joué")*'Matchs'!$H$2:$H$101)) | J52: =IF($B52="","",H52-I52) | K52: =IF($B52="","",SUMIF('Matchs'!$F$2:$F$101,$B52,'Matchs'!$L$2:$L$101)+SUMIF('Matchs'!$G$2:$G$101,$B52,'Matchs'!$M$2:$M$101)) | L52: =IF($B52="","",IFERROR(E52/D52,0))
A53: =IF('Équipes'!$B$41="","",1+COUNTIFS($K$14:$K$113,">"&K53)+COUNTIFS($K$14:$K$113,K53,$J$14:$J$113,">"&J53)) | B53: =IF('Équipes'!$B$41="","",'Équipes'!$B$41) | C53: =IF($B53="","",IFERROR(VLOOKUP($B53,'Équipes'!$B$2:$G$101,6,FALSE),"")) | D53: =IF($B53="","",COUNTIFS('Matchs'!$F$2:$F$101,$B53,'Matchs'!$J$2:$J$101,"Joué")+COUNTIFS('Matchs'!$G$2:$G$101,$B53,'Matchs'!$J$2:$J$101,"Joué")) | E53: =IF($B53="","",COUNTIFS('Matchs'!$F$2:$F$101,$B53,'Matchs'!$J$2:$J$101,"Joué",'Matchs'!$L$2:$L$101,3)+COUNTIFS('Matchs'!$G$2:$G$101,$B53,'Matchs'!$J$2:$J$101,"Joué",'Matchs'!$M$2:$M$101,3)) | F53: =IF($B53="","",COUNTIFS('Matchs'!$F$2:$F$101,$B53,'Matchs'!$J$2:$J$101,"Joué",'Matchs'!$L$2:$L$101,1)+COUNTIFS('Matchs'!$G$2:$G$101,$B53,'Matchs'!$J$2:$J$101,"Joué",'Matchs'!$M$2:$M$101,1)) | G53: =IF($B53="","",D53-E53-F53) | H53: =IF($B53="","",SUMPRODUCT(('Matchs'!$F$2:$F$101=$B53)*('Matchs'!$J$2:$J$101="Joué")*'Matchs'!$H$2:$H$101)+SUMPRODUCT(('Matchs'!$G$2:$G$101=$B53)*('Matchs'!$J$2:$J$101="Joué")*'Matchs'!$I$2:$I$101)) | I53: =IF($B53="","",SUMPRODUCT(('Matchs'!$F$2:$F$101=$B53)*('Matchs'!$J$2:$J$101="Joué")*'Matchs'!$I$2:$I$101)+SUMPRODUCT(('Matchs'!$G$2:$G$101=$B53)*('Matchs'!$J$2:$J$101="Joué")*'Matchs'!$H$2:$H$101)) | J53: =IF($B53="","",H53-I53) | K53: =IF($B53="","",SUMIF('Matchs'!$F$2:$F$101,$B53,'Matchs'!$L$2:$L$101)+SUMIF('Matchs'!$G$2:$G$101,$B53,'Matchs'!$M$2:$M$101)) | L53: =IF($B53="","",IFERROR(E53/D53,0))
A54: =IF('Équipes'!$B$42="","",1+COUNTIFS($K$14:$K$113,">"&K54)+COUNTIFS($K$14:$K$113,K54,$J$14:$J$113,">"&J54)) | B54: =IF('Équipes'!$B$42="","",'Équipes'!$B$42) | C54: =IF($B54="","",IFERROR(VLOOKUP($B54,'Équipes'!$B$2:$G$101,6,FALSE),"")) | D54: =IF($B54="","",COUNTIFS('Matchs'!$F$2:$F$101,$B54,'Matchs'!$J$2:$J$101,"Joué")+COUNTIFS('Matchs'!$G$2:$G$101,$B54,'Matchs'!$J$2:$J$101,"Joué")) | E54: =IF($B54="","",COUNTIFS('Matchs'!$F$2:$F$101,$B54,'Matchs'!$J$2:$J$101,"Joué",'Matchs'!$L$2:$L$101,3)+COUNTIFS('Matchs'!$G$2:$G$101,$B54,'Matchs'!$J$2:$J$101,"Joué",'Matchs'!$M$2:$M$101,3)) | F54: =IF($B54="","",COUNTIFS('Matchs'!$F$2:$F$101,$B54,'Matchs'!$J$2:$J$101,"Joué",'Matchs'!$L$2:$L$101,1)+COUNTIFS('Matchs'!$G$2:$G$101,$B54,'Matchs'!$J$2:$J$101,"Joué",'Matchs'!$M$2:$M$101,1)) | G54: =IF($B54="","",D54-E54-F54) | H54: =IF($B54="","",SUMPRODUCT(('Matchs'!$F$2:$F$101=$B54)*('Matchs'!$J$2:$J$101="Joué")*'Matchs'!$H$2:$H$101)+SUMPRODUCT(('Matchs'!$G$2:$G$101=$B54)*('Matchs'!$J$2:$J$101="Joué")*'Matchs'!$I$2:$I$101)) | I54: =IF($B54="","",SUMPRODUCT(('Matchs'!$F$2:$F$101=$B54)*('Matchs'!$J$2:$J$101="Joué")*'Matchs'!$I$2:$I$101)+SUMPRODUCT(('Matchs'!$G$2:$G$101=$B54)*('Matchs'!$J$2:$J$101="Joué")*'Matchs'!$H$2:$H$101)) | J54: =IF($B54="","",H54-I54) | K54: =IF($B54="","",SUMIF('Matchs'!$F$2:$F$101,$B54,'Matchs'!$L$2:$L$101)+SUMIF('Matchs'!$G$2:$G$101,$B54,'Matchs'!$M$2:$M$101)) | L54: =IF($B54="","",IFERROR(E54/D54,0))
A55: =IF('Équipes'!$B$43="","",1+COUNTIFS($K$14:$K$113,">"&K55)+COUNTIFS($K$14:$K$113,K55,$J$14:$J$113,">"&J55)) | B55: =IF('Équipes'!$B$43="","",'Équipes'!$B$43) | C55: =IF($B55="","",IFERROR(VLOOKUP($B55,'Équipes'!$B$2:$G$101,6,FALSE),"")) | D55: =IF($B55="","",COUNTIFS('Matchs'!$F$2:$F$101,$B55,'Matchs'!$J$2:$J$101,"Joué")+COUNTIFS('Matchs'!$G$2:$G$101,$B55,'Matchs'!$J$2:$J$101,"Joué")) | E55: =IF($B55="","",COUNTIFS('Matchs'!$F$2:$F$101,$B55,'Matchs'!$J$2:$J$101,"Joué",'Matchs'!$L$2:$L$101,3)+COUNTIFS('Matchs'!$G$2:$G$101,$B55,'Matchs'!$J$2:$J$101,"Joué",'Matchs'!$M$2:$M$101,3)) | F55: =IF($B55="","",COUNTIFS('Matchs'!$F$2:$F$101,$B55,'Matchs'!$J$2:$J$101,"Joué",'Matchs'!$L$2:$L$101,1)+COUNTIFS('Matchs'!$G$2:$G$101,$B55,'Matchs'!$J$2:$J$101,"Joué",'Matchs'!$M$2:$M$101,1)) | G55: =IF($B55="","",D55-E55-F55) | H55: =IF($B55="","",SUMPRODUCT(('Matchs'!$F$2:$F$101=$B55)*('Matchs'!$J$2:$J$101="Joué")*'Matchs'!$H$2:$H$101)+SUMPRODUCT(('Matchs'!$G$2:$G$101=$B55)*('Matchs'!$J$2:$J$101="Joué")*'Matchs'!$I$2:$I$101)) | I55: =IF($B55="","",SUMPRODUCT(('Matchs'!$F$2:$F$101=$B55)*('Matchs'!$J$2:$J$101="Joué")*'Matchs'!$I$2:$I$101)+SUMPRODUCT(('Matchs'!$G$2:$G$101=$B55)*('Matchs'!$J$2:$J$101="Joué")*'Matchs'!$H$2:$H$101)) | J55: =IF($B55="","",H55-I55) | K55: =IF($B55="","",SUMIF('Matchs'!$F$2:$F$101,$B55,'Matchs'!$L$2:$L$101)+SUMIF('Matchs'!$G$2:$G$101,$B55,'Matchs'!$M$2:$M$101)) | L55: =IF($B55="","",IFERROR(E55/D55,0))
A56: =IF('Équipes'!$B$44="","",1+COUNTIFS($K$14:$K$113,">"&K56)+COUNTIFS($K$14:$K$113,K56,$J$14:$J$113,">"&J56)) | B56: =IF('Équipes'!$B$44="","",'Équipes'!$B$44) | C56: =IF($B56="","",IFERROR(VLOOKUP($B56,'Équipes'!$B$2:$G$101,6,FALSE),"")) | D56: =IF($B56="","",COUNTIFS('Matchs'!$F$2:$F$101,$B56,'Matchs'!$J$2:$J$101,"Joué")+COUNTIFS('Matchs'!$G$2:$G$101,$B56,'Matchs'!$J$2:$J$101,"Joué")) | E56: =IF($B56="","",COUNTIFS('Matchs'!$F$2:$F$101,$B56,'Matchs'!$J$2:$J$101,"Joué",'Matchs'!$L$2:$L$101,3)+COUNTIFS('Matchs'!$G$2:$G$101,$B56,'Matchs'!$J$2:$J$101,"Joué",'Matchs'!$M$2:$M$101,3)) | F56: =IF($B56="","",COUNTIFS('Matchs'!$F$2:$F$101,$B56,'Matchs'!$J$2:$J$101,"Joué",'Matchs'!$L$2:$L$101,1)+COUNTIFS('Matchs'!$G$2:$G$101,$B56,'Matchs'!$J$2:$J$101,"Joué",'Matchs'!$M$2:$M$101,1)) | G56: =IF($B56="","",D56-E56-F56) | H56: =IF($B56="","",SUMPRODUCT(('Matchs'!$F$2:$F$101=$B56)*('Matchs'!$J$2:$J$101="Joué")*'Matchs'!$H$2:$H$101)+SUMPRODUCT(('Matchs'!$G$2:$G$101=$B56)*('Matchs'!$J$2:$J$101="Joué")*'Matchs'!$I$2:$I$101)) | I56: =IF($B56="","",SUMPRODUCT(('Matchs'!$F$2:$F$101=$B56)*('Matchs'!$J$2:$J$101="Joué")*'Matchs'!$I$2:$I$101)+SUMPRODUCT(('Matchs'!$G$2:$G$101=$B56)*('Matchs'!$J$2:$J$101="Joué")*'Matchs'!$H$2:$H$101)) | J56: =IF($B56="","",H56-I56) | K56: =IF($B56="","",SUMIF('Matchs'!$F$2:$F$101,$B56,'Matchs'!$L$2:$L$101)+SUMIF('Matchs'!$G$2:$G$101,$B56,'Matchs'!$M$2:$M$101)) | L56: =IF($B56="","",IFERROR(E56/D56,0))
A57: =IF('Équipes'!$B$45="","",1+COUNTIFS($K$14:$K$113,">"&K57)+COUNTIFS($K$14:$K$113,K57,$J$14:$J$113,">"&J57)) | B57: =IF('Équipes'!$B$45="","",'Équipes'!$B$45) | C57: =IF($B57="","",IFERROR(VLOOKUP($B57,'Équipes'!$B$2:$G$101,6,FALSE),"")) | D57: =IF($B57="","",COUNTIFS('Matchs'!$F$2:$F$101,$B57,'Matchs'!$J$2:$J$101,"Joué")+COUNTIFS('Matchs'!$G$2:$G$101,$B57,'Matchs'!$J$2:$J$101,"Joué")) | E57: =IF($B57="","",COUNTIFS('Matchs'!$F$2:$F$101,$B57,'Matchs'!$J$2:$J$101,"Joué",'Matchs'!$L$2:$L$101,3)+COUNTIFS('Matchs'!$G$2:$G$101,$B57,'Matchs'!$J$2:$J$101,"Joué",'Matchs'!$M$2:$M$101,3)) | F57: =IF($B57="","",COUNTIFS('Matchs'!$F$2:$F$101,$B57,'Matchs'!$J$2:$J$101,"Joué",'Matchs'!$L$2:$L$101,1)+COUNTIFS('Matchs'!$G$2:$G$101,$B57,'Matchs'!$J$2:$J$101,"Joué",'Matchs'!$M$2:$M$101,1)) | G57: =IF($B57="","",D57-E57-F57) | H57: =IF($B57="","",SUMPRODUCT(('Matchs'!$F$2:$F$101=$B57)*('Matchs'!$J$2:$J$101="Joué")*'Matchs'!$H$2:$H$101)+SUMPRODUCT(('Matchs'!$G$2:$G$101=$B57)*('Matchs'!$J$2:$J$101="Joué")*'Matchs'!$I$2:$I$101)) | I57: =IF($B57="","",SUMPRODUCT(('Matchs'!$F$2:$F$101=$B57)*('Matchs'!$J$2:$J$101="Joué")*'Matchs'!$I$2:$I$101)+SUMPRODUCT(('Matchs'!$G$2:$G$101=$B57)*('Matchs'!$J$2:$J$101="Joué")*'Matchs'!$H$2:$H$101)) | J57: =IF($B57="","",H57-I57) | K57: =IF($B57="","",SUMIF('Matchs'!$F$2:$F$101,$B57,'Matchs'!$L$2:$L$101)+SUMIF('Matchs'!$G$2:$G$101,$B57,'Matchs'!$M$2:$M$101)) | L57: =IF($B57="","",IFERROR(E57/D57,0))
A58: =IF('Équipes'!$B$46="","",1+COUNTIFS($K$14:$K$113,">"&K58)+COUNTIFS($K$14:$K$113,K58,$J$14:$J$113,">"&J58)) | B58: =IF('Équipes'!$B$46="","",'Équipes'!$B$46) | C58: =IF($B58="","",IFERROR(VLOOKUP($B58,'Équipes'!$B$2:$G$101,6,FALSE),"")) | D58: =IF($B58="","",COUNTIFS('Matchs'!$F$2:$F$101,$B58,'Matchs'!$J$2:$J$101,"Joué")+COUNTIFS('Matchs'!$G$2:$G$101,$B58,'Matchs'!$J$2:$J$101,"Joué")) | E58: =IF($B58="","",COUNTIFS('Matchs'!$F$2:$F$101,$B58,'Matchs'!$J$2:$J$101,"Joué",'Matchs'!$L$2:$L$101,3)+COUNTIFS('Matchs'!$G$2:$G$101,$B58,'Matchs'!$J$2:$J$101,"Joué",'Matchs'!$M$2:$M$101,3)) | F58: =IF($B58="","",COUNTIFS('Matchs'!$F$2:$F$101,$B58,'Matchs'!$J$2:$J$101,"Joué",'Matchs'!$L$2:$L$101,1)+COUNTIFS('Matchs'!$G$2:$G$101,$B58,'Matchs'!$J$2:$J$101,"Joué",'Matchs'!$M$2:$M$101,1)) | G58: =IF($B58="","",D58-E58-F58) | H58: =IF($B58="","",SUMPRODUCT(('Matchs'!$F$2:$F$101=$B58)*('Matchs'!$J$2:$J$101="Joué")*'Matchs'!$H$2:$H$101)+SUMPRODUCT(('Matchs'!$G$2:$G$101=$B58)*('Matchs'!$J$2:$J$101="Joué")*'Matchs'!$I$2:$I$101)) | I58: =IF($B58="","",SUMPRODUCT(('Matchs'!$F$2:$F$101=$B58)*('Matchs'!$J$2:$J$101="Joué")*'Matchs'!$I$2:$I$101)+SUMPRODUCT(('Matchs'!$G$2:$G$101=$B58)*('Matchs'!$J$2:$J$101="Joué")*'Matchs'!$H$2:$H$101)) | J58: =IF($B58="","",H58-I58) | K58: =IF($B58="","",SUMIF('Matchs'!$F$2:$F$101,$B58,'Matchs'!$L$2:$L$101)+SUMIF('Matchs'!$G$2:$G$101,$B58,'Matchs'!$M$2:$M$101)) | L58: =IF($B58="","",IFERROR(E58/D58,0))
A59: =IF('Équipes'!$B$47="","",1+COUNTIFS($K$14:$K$113,">"&K59)+COUNTIFS($K$14:$K$113,K59,$J$14:$J$113,">"&J59)) | B59: =IF('Équipes'!$B$47="","",'Équipes'!$B$47) | C59: =IF($B59="","",IFERROR(VLOOKUP($B59,'Équipes'!$B$2:$G$101,6,FALSE),"")) | D59: =IF($B59="","",COUNTIFS('Matchs'!$F$2:$F$101,$B59,'Matchs'!$J$2:$J$101,"Joué")+COUNTIFS('Matchs'!$G$2:$G$101,$B59,'Matchs'!$J$2:$J$101,"Joué")) | E59: =IF($B59="","",COUNTIFS('Matchs'!$F$2:$F$101,$B59,'Matchs'!$J$2:$J$101,"Joué",'Matchs'!$L$2:$L$101,3)+COUNTIFS('Matchs'!$G$2:$G$101,$B59,'Matchs'!$J$2:$J$101,"Joué",'Matchs'!$M$2:$M$101,3)) | F59: =IF($B59="","",COUNTIFS('Matchs'!$F$2:$F$101,$B59,'Matchs'!$J$2:$J$101,"Joué",'Matchs'!$L$2:$L$101,1)+COUNTIFS('Matchs'!$G$2:$G$101,$B59,'Matchs'!$J$2:$J$101,"Joué",'Matchs'!$M$2:$M$101,1)) | G59: =IF($B59="","",D59-E59-F59) | H59: =IF($B59="","",SUMPRODUCT(('Matchs'!$F$2:$F$101=$B59)*('Matchs'!$J$2:$J$101="Joué")*'Matchs'!$H$2:$H$101)+SUMPRODUCT(('Matchs'!$G$2:$G$101=$B59)*('Matchs'!$J$2:$J$101="Joué")*'Matchs'!$I$2:$I$101)) | I59: =IF($B59="","",SUMPRODUCT(('Matchs'!$F$2:$F$101=$B59)*('Matchs'!$J$2:$J$101="Joué")*'Matchs'!$I$2:$I$101)+SUMPRODUCT(('Matchs'!$G$2:$G$101=$B59)*('Matchs'!$J$2:$J$101="Joué")*'Matchs'!$H$2:$H$101)) | J59: =IF($B59="","",H59-I59) | K59: =IF($B59="","",SUMIF('Matchs'!$F$2:$F$101,$B59,'Matchs'!$L$2:$L$101)+SUMIF('Matchs'!$G$2:$G$101,$B59,'Matchs'!$M$2:$M$101)) | L59: =IF($B59="","",IFERROR(E59/D59,0))
A60: =IF('Équipes'!$B$48="","",1+COUNTIFS($K$14:$K$113,">"&K60)+COUNTIFS($K$14:$K$113,K60,$J$14:$J$113,">"&J60)) | B60: =IF('Équipes'!$B$48="","",'Équipes'!$B$48) | C60: =IF($B60="","",IFERROR(VLOOKUP($B60,'Équipes'!$B$2:$G$101,6,FALSE),"")) | D60: =IF($B60="","",COUNTIFS('Matchs'!$F$2:$F$101,$B60,'Matchs'!$J$2:$J$101,"Joué")+COUNTIFS('Matchs'!$G$2:$G$101,$B60,'Matchs'!$J$2:$J$101,"Joué")) | E60: =IF($B60="","",COUNTIFS('Matchs'!$F$2:$F$101,$B60,'Matchs'!$J$2:$J$101,"Joué",'Matchs'!$L$2:$L$101,3)+COUNTIFS('Matchs'!$G$2:$G$101,$B60,'Matchs'!$J$2:$J$101,"Joué",'Matchs'!$M$2:$M$101,3)) | F60: =IF($B60="","",COUNTIFS('Matchs'!$F$2:$F$101,$B60,'Matchs'!$J$2:$J$101,"Joué",'Matchs'!$L$2:$L$101,1)+COUNTIFS('Matchs'!$G$2:$G$101,$B60,'Matchs'!$J$2:$J$101,"Joué",'Matchs'!$M$2:$M$101,1)) | G60: =IF($B60="","",D60-E60-F60) | H60: =IF($B60="","",SUMPRODUCT(('Matchs'!$F$2:$F$101=$B60)*('Matchs'!$J$2:$J$101="Joué")*'Matchs'!$H$2:$H$101)+SUMPRODUCT(('Matchs'!$G$2:$G$101=$B60)*('Matchs'!$J$2:$J$101="Joué")*'Matchs'!$I$2:$I$101)) | I60: =IF($B60="","",SUMPRODUCT(('Matchs'!$F$2:$F$101=$B60)*('Matchs'!$J$2:$J$101="Joué")*'Matchs'!$I$2:$I$101)+SUMPRODUCT(('Matchs'!$G$2:$G$101=$B60)*('Matchs'!$J$2:$J$101="Joué")*'Matchs'!$H$2:$H$101)) | J60: =IF($B60="","",H60-I60) | K60: =IF($B60="","",SUMIF('Matchs'!$F$2:$F$101,$B60,'Matchs'!$L$2:$L$101)+SUMIF('Matchs'!$G$2:$G$101,$B60,'Matchs'!$M$2:$M$101)) | L60: =IF($B60="","",IFERROR(E60/D60,0))
A61: =IF('Équipes'!$B$49="","",1+COUNTIFS($K$14:$K$113,">"&K61)+COUNTIFS($K$14:$K$113,K61,$J$14:$J$113,">"&J61)) | B61: =IF('Équipes'!$B$49="","",'Équipes'!$B$49) | C61: =IF($B61="","",IFERROR(VLOOKUP($B61,'Équipes'!$B$2:$G$101,6,FALSE),"")) | D61: =IF($B61="","",COUNTIFS('Matchs'!$F$2:$F$101,$B61,'Matchs'!$J$2:$J$101,"Joué")+COUNTIFS('Matchs'!$G$2:$G$101,$B61,'Matchs'!$J$2:$J$101,"Joué")) | E61: =IF($B61="","",COUNTIFS('Matchs'!$F$2:$F$101,$B61,'Matchs'!$J$2:$J$101,"Joué",'Matchs'!$L$2:$L$101,3)+COUNTIFS('Matchs'!$G$2:$G$101,$B61,'Matchs'!$J$2:$J$101,"Joué",'Matchs'!$M$2:$M$101,3)) | F61: =IF($B61="","",COUNTIFS('Matchs'!$F$2:$F$101,$B61,'Matchs'!$J$2:$J$101,"Joué",'Matchs'!$L$2:$L$101,1)+COUNTIFS('Matchs'!$G$2:$G$101,$B61,'Matchs'!$J$2:$J$101,"Joué",'Matchs'!$M$2:$M$101,1)) | G61: =IF($B61="","",D61-E61-F61) | H61: =IF($B61="","",SUMPRODUCT(('Matchs'!$F$2:$F$101=$B61)*('Matchs'!$J$2:$J$101="Joué")*'Matchs'!$H$2:$H$101)+SUMPRODUCT(('Matchs'!$G$2:$G$101=$B61)*('Matchs'!$J$2:$J$101="Joué")*'Matchs'!$I$2:$I$101)) | I61: =IF($B61="","",SUMPRODUCT(('Matchs'!$F$2:$F$101=$B61)*('Matchs'!$J$2:$J$101="Joué")*'Matchs'!$I$2:$I$101)+SUMPRODUCT(('Matchs'!$G$2:$G$101=$B61)*('Matchs'!$J$2:$J$101="Joué")*'Matchs'!$H$2:$H$101)) | J61: =IF($B61="","",H61-I61) | K61: =IF($B61="","",SUMIF('Matchs'!$F$2:$F$101,$B61,'Matchs'!$L$2:$L$101)+SUMIF('Matchs'!$G$2:$G$101,$B61,'Matchs'!$M$2:$M$101)) | L61: =IF($B61="","",IFERROR(E61/D61,0))
A62: =IF('Équipes'!$B$50="","",1+COUNTIFS($K$14:$K$113,">"&K62)+COUNTIFS($K$14:$K$113,K62,$J$14:$J$113,">"&J62)) | B62: =IF('Équipes'!$B$50="","",'Équipes'!$B$50) | C62: =IF($B62="","",IFERROR(VLOOKUP($B62,'Équipes'!$B$2:$G$101,6,FALSE),"")) | D62: =IF($B62="","",COUNTIFS('Matchs'!$F$2:$F$101,$B62,'Matchs'!$J$2:$J$101,"Joué")+COUNTIFS('Matchs'!$G$2:$G$101,$B62,'Matchs'!$J$2:$J$101,"Joué")) | E62: =IF($B62="","",COUNTIFS('Matchs'!$F$2:$F$101,$B62,'Matchs'!$J$2:$J$101,"Joué",'Matchs'!$L$2:$L$101,3)+COUNTIFS('Matchs'!$G$2:$G$101,$B62,'Matchs'!$J$2:$J$101,"Joué",'Matchs'!$M$2:$M$101,3)) | F62: =IF($B62="","",COUNTIFS('Matchs'!$F$2:$F$101,$B62,'Matchs'!$J$2:$J$101,"Joué",'Matchs'!$L$2:$L$101,1)+COUNTIFS('Matchs'!$G$2:$G$101,$B62,'Matchs'!$J$2:$J$101,"Joué",'Matchs'!$M$2:$M$101,1)) | G62: =IF($B62="","",D62-E62-F62) | H62: =IF($B62="","",SUMPRODUCT(('Matchs'!$F$2:$F$101=$B62)*('Matchs'!$J$2:$J$101="Joué")*'Matchs'!$H$2:$H$101)+SUMPRODUCT(('Matchs'!$G$2:$G$101=$B62)*('Matchs'!$J$2:$J$101="Joué")*'Matchs'!$I$2:$I$101)) | I62: =IF($B62="","",SUMPRODUCT(('Matchs'!$F$2:$F$101=$B62)*('Matchs'!$J$2:$J$101="Joué")*'Matchs'!$I$2:$I$101)+SUMPRODUCT(('Matchs'!$G$2:$G$101=$B62)*('Matchs'!$J$2:$J$101="Joué")*'Matchs'!$H$2:$H$101)) | J62: =IF($B62="","",H62-I62) | K62: =IF($B62="","",SUMIF('Matchs'!$F$2:$F$101,$B62,'Matchs'!$L$2:$L$101)+SUMIF('Matchs'!$G$2:$G$101,$B62,'Matchs'!$M$2:$M$101)) | L62: =IF($B62="","",IFERROR(E62/D62,0))
A63: =IF('Équipes'!$B$51="","",1+COUNTIFS($K$14:$K$113,">"&K63)+COUNTIFS($K$14:$K$113,K63,$J$14:$J$113,">"&J63)) | B63: =IF('Équipes'!$B$51="","",'Équipes'!$B$51) | C63: =IF($B63="","",IFERROR(VLOOKUP($B63,'Équipes'!$B$2:$G$101,6,FALSE),"")) | D63: =IF($B63="","",COUNTIFS('Matchs'!$F$2:$F$101,$B63,'Matchs'!$J$2:$J$101,"Joué")+COUNTIFS('Matchs'!$G$2:$G$101,$B63,'Matchs'!$J$2:$J$101,"Joué")) | E63: =IF($B63="","",COUNTIFS('Matchs'!$F$2:$F$101,$B63,'Matchs'!$J$2:$J$101,"Joué",'Matchs'!$L$2:$L$101,3)+COUNTIFS('Matchs'!$G$2:$G$101,$B63,'Matchs'!$J$2:$J$101,"Joué",'Matchs'!$M$2:$M$101,3)) | F63: =IF($B63="","",COUNTIFS('Matchs'!$F$2:$F$101,$B63,'Matchs'!$J$2:$J$101,"Joué",'Matchs'!$L$2:$L$101,1)+COUNTIFS('Matchs'!$G$2:$G$101,$B63,'Matchs'!$J$2:$J$101,"Joué",'Matchs'!$M$2:$M$101,1)) | G63: =IF($B63="","",D63-E63-F63) | H63: =IF($B63="","",SUMPRODUCT(('Matchs'!$F$2:$F$101=$B63)*('Matchs'!$J$2:$J$101="Joué")*'Matchs'!$H$2:$H$101)+SUMPRODUCT(('Matchs'!$G$2:$G$101=$B63)*('Matchs'!$J$2:$J$101="Joué")*'Matchs'!$I$2:$I$101)) | I63: =IF($B63="","",SUMPRODUCT(('Matchs'!$F$2:$F$101=$B63)*('Matchs'!$J$2:$J$101="Joué")*'Matchs'!$I$2:$I$101)+SUMPRODUCT(('Matchs'!$G$2:$G$101=$B63)*('Matchs'!$J$2:$J$101="Joué")*'Matchs'!$H$2:$H$101)) | J63: =IF($B63="","",H63-I63) | K63: =IF($B63="","",SUMIF('Matchs'!$F$2:$F$101,$B63,'Matchs'!$L$2:$L$101)+SUMIF('Matchs'!$G$2:$G$101,$B63,'Matchs'!$M$2:$M$101)) | L63: =IF($B63="","",IFERROR(E63/D63,0))
A64: =IF('Équipes'!$B$52="","",1+COUNTIFS($K$14:$K$113,">"&K64)+COUNTIFS($K$14:$K$113,K64,$J$14:$J$113,">"&J64)) | B64: =IF('Équipes'!$B$52="","",'Équipes'!$B$52) | C64: =IF($B64="","",IFERROR(VLOOKUP($B64,'Équipes'!$B$2:$G$101,6,FALSE),"")) | D64: =IF($B64="","",COUNTIFS('Matchs'!$F$2:$F$101,$B64,'Matchs'!$J$2:$J$101,"Joué")+COUNTIFS('Matchs'!$G$2:$G$101,$B64,'Matchs'!$J$2:$J$101,"Joué")) | E64: =IF($B64="","",COUNTIFS('Matchs'!$F$2:$F$101,$B64,'Matchs'!$J$2:$J$101,"Joué",'Matchs'!$L$2:$L$101,3)+COUNTIFS('Matchs'!$G$2:$G$101,$B64,'Matchs'!$J$2:$J$101,"Joué",'Matchs'!$M$2:$M$101,3)) | F64: =IF($B64="","",COUNTIFS('Matchs'!$F$2:$F$101,$B64,'Matchs'!$J$2:$J$101,"Joué",'Matchs'!$L$2:$L$101,1)+COUNTIFS('Matchs'!$G$2:$G$101,$B64,'Matchs'!$J$2:$J$101,"Joué",'Matchs'!$M$2:$M$101,1)) | G64: =IF($B64="","",D64-E64-F64) | H64: =IF($B64="","",SUMPRODUCT(('Matchs'!$F$2:$F$101=$B64)*('Matchs'!$J$2:$J$101="Joué")*'Matchs'!$H$2:$H$101)+SUMPRODUCT(('Matchs'!$G$2:$G$101=$B64)*('Matchs'!$J$2:$J$101="Joué")*'Matchs'!$I$2:$I$101)) | I64: =IF($B64="","",SUMPRODUCT(('Matchs'!$F$2:$F$101=$B64)*('Matchs'!$J$2:$J$101="Joué")*'Matchs'!$I$2:$I$101)+SUMPRODUCT(('Matchs'!$G$2:$G$101=$B64)*('Matchs'!$J$2:$J$101="Joué")*'Matchs'!$H$2:$H$101)) | J64: =IF($B64="","",H64-I64) | K64: =IF($B64="","",SUMIF('Matchs'!$F$2:$F$101,$B64,'Matchs'!$L$2:$L$101)+SUMIF('Matchs'!$G$2:$G$101,$B64,'Matchs'!$M$2:$M$101)) | L64: =IF($B64="","",IFERROR(E64/D64,0))
A65: =IF('Équipes'!$B$53="","",1+COUNTIFS($K$14:$K$113,">"&K65)+COUNTIFS($K$14:$K$113,K65,$J$14:$J$113,">"&J65)) | B65: =IF('Équipes'!$B$53="","",'Équipes'!$B$53) | C65: =IF($B65="","",IFERROR(VLOOKUP($B65,'Équipes'!$B$2:$G$101,6,FALSE),"")) | D65: =IF($B65="","",COUNTIFS('Matchs'!$F$2:$F$101,$B65,'Matchs'!$J$2:$J$101,"Joué")+COUNTIFS('Matchs'!$G$2:$G$101,$B65,'Matchs'!$J$2:$J$101,"Joué")) | E65: =IF($B65="","",COUNTIFS('Matchs'!$F$2:$F$101,$B65,'Matchs'!$J$2:$J$101,"Joué",'Matchs'!$L$2:$L$101,3)+COUNTIFS('Matchs'!$G$2:$G$101,$B65,'Matchs'!$J$2:$J$101,"Joué",'Matchs'!$M$2:$M$101,3)) | F65: =IF($B65="","",COUNTIFS('Matchs'!$F$2:$F$101,$B65,'Matchs'!$J$2:$J$101,"Joué",'Matchs'!$L$2:$L$101,1)+COUNTIFS('Matchs'!$G$2:$G$101,$B65,'Matchs'!$J$2:$J$101,"Joué",'Matchs'!$M$2:$M$101,1)) | G65: =IF($B65="","",D65-E65-F65) | H65: =IF($B65="","",SUMPRODUCT(('Matchs'!$F$2:$F$101=$B65)*('Matchs'!$J$2:$J$101="Joué")*'Matchs'!$H$2:$H$101)+SUMPRODUCT(('Matchs'!$G$2:$G$101=$B65)*('Matchs'!$J$2:$J$101="Joué")*'Matchs'!$I$2:$I$101)) | I65: =IF($B65="","",SUMPRODUCT(('Matchs'!$F$2:$F$101=$B65)*('Matchs'!$J$2:$J$101="Joué")*'Matchs'!$I$2:$I$101)+SUMPRODUCT(('Matchs'!$G$2:$G$101=$B65)*('Matchs'!$J$2:$J$101="Joué")*'Matchs'!$H$2:$H$101)) | J65: =IF($B65="","",H65-I65) | K65: =IF($B65="","",SUMIF('Matchs'!$F$2:$F$101,$B65,'Matchs'!$L$2:$L$101)+SUMIF('Matchs'!$G$2:$G$101,$B65,'Matchs'!$M$2:$M$101)) | L65: =IF($B65="","",IFERROR(E65/D65,0))
A66: =IF('Équipes'!$B$54="","",1+COUNTIFS($K$14:$K$113,">"&K66)+COUNTIFS($K$14:$K$113,K66,$J$14:$J$113,">"&J66)) | B66: =IF('Équipes'!$B$54="","",'Équipes'!$B$54) | C66: =IF($B66="","",IFERROR(VLOOKUP($B66,'Équipes'!$B$2:$G$101,6,FALSE),"")) | D66: =IF($B66="","",COUNTIFS('Matchs'!$F$2:$F$101,$B66,'Matchs'!$J$2:$J$101,"Joué")+COUNTIFS('Matchs'!$G$2:$G$101,$B66,'Matchs'!$J$2:$J$101,"Joué")) | E66: =IF($B66="","",COUNTIFS('Matchs'!$F$2:$F$101,$B66,'Matchs'!$J$2:$J$101,"Joué",'Matchs'!$L$2:$L$101,3)+COUNTIFS('Matchs'!$G$2:$G$101,$B66,'Matchs'!$J$2:$J$101,"Joué",'Matchs'!$M$2:$M$101,3)) | F66: =IF($B66="","",COUNTIFS('Matchs'!$F$2:$F$101,$B66,'Matchs'!$J$2:$J$101,"Joué",'Matchs'!$L$2:$L$101,1)+COUNTIFS('Matchs'!$G$2:$G$101,$B66,'Matchs'!$J$2:$J$101,"Joué",'Matchs'!$M$2:$M$101,1)) | G66: =IF($B66="","",D66-E66-F66) | H66: =IF($B66="","",SUMPRODUCT(('Matchs'!$F$2:$F$101=$B66)*('Matchs'!$J$2:$J$101="Joué")*'Matchs'!$H$2:$H$101)+SUMPRODUCT(('Matchs'!$G$2:$G$101=$B66)*('Matchs'!$J$2:$J$101="Joué")*'Matchs'!$I$2:$I$101)) | I66: =IF($B66="","",SUMPRODUCT(('Matchs'!$F$2:$F$101=$B66)*('Matchs'!$J$2:$J$101="Joué")*'Matchs'!$I$2:$I$101)+SUMPRODUCT(('Matchs'!$G$2:$G$101=$B66)*('Matchs'!$J$2:$J$101="Joué")*'Matchs'!$H$2:$H$101)) | J66: =IF($B66="","",H66-I66) | K66: =IF($B66="","",SUMIF('Matchs'!$F$2:$F$101,$B66,'Matchs'!$L$2:$L$101)+SUMIF('Matchs'!$G$2:$G$101,$B66,'Matchs'!$M$2:$M$101)) | L66: =IF($B66="","",IFERROR(E66/D66,0))
A67: =IF('Équipes'!$B$55="","",1+COUNTIFS($K$14:$K$113,">"&K67)+COUNTIFS($K$14:$K$113,K67,$J$14:$J$113,">"&J67)) | B67: =IF('Équipes'!$B$55="","",'Équipes'!$B$55) | C67: =IF($B67="","",IFERROR(VLOOKUP($B67,'Équipes'!$B$2:$G$101,6,FALSE),"")) | D67: =IF($B67="","",COUNTIFS('Matchs'!$F$2:$F$101,$B67,'Matchs'!$J$2:$J$101,"Joué")+COUNTIFS('Matchs'!$G$2:$G$101,$B67,'Matchs'!$J$2:$J$101,"Joué")) | E67: =IF($B67="","",COUNTIFS('Matchs'!$F$2:$F$101,$B67,'Matchs'!$J$2:$J$101,"Joué",'Matchs'!$L$2:$L$101,3)+COUNTIFS('Matchs'!$G$2:$G$101,$B67,'Matchs'!$J$2:$J$101,"Joué",'Matchs'!$M$2:$M$101,3)) | F67: =IF($B67="","",COUNTIFS('Matchs'!$F$2:$F$101,$B67,'Matchs'!$J$2:$J$101,"Joué",'Matchs'!$L$2:$L$101,1)+COUNTIFS('Matchs'!$G$2:$G$101,$B67,'Matchs'!$J$2:$J$101,"Joué",'Matchs'!$M$2:$M$101,1)) | G67: =IF($B67="","",D67-E67-F67) | H67: =IF($B67="","",SUMPRODUCT(('Matchs'!$F$2:$F$101=$B67)*('Matchs'!$J$2:$J$101="Joué")*'Matchs'!$H$2:$H$101)+SUMPRODUCT(('Matchs'!$G$2:$G$101=$B67)*('Matchs'!$J$2:$J$101="Joué")*'Matchs'!$I$2:$I$101)) | I67: =IF($B67="","",SUMPRODUCT(('Matchs'!$F$2:$F$101=$B67)*('Matchs'!$J$2:$J$101="Joué")*'Matchs'!$I$2:$I$101)+SUMPRODUCT(('Matchs'!$G$2:$G$101=$B67)*('Matchs'!$J$2:$J$101="Joué")*'Matchs'!$H$2:$H$101)) | J67: =IF($B67="","",H67-I67) | K67: =IF($B67="","",SUMIF('Matchs'!$F$2:$F$101,$B67,'Matchs'!$L$2:$L$101)+SUMIF('Matchs'!$G$2:$G$101,$B67,'Matchs'!$M$2:$M$101)) | L67: =IF($B67="","",IFERROR(E67/D67,0))
A68: =IF('Équipes'!$B$56="","",1+COUNTIFS($K$14:$K$113,">"&K68)+COUNTIFS($K$14:$K$113,K68,$J$14:$J$113,">"&J68)) | B68: =IF('Équipes'!$B$56="","",'Équipes'!$B$56) | C68: =IF($B68="","",IFERROR(VLOOKUP($B68,'Équipes'!$B$2:$G$101,6,FALSE),"")) | D68: =IF($B68="","",COUNTIFS('Matchs'!$F$2:$F$101,$B68,'Matchs'!$J$2:$J$101,"Joué")+COUNTIFS('Matchs'!$G$2:$G$101,$B68,'Matchs'!$J$2:$J$101,"Joué")) | E68: =IF($B68="","",COUNTIFS('Matchs'!$F$2:$F$101,$B68,'Matchs'!$J$2:$J$101,"Joué",'Matchs'!$L$2:$L$101,3)+COUNTIFS('Matchs'!$G$2:$G$101,$B68,'Matchs'!$J$2:$J$101,"Joué",'Matchs'!$M$2:$M$101,3)) | F68: =IF($B68="","",COUNTIFS('Matchs'!$F$2:$F$101,$B68,'Matchs'!$J$2:$J$101,"Joué",'Matchs'!$L$2:$L$101,1)+COUNTIFS('Matchs'!$G$2:$G$101,$B68,'Matchs'!$J$2:$J$101,"Joué",'Matchs'!$M$2:$M$101,1)) | G68: =IF($B68="","",D68-E68-F68) | H68: =IF($B68="","",SUMPRODUCT(('Matchs'!$F$2:$F$101=$B68)*('Matchs'!$J$2:$J$101="Joué")*'Matchs'!$H$2:$H$101)+SUMPRODUCT(('Matchs'!$G$2:$G$101=$B68)*('Matchs'!$J$2:$J$101="Joué")*'Matchs'!$I$2:$I$101)) | I68: =IF($B68="","",SUMPRODUCT(('Matchs'!$F$2:$F$101=$B68)*('Matchs'!$J$2:$J$101="Joué")*'Matchs'!$I$2:$I$101)+SUMPRODUCT(('Matchs'!$G$2:$G$101=$B68)*('Matchs'!$J$2:$J$101="Joué")*'Matchs'!$H$2:$H$101)) | J68: =IF($B68="","",H68-I68) | K68: =IF($B68="","",SUMIF('Matchs'!$F$2:$F$101,$B68,'Matchs'!$L$2:$L$101)+SUMIF('Matchs'!$G$2:$G$101,$B68,'Matchs'!$M$2:$M$101)) | L68: =IF($B68="","",IFERROR(E68/D68,0))
A69: =IF('Équipes'!$B$57="","",1+COUNTIFS($K$14:$K$113,">"&K69)+COUNTIFS($K$14:$K$113,K69,$J$14:$J$113,">"&J69)) | B69: =IF('Équipes'!$B$57="","",'Équipes'!$B$57) | C69: =IF($B69="","",IFERROR(VLOOKUP($B69,'Équipes'!$B$2:$G$101,6,FALSE),"")) | D69: =IF($B69="","",COUNTIFS('Matchs'!$F$2:$F$101,$B69,'Matchs'!$J$2:$J$101,"Joué")+COUNTIFS('Matchs'!$G$2:$G$101,$B69,'Matchs'!$J$2:$J$101,"Joué")) | E69: =IF($B69="","",COUNTIFS('Matchs'!$F$2:$F$101,$B69,'Matchs'!$J$2:$J$101,"Joué",'Matchs'!$L$2:$L$101,3)+COUNTIFS('Matchs'!$G$2:$G$101,$B69,'Matchs'!$J$2:$J$101,"Joué",'Matchs'!$M$2:$M$101,3)) | F69: =IF($B69="","",COUNTIFS('Matchs'!$F$2:$F$101,$B69,'Matchs'!$J$2:$J$101,"Joué",'Matchs'!$L$2:$L$101,1)+COUNTIFS('Matchs'!$G$2:$G$101,$B69,'Matchs'!$J$2:$J$101,"Joué",'Matchs'!$M$2:$M$101,1)) | G69: =IF($B69="","",D69-E69-F69) | H69: =IF($B69="","",SUMPRODUCT(('Matchs'!$F$2:$F$101=$B69)*('Matchs'!$J$2:$J$101="Joué")*'Matchs'!$H$2:$H$101)+SUMPRODUCT(('Matchs'!$G$2:$G$101=$B69)*('Matchs'!$J$2:$J$101="Joué")*'Matchs'!$I$2:$I$101)) | I69: =IF($B69="","",SUMPRODUCT(('Matchs'!$F$2:$F$101=$B69)*('Matchs'!$J$2:$J$101="Joué")*'Matchs'!$I$2:$I$101)+SUMPRODUCT(('Matchs'!$G$2:$G$101=$B69)*('Matchs'!$J$2:$J$101="Joué")*'Matchs'!$H$2:$H$101)) | J69: =IF($B69="","",H69-I69) | K69: =IF($B69="","",SUMIF('Matchs'!$F$2:$F$101,$B69,'Matchs'!$L$2:$L$101)+SUMIF('Matchs'!$G$2:$G$101,$B69,'Matchs'!$M$2:$M$101)) | L69: =IF($B69="","",IFERROR(E69/D69,0))
A70: =IF('Équipes'!$B$58="","",1+COUNTIFS($K$14:$K$113,">"&K70)+COUNTIFS($K$14:$K$113,K70,$J$14:$J$113,">"&J70)) | B70: =IF('Équipes'!$B$58="","",'Équipes'!$B$58) | C70: =IF($B70="","",IFERROR(VLOOKUP($B70,'Équipes'!$B$2:$G$101,6,FALSE),"")) | D70: =IF($B70="","",COUNTIFS('Matchs'!$F$2:$F$101,$B70,'Matchs'!$J$2:$J$101,"Joué")+COUNTIFS('Matchs'!$G$2:$G$101,$B70,'Matchs'!$J$2:$J$101,"Joué")) | E70: =IF($B70="","",COUNTIFS('Matchs'!$F$2:$F$101,$B70,'Matchs'!$J$2:$J$101,"Joué",'Matchs'!$L$2:$L$101,3)+COUNTIFS('Matchs'!$G$2:$G$101,$B70,'Matchs'!$J$2:$J$101,"Joué",'Matchs'!$M$2:$M$101,3)) | F70: =IF($B70="","",COUNTIFS('Matchs'!$F$2:$F$101,$B70,'Matchs'!$J$2:$J$101,"Joué",'Matchs'!$L$2:$L$101,1)+COUNTIFS('Matchs'!$G$2:$G$101,$B70,'Matchs'!$J$2:$J$101,"Joué",'Matchs'!$M$2:$M$101,1)) | G70: =IF($B70="","",D70-E70-F70) | H70: =IF($B70="","",SUMPRODUCT(('Matchs'!$F$2:$F$101=$B70)*('Matchs'!$J$2:$J$101="Joué")*'Matchs'!$H$2:$H$101)+SUMPRODUCT(('Matchs'!$G$2:$G$101=$B70)*('Matchs'!$J$2:$J$101="Joué")*'Matchs'!$I$2:$I$101)) | I70: =IF($B70="","",SUMPRODUCT(('Matchs'!$F$2:$F$101=$B70)*('Matchs'!$J$2:$J$101="Joué")*'Matchs'!$I$2:$I$101)+SUMPRODUCT(('Matchs'!$G$2:$G$101=$B70)*('Matchs'!$J$2:$J$101="Joué")*'Matchs'!$H$2:$H$101)) | J70: =IF($B70="","",H70-I70) | K70: =IF($B70="","",SUMIF('Matchs'!$F$2:$F$101,$B70,'Matchs'!$L$2:$L$101)+SUMIF('Matchs'!$G$2:$G$101,$B70,'Matchs'!$M$2:$M$101)) | L70: =IF($B70="","",IFERROR(E70/D70,0))
A71: =IF('Équipes'!$B$59="","",1+COUNTIFS($K$14:$K$113,">"&K71)+COUNTIFS($K$14:$K$113,K71,$J$14:$J$113,">"&J71)) | B71: =IF('Équipes'!$B$59="","",'Équipes'!$B$59) | C71: =IF($B71="","",IFERROR(VLOOKUP($B71,'Équipes'!$B$2:$G$101,6,FALSE),"")) | D71: =IF($B71="","",COUNTIFS('Matchs'!$F$2:$F$101,$B71,'Matchs'!$J$2:$J$101,"Joué")+COUNTIFS('Matchs'!$G$2:$G$101,$B71,'Matchs'!$J$2:$J$101,"Joué")) | E71: =IF($B71="","",COUNTIFS('Matchs'!$F$2:$F$101,$B71,'Matchs'!$J$2:$J$101,"Joué",'Matchs'!$L$2:$L$101,3)+COUNTIFS('Matchs'!$G$2:$G$101,$B71,'Matchs'!$J$2:$J$101,"Joué",'Matchs'!$M$2:$M$101,3)) | F71: =IF($B71="","",COUNTIFS('Matchs'!$F$2:$F$101,$B71,'Matchs'!$J$2:$J$101,"Joué",'Matchs'!$L$2:$L$101,1)+COUNTIFS('Matchs'!$G$2:$G$101,$B71,'Matchs'!$J$2:$J$101,"Joué",'Matchs'!$M$2:$M$101,1)) | G71: =IF($B71="","",D71-E71-F71) | H71: =IF($B71="","",SUMPRODUCT(('Matchs'!$F$2:$F$101=$B71)*('Matchs'!$J$2:$J$101="Joué")*'Matchs'!$H$2:$H$101)+SUMPRODUCT(('Matchs'!$G$2:$G$101=$B71)*('Matchs'!$J$2:$J$101="Joué")*'Matchs'!$I$2:$I$101)) | I71: =IF($B71="","",SUMPRODUCT(('Matchs'!$F$2:$F$101=$B71)*('Matchs'!$J$2:$J$101="Joué")*'Matchs'!$I$2:$I$101)+SUMPRODUCT(('Matchs'!$G$2:$G$101=$B71)*('Matchs'!$J$2:$J$101="Joué")*'Matchs'!$H$2:$H$101)) | J71: =IF($B71="","",H71-I71) | K71: =IF($B71="","",SUMIF('Matchs'!$F$2:$F$101,$B71,'Matchs'!$L$2:$L$101)+SUMIF('Matchs'!$G$2:$G$101,$B71,'Matchs'!$M$2:$M$101)) | L71: =IF($B71="","",IFERROR(E71/D71,0))
A72: =IF('Équipes'!$B$60="","",1+COUNTIFS($K$14:$K$113,">"&K72)+COUNTIFS($K$14:$K$113,K72,$J$14:$J$113,">"&J72)) | B72: =IF('Équipes'!$B$60="","",'Équipes'!$B$60) | C72: =IF($B72="","",IFERROR(VLOOKUP($B72,'Équipes'!$B$2:$G$101,6,FALSE),"")) | D72: =IF($B72="","",COUNTIFS('Matchs'!$F$2:$F$101,$B72,'Matchs'!$J$2:$J$101,"Joué")+COUNTIFS('Matchs'!$G$2:$G$101,$B72,'Matchs'!$J$2:$J$101,"Joué")) | E72: =IF($B72="","",COUNTIFS('Matchs'!$F$2:$F$101,$B72,'Matchs'!$J$2:$J$101,"Joué",'Matchs'!$L$2:$L$101,3)+COUNTIFS('Matchs'!$G$2:$G$101,$B72,'Matchs'!$J$2:$J$101,"Joué",'Matchs'!$M$2:$M$101,3)) | F72: =IF($B72="","",COUNTIFS('Matchs'!$F$2:$F$101,$B72,'Matchs'!$J$2:$J$101,"Joué",'Matchs'!$L$2:$L$101,1)+COUNTIFS('Matchs'!$G$2:$G$101,$B72,'Matchs'!$J$2:$J$101,"Joué",'Matchs'!$M$2:$M$101,1)) | G72: =IF($B72="","",D72-E72-F72) | H72: =IF($B72="","",SUMPRODUCT(('Matchs'!$F$2:$F$101=$B72)*('Matchs'!$J$2:$J$101="Joué")*'Matchs'!$H$2:$H$101)+SUMPRODUCT(('Matchs'!$G$2:$G$101=$B72)*('Matchs'!$J$2:$J$101="Joué")*'Matchs'!$I$2:$I$101)) | I72: =IF($B72="","",SUMPRODUCT(('Matchs'!$F$2:$F$101=$B72)*('Matchs'!$J$2:$J$101="Joué")*'Matchs'!$I$2:$I$101)+SUMPRODUCT(('Matchs'!$G$2:$G$101=$B72)*('Matchs'!$J$2:$J$101="Joué")*'Matchs'!$H$2:$H$101)) | J72: =IF($B72="","",H72-I72) | K72: =IF($B72="","",SUMIF('Matchs'!$F$2:$F$101,$B72,'Matchs'!$L$2:$L$101)+SUMIF('Matchs'!$G$2:$G$101,$B72,'Matchs'!$M$2:$M$101)) | L72: =IF($B72="","",IFERROR(E72/D72,0))
A73: =IF('Équipes'!$B$61="","",1+COUNTIFS($K$14:$K$113,">"&K73)+COUNTIFS($K$14:$K$113,K73,$J$14:$J$113,">"&J73)) | B73: =IF('Équipes'!$B$61="","",'Équipes'!$B$61) | C73: =IF($B73="","",IFERROR(VLOOKUP($B73,'Équipes'!$B$2:$G$101,6,FALSE),"")) | D73: =IF($B73="","",COUNTIFS('Matchs'!$F$2:$F$101,$B73,'Matchs'!$J$2:$J$101,"Joué")+COUNTIFS('Matchs'!$G$2:$G$101,$B73,'Matchs'!$J$2:$J$101,"Joué")) | E73: =IF($B73="","",COUNTIFS('Matchs'!$F$2:$F$101,$B73,'Matchs'!$J$2:$J$101,"Joué",'Matchs'!$L$2:$L$101,3)+COUNTIFS('Matchs'!$G$2:$G$101,$B73,'Matchs'!$J$2:$J$101,"Joué",'Matchs'!$M$2:$M$101,3)) | F73: =IF($B73="","",COUNTIFS('Matchs'!$F$2:$F$101,$B73,'Matchs'!$J$2:$J$101,"Joué",'Matchs'!$L$2:$L$101,1)+COUNTIFS('Matchs'!$G$2:$G$101,$B73,'Matchs'!$J$2:$J$101,"Joué",'Matchs'!$M$2:$M$101,1)) | G73: =IF($B73="","",D73-E73-F73) | H73: =IF($B73="","",SUMPRODUCT(('Matchs'!$F$2:$F$101=$B73)*('Matchs'!$J$2:$J$101="Joué")*'Matchs'!$H$2:$H$101)+SUMPRODUCT(('Matchs'!$G$2:$G$101=$B73)*('Matchs'!$J$2:$J$101="Joué")*'Matchs'!$I$2:$I$101)) | I73: =IF($B73="","",SUMPRODUCT(('Matchs'!$F$2:$F$101=$B73)*('Matchs'!$J$2:$J$101="Joué")*'Matchs'!$I$2:$I$101)+SUMPRODUCT(('Matchs'!$G$2:$G$101=$B73)*('Matchs'!$J$2:$J$101="Joué")*'Matchs'!$H$2:$H$101)) | J73: =IF($B73="","",H73-I73) | K73: =IF($B73="","",SUMIF('Matchs'!$F$2:$F$101,$B73,'Matchs'!$L$2:$L$101)+SUMIF('Matchs'!$G$2:$G$101,$B73,'Matchs'!$M$2:$M$101)) | L73: =IF($B73="","",IFERROR(E73/D73,0))
A74: =IF('Équipes'!$B$62="","",1+COUNTIFS($K$14:$K$113,">"&K74)+COUNTIFS($K$14:$K$113,K74,$J$14:$J$113,">"&J74)) | B74: =IF('Équipes'!$B$62="","",'Équipes'!$B$62) | C74: =IF($B74="","",IFERROR(VLOOKUP($B74,'Équipes'!$B$2:$G$101,6,FALSE),"")) | D74: =IF($B74="","",COUNTIFS('Matchs'!$F$2:$F$101,$B74,'Matchs'!$J$2:$J$101,"Joué")+COUNTIFS('Matchs'!$G$2:$G$101,$B74,'Matchs'!$J$2:$J$101,"Joué")) | E74: =IF($B74="","",COUNTIFS('Matchs'!$F$2:$F$101,$B74,'Matchs'!$J$2:$J$101,"Joué",'Matchs'!$L$2:$L$101,3)+COUNTIFS('Matchs'!$G$2:$G$101,$B74,'Matchs'!$J$2:$J$101,"Joué",'Matchs'!$M$2:$M$101,3)) | F74: =IF($B74="","",COUNTIFS('Matchs'!$F$2:$F$101,$B74,'Matchs'!$J$2:$J$101,"Joué",'Matchs'!$L$2:$L$101,1)+COUNTIFS('Matchs'!$G$2:$G$101,$B74,'Matchs'!$J$2:$J$101,"Joué",'Matchs'!$M$2:$M$101,1)) | G74: =IF($B74="","",D74-E74-F74) | H74: =IF($B74="","",SUMPRODUCT(('Matchs'!$F$2:$F$101=$B74)*('Matchs'!$J$2:$J$101="Joué")*'Matchs'!$H$2:$H$101)+SUMPRODUCT(('Matchs'!$G$2:$G$101=$B74)*('Matchs'!$J$2:$J$101="Joué")*'Matchs'!$I$2:$I$101)) | I74: =IF($B74="","",SUMPRODUCT(('Matchs'!$F$2:$F$101=$B74)*('Matchs'!$J$2:$J$101="Joué")*'Matchs'!$I$2:$I$101)+SUMPRODUCT(('Matchs'!$G$2:$G$101=$B74)*('Matchs'!$J$2:$J$101="Joué")*'Matchs'!$H$2:$H$101)) | J74: =IF($B74="","",H74-I74) | K74: =IF($B74="","",SUMIF('Matchs'!$F$2:$F$101,$B74,'Matchs'!$L$2:$L$101)+SUMIF('Matchs'!$G$2:$G$101,$B74,'Matchs'!$M$2:$M$101)) | L74: =IF($B74="","",IFERROR(E74/D74,0))
A75: =IF('Équipes'!$B$63="","",1+COUNTIFS($K$14:$K$113,">"&K75)+COUNTIFS($K$14:$K$113,K75,$J$14:$J$113,">"&J75)) | B75: =IF('Équipes'!$B$63="","",'Équipes'!$B$63) | C75: =IF($B75="","",IFERROR(VLOOKUP($B75,'Équipes'!$B$2:$G$101,6,FALSE),"")) | D75: =IF($B75="","",COUNTIFS('Matchs'!$F$2:$F$101,$B75,'Matchs'!$J$2:$J$101,"Joué")+COUNTIFS('Matchs'!$G$2:$G$101,$B75,'Matchs'!$J$2:$J$101,"Joué")) | E75: =IF($B75="","",COUNTIFS('Matchs'!$F$2:$F$101,$B75,'Matchs'!$J$2:$J$101,"Joué",'Matchs'!$L$2:$L$101,3)+COUNTIFS('Matchs'!$G$2:$G$101,$B75,'Matchs'!$J$2:$J$101,"Joué",'Matchs'!$M$2:$M$101,3)) | F75: =IF($B75="","",COUNTIFS('Matchs'!$F$2:$F$101,$B75,'Matchs'!$J$2:$J$101,"Joué",'Matchs'!$L$2:$L$101,1)+COUNTIFS('Matchs'!$G$2:$G$101,$B75,'Matchs'!$J$2:$J$101,"Joué",'Matchs'!$M$2:$M$101,1)) | G75: =IF($B75="","",D75-E75-F75) | H75: =IF($B75="","",SUMPRODUCT(('Matchs'!$F$2:$F$101=$B75)*('Matchs'!$J$2:$J$101="Joué")*'Matchs'!$H$2:$H$101)+SUMPRODUCT(('Matchs'!$G$2:$G$101=$B75)*('Matchs'!$J$2:$J$101="Joué")*'Matchs'!$I$2:$I$101)) | I75: =IF($B75="","",SUMPRODUCT(('Matchs'!$F$2:$F$101=$B75)*('Matchs'!$J$2:$J$101="Joué")*'Matchs'!$I$2:$I$101)+SUMPRODUCT(('Matchs'!$G$2:$G$101=$B75)*('Matchs'!$J$2:$J$101="Joué")*'Matchs'!$H$2:$H$101)) | J75: =IF($B75="","",H75-I75) | K75: =IF($B75="","",SUMIF('Matchs'!$F$2:$F$101,$B75,'Matchs'!$L$2:$L$101)+SUMIF('Matchs'!$G$2:$G$101,$B75,'Matchs'!$M$2:$M$101)) | L75: =IF($B75="","",IFERROR(E75/D75,0))
A76: =IF('Équipes'!$B$64="","",1+COUNTIFS($K$14:$K$113,">"&K76)+COUNTIFS($K$14:$K$113,K76,$J$14:$J$113,">"&J76)) | B76: =IF('Équipes'!$B$64="","",'Équipes'!$B$64) | C76: =IF($B76="","",IFERROR(VLOOKUP($B76,'Équipes'!$B$2:$G$101,6,FALSE),"")) | D76: =IF($B76="","",COUNTIFS('Matchs'!$F$2:$F$101,$B76,'Matchs'!$J$2:$J$101,"Joué")+COUNTIFS('Matchs'!$G$2:$G$101,$B76,'Matchs'!$J$2:$J$101,"Joué")) | E76: =IF($B76="","",COUNTIFS('Matchs'!$F$2:$F$101,$B76,'Matchs'!$J$2:$J$101,"Joué",'Matchs'!$L$2:$L$101,3)+COUNTIFS('Matchs'!$G$2:$G$101,$B76,'Matchs'!$J$2:$J$101,"Joué",'Matchs'!$M$2:$M$101,3)) | F76: =IF($B76="","",COUNTIFS('Matchs'!$F$2:$F$101,$B76,'Matchs'!$J$2:$J$101,"Joué",'Matchs'!$L$2:$L$101,1)+COUNTIFS('Matchs'!$G$2:$G$101,$B76,'Matchs'!$J$2:$J$101,"Joué",'Matchs'!$M$2:$M$101,1)) | G76: =IF($B76="","",D76-E76-F76) | H76: =IF($B76="","",SUMPRODUCT(('Matchs'!$F$2:$F$101=$B76)*('Matchs'!$J$2:$J$101="Joué")*'Matchs'!$H$2:$H$101)+SUMPRODUCT(('Matchs'!$G$2:$G$101=$B76)*('Matchs'!$J$2:$J$101="Joué")*'Matchs'!$I$2:$I$101)) | I76: =IF($B76="","",SUMPRODUCT(('Matchs'!$F$2:$F$101=$B76)*('Matchs'!$J$2:$J$101="Joué")*'Matchs'!$I$2:$I$101)+SUMPRODUCT(('Matchs'!$G$2:$G$101=$B76)*('Matchs'!$J$2:$J$101="Joué")*'Matchs'!$H$2:$H$101)) | J76: =IF($B76="","",H76-I76) | K76: =IF($B76="","",SUMIF('Matchs'!$F$2:$F$101,$B76,'Matchs'!$L$2:$L$101)+SUMIF('Matchs'!$G$2:$G$101,$B76,'Matchs'!$M$2:$M$101)) | L76: =IF($B76="","",IFERROR(E76/D76,0))
A77: =IF('Équipes'!$B$65="","",1+COUNTIFS($K$14:$K$113,">"&K77)+COUNTIFS($K$14:$K$113,K77,$J$14:$J$113,">"&J77)) | B77: =IF('Équipes'!$B$65="","",'Équipes'!$B$65) | C77: =IF($B77="","",IFERROR(VLOOKUP($B77,'Équipes'!$B$2:$G$101,6,FALSE),"")) | D77: =IF($B77="","",COUNTIFS('Matchs'!$F$2:$F$101,$B77,'Matchs'!$J$2:$J$101,"Joué")+COUNTIFS('Matchs'!$G$2:$G$101,$B77,'Matchs'!$J$2:$J$101,"Joué")) | E77: =IF($B77="","",COUNTIFS('Matchs'!$F$2:$F$101,$B77,'Matchs'!$J$2:$J$101,"Joué",'Matchs'!$L$2:$L$101,3)+COUNTIFS('Matchs'!$G$2:$G$101,$B77,'Matchs'!$J$2:$J$101,"Joué",'Matchs'!$M$2:$M$101,3)) | F77: =IF($B77="","",COUNTIFS('Matchs'!$F$2:$F$101,$B77,'Matchs'!$J$2:$J$101,"Joué",'Matchs'!$L$2:$L$101,1)+COUNTIFS('Matchs'!$G$2:$G$101,$B77,'Matchs'!$J$2:$J$101,"Joué",'Matchs'!$M$2:$M$101,1)) | G77: =IF($B77="","",D77-E77-F77) | H77: =IF($B77="","",SUMPRODUCT(('Matchs'!$F$2:$F$101=$B77)*('Matchs'!$J$2:$J$101="Joué")*'Matchs'!$H$2:$H$101)+SUMPRODUCT(('Matchs'!$G$2:$G$101=$B77)*('Matchs'!$J$2:$J$101="Joué")*'Matchs'!$I$2:$I$101)) | I77: =IF($B77="","",SUMPRODUCT(('Matchs'!$F$2:$F$101=$B77)*('Matchs'!$J$2:$J$101="Joué")*'Matchs'!$I$2:$I$101)+SUMPRODUCT(('Matchs'!$G$2:$G$101=$B77)*('Matchs'!$J$2:$J$101="Joué")*'Matchs'!$H$2:$H$101)) | J77: =IF($B77="","",H77-I77) | K77: =IF($B77="","",SUMIF('Matchs'!$F$2:$F$101,$B77,'Matchs'!$L$2:$L$101)+SUMIF('Matchs'!$G$2:$G$101,$B77,'Matchs'!$M$2:$M$101)) | L77: =IF($B77="","",IFERROR(E77/D77,0))
A78: =IF('Équipes'!$B$66="","",1+COUNTIFS($K$14:$K$113,">"&K78)+COUNTIFS($K$14:$K$113,K78,$J$14:$J$113,">"&J78)) | B78: =IF('Équipes'!$B$66="","",'Équipes'!$B$66) | C78: =IF($B78="","",IFERROR(VLOOKUP($B78,'Équipes'!$B$2:$G$101,6,FALSE),"")) | D78: =IF($B78="","",COUNTIFS('Matchs'!$F$2:$F$101,$B78,'Matchs'!$J$2:$J$101,"Joué")+COUNTIFS('Matchs'!$G$2:$G$101,$B78,'Matchs'!$J$2:$J$101,"Joué")) | E78: =IF($B78="","",COUNTIFS('Matchs'!$F$2:$F$101,$B78,'Matchs'!$J$2:$J$101,"Joué",'Matchs'!$L$2:$L$101,3)+COUNTIFS('Matchs'!$G$2:$G$101,$B78,'Matchs'!$J$2:$J$101,"Joué",'Matchs'!$M$2:$M$101,3)) | F78: =IF($B78="","",COUNTIFS('Matchs'!$F$2:$F$101,$B78,'Matchs'!$J$2:$J$101,"Joué",'Matchs'!$L$2:$L$101,1)+COUNTIFS('Matchs'!$G$2:$G$101,$B78,'Matchs'!$J$2:$J$101,"Joué",'Matchs'!$M$2:$M$101,1)) | G78: =IF($B78="","",D78-E78-F78) | H78: =IF($B78="","",SUMPRODUCT(('Matchs'!$F$2:$F$101=$B78)*('Matchs'!$J$2:$J$101="Joué")*'Matchs'!$H$2:$H$101)+SUMPRODUCT(('Matchs'!$G$2:$G$101=$B78)*('Matchs'!$J$2:$J$101="Joué")*'Matchs'!$I$2:$I$101)) | I78: =IF($B78="","",SUMPRODUCT(('Matchs'!$F$2:$F$101=$B78)*('Matchs'!$J$2:$J$101="Joué")*'Matchs'!$I$2:$I$101)+SUMPRODUCT(('Matchs'!$G$2:$G$101=$B78)*('Matchs'!$J$2:$J$101="Joué")*'Matchs'!$H$2:$H$101)) | J78: =IF($B78="","",H78-I78) | K78: =IF($B78="","",SUMIF('Matchs'!$F$2:$F$101,$B78,'Matchs'!$L$2:$L$101)+SUMIF('Matchs'!$G$2:$G$101,$B78,'Matchs'!$M$2:$M$101)) | L78: =IF($B78="","",IFERROR(E78/D78,0))
A79: =IF('Équipes'!$B$67="","",1+COUNTIFS($K$14:$K$113,">"&K79)+COUNTIFS($K$14:$K$113,K79,$J$14:$J$113,">"&J79)) | B79: =IF('Équipes'!$B$67="","",'Équipes'!$B$67) | C79: =IF($B79="","",IFERROR(VLOOKUP($B79,'Équipes'!$B$2:$G$101,6,FALSE),"")) | D79: =IF($B79="","",COUNTIFS('Matchs'!$F$2:$F$101,$B79,'Matchs'!$J$2:$J$101,"Joué")+COUNTIFS('Matchs'!$G$2:$G$101,$B79,'Matchs'!$J$2:$J$101,"Joué")) | E79: =IF($B79="","",COUNTIFS('Matchs'!$F$2:$F$101,$B79,'Matchs'!$J$2:$J$101,"Joué",'Matchs'!$L$2:$L$101,3)+COUNTIFS('Matchs'!$G$2:$G$101,$B79,'Matchs'!$J$2:$J$101,"Joué",'Matchs'!$M$2:$M$101,3)) | F79: =IF($B79="","",COUNTIFS('Matchs'!$F$2:$F$101,$B79,'Matchs'!$J$2:$J$101,"Joué",'Matchs'!$L$2:$L$101,1)+COUNTIFS('Matchs'!$G$2:$G$101,$B79,'Matchs'!$J$2:$J$101,"Joué",'Matchs'!$M$2:$M$101,1)) | G79: =IF($B79="","",D79-E79-F79) | H79: =IF($B79="","",SUMPRODUCT(('Matchs'!$F$2:$F$101=$B79)*('Matchs'!$J$2:$J$101="Joué")*'Matchs'!$H$2:$H$101)+SUMPRODUCT(('Matchs'!$G$2:$G$101=$B79)*('Matchs'!$J$2:$J$101="Joué")*'Matchs'!$I$2:$I$101)) | I79: =IF($B79="","",SUMPRODUCT(('Matchs'!$F$2:$F$101=$B79)*('Matchs'!$J$2:$J$101="Joué")*'Matchs'!$I$2:$I$101)+SUMPRODUCT(('Matchs'!$G$2:$G$101=$B79)*('Matchs'!$J$2:$J$101="Joué")*'Matchs'!$H$2:$H$101)) | J79: =IF($B79="","",H79-I79) | K79: =IF($B79="","",SUMIF('Matchs'!$F$2:$F$101,$B79,'Matchs'!$L$2:$L$101)+SUMIF('Matchs'!$G$2:$G$101,$B79,'Matchs'!$M$2:$M$101)) | L79: =IF($B79="","",IFERROR(E79/D79,0))
A80: =IF('Équipes'!$B$68="","",1+COUNTIFS($K$14:$K$113,">"&K80)+COUNTIFS($K$14:$K$113,K80,$J$14:$J$113,">"&J80)) | B80: =IF('Équipes'!$B$68="","",'Équipes'!$B$68) | C80: =IF($B80="","",IFERROR(VLOOKUP($B80,'Équipes'!$B$2:$G$101,6,FALSE),"")) | D80: =IF($B80="","",COUNTIFS('Matchs'!$F$2:$F$101,$B80,'Matchs'!$J$2:$J$101,"Joué")+COUNTIFS('Matchs'!$G$2:$G$101,$B80,'Matchs'!$J$2:$J$101,"Joué")) | E80: =IF($B80="","",COUNTIFS('Matchs'!$F$2:$F$101,$B80,'Matchs'!$J$2:$J$101,"Joué",'Matchs'!$L$2:$L$101,3)+COUNTIFS('Matchs'!$G$2:$G$101,$B80,'Matchs'!$J$2:$J$101,"Joué",'Matchs'!$M$2:$M$101,3)) | F80: =IF($B80="","",COUNTIFS('Matchs'!$F$2:$F$101,$B80,'Matchs'!$J$2:$J$101,"Joué",'Matchs'!$L$2:$L$101,1)+COUNTIFS('Matchs'!$G$2:$G$101,$B80,'Matchs'!$J$2:$J$101,"Joué",'Matchs'!$M$2:$M$101,1)) | G80: =IF($B80="","",D80-E80-F80) | H80: =IF($B80="","",SUMPRODUCT(('Matchs'!$F$2:$F$101=$B80)*('Matchs'!$J$2:$J$101="Joué")*'Matchs'!$H$2:$H$101)+SUMPRODUCT(('Matchs'!$G$2:$G$101=$B80)*('Matchs'!$J$2:$J$101="Joué")*'Matchs'!$I$2:$I$101)) | I80: =IF($B80="","",SUMPRODUCT(('Matchs'!$F$2:$F$101=$B80)*('Matchs'!$J$2:$J$101="Joué")*'Matchs'!$I$2:$I$101)+SUMPRODUCT(('Matchs'!$G$2:$G$101=$B80)*('Matchs'!$J$2:$J$101="Joué")*'Matchs'!$H$2:$H$101)) | J80: =IF($B80="","",H80-I80) | K80: =IF($B80="","",SUMIF('Matchs'!$F$2:$F$101,$B80,'Matchs'!$L$2:$L$101)+SUMIF('Matchs'!$G$2:$G$101,$B80,'Matchs'!$M$2:$M$101)) | L80: =IF($B80="","",IFERROR(E80/D80,0))
A81: =IF('Équipes'!$B$69="","",1+COUNTIFS($K$14:$K$113,">"&K81)+COUNTIFS($K$14:$K$113,K81,$J$14:$J$113,">"&J81)) | B81: =IF('Équipes'!$B$69="","",'Équipes'!$B$69) | C81: =IF($B81="","",IFERROR(VLOOKUP($B81,'Équipes'!$B$2:$G$101,6,FALSE),"")) | D81: =IF($B81="","",COUNTIFS('Matchs'!$F$2:$F$101,$B81,'Matchs'!$J$2:$J$101,"Joué")+COUNTIFS('Matchs'!$G$2:$G$101,$B81,'Matchs'!$J$2:$J$101,"Joué")) | E81: =IF($B81="","",COUNTIFS('Matchs'!$F$2:$F$101,$B81,'Matchs'!$J$2:$J$101,"Joué",'Matchs'!$L$2:$L$101,3)+COUNTIFS('Matchs'!$G$2:$G$101,$B81,'Matchs'!$J$2:$J$101,"Joué",'Matchs'!$M$2:$M$101,3)) | F81: =IF($B81="","",COUNTIFS('Matchs'!$F$2:$F$101,$B81,'Matchs'!$J$2:$J$101,"Joué",'Matchs'!$L$2:$L$101,1)+COUNTIFS('Matchs'!$G$2:$G$101,$B81,'Matchs'!$J$2:$J$101,"Joué",'Matchs'!$M$2:$M$101,1)) | G81: =IF($B81="","",D81-E81-F81) | H81: =IF($B81="","",SUMPRODUCT(('Matchs'!$F$2:$F$101=$B81)*('Matchs'!$J$2:$J$101="Joué")*'Matchs'!$H$2:$H$101)+SUMPRODUCT(('Matchs'!$G$2:$G$101=$B81)*('Matchs'!$J$2:$J$101="Joué")*'Matchs'!$I$2:$I$101)) | I81: =IF($B81="","",SUMPRODUCT(('Matchs'!$F$2:$F$101=$B81)*('Matchs'!$J$2:$J$101="Joué")*'Matchs'!$I$2:$I$101)+SUMPRODUCT(('Matchs'!$G$2:$G$101=$B81)*('Matchs'!$J$2:$J$101="Joué")*'Matchs'!$H$2:$H$101)) | J81: =IF($B81="","",H81-I81) | K81: =IF($B81="","",SUMIF('Matchs'!$F$2:$F$101,$B81,'Matchs'!$L$2:$L$101)+SUMIF('Matchs'!$G$2:$G$101,$B81,'Matchs'!$M$2:$M$101)) | L81: =IF($B81="","",IFERROR(E81/D81,0))
A82: =IF('Équipes'!$B$70="","",1+COUNTIFS($K$14:$K$113,">"&K82)+COUNTIFS($K$14:$K$113,K82,$J$14:$J$113,">"&J82)) | B82: =IF('Équipes'!$B$70="","",'Équipes'!$B$70) | C82: =IF($B82="","",IFERROR(VLOOKUP($B82,'Équipes'!$B$2:$G$101,6,FALSE),"")) | D82: =IF($B82="","",COUNTIFS('Matchs'!$F$2:$F$101,$B82,'Matchs'!$J$2:$J$101,"Joué")+COUNTIFS('Matchs'!$G$2:$G$101,$B82,'Matchs'!$J$2:$J$101,"Joué")) | E82: =IF($B82="","",COUNTIFS('Matchs'!$F$2:$F$101,$B82,'Matchs'!$J$2:$J$101,"Joué",'Matchs'!$L$2:$L$101,3)+COUNTIFS('Matchs'!$G$2:$G$101,$B82,'Matchs'!$J$2:$J$101,"Joué",'Matchs'!$M$2:$M$101,3)) | F82: =IF($B82="","",COUNTIFS('Matchs'!$F$2:$F$101,$B82,'Matchs'!$J$2:$J$101,"Joué",'Matchs'!$L$2:$L$101,1)+COUNTIFS('Matchs'!$G$2:$G$101,$B82,'Matchs'!$J$2:$J$101,"Joué",'Matchs'!$M$2:$M$101,1)) | G82: =IF($B82="","",D82-E82-F82) | H82: =IF($B82="","",SUMPRODUCT(('Matchs'!$F$2:$F$101=$B82)*('Matchs'!$J$2:$J$101="Joué")*'Matchs'!$H$2:$H$101)+SUMPRODUCT(('Matchs'!$G$2:$G$101=$B82)*('Matchs'!$J$2:$J$101="Joué")*'Matchs'!$I$2:$I$101)) | I82: =IF($B82="","",SUMPRODUCT(('Matchs'!$F$2:$F$101=$B82)*('Matchs'!$J$2:$J$101="Joué")*'Matchs'!$I$2:$I$101)+SUMPRODUCT(('Matchs'!$G$2:$G$101=$B82)*('Matchs'!$J$2:$J$101="Joué")*'Matchs'!$H$2:$H$101)) | J82: =IF($B82="","",H82-I82) | K82: =IF($B82="","",SUMIF('Matchs'!$F$2:$F$101,$B82,'Matchs'!$L$2:$L$101)+SUMIF('Matchs'!$G$2:$G$101,$B82,'Matchs'!$M$2:$M$101)) | L82: =IF($B82="","",IFERROR(E82/D82,0))
A83: =IF('Équipes'!$B$71="","",1+COUNTIFS($K$14:$K$113,">"&K83)+COUNTIFS($K$14:$K$113,K83,$J$14:$J$113,">"&J83)) | B83: =IF('Équipes'!$B$71="","",'Équipes'!$B$71) | C83: =IF($B83="","",IFERROR(VLOOKUP($B83,'Équipes'!$B$2:$G$101,6,FALSE),"")) | D83: =IF($B83="","",COUNTIFS('Matchs'!$F$2:$F$101,$B83,'Matchs'!$J$2:$J$101,"Joué")+COUNTIFS('Matchs'!$G$2:$G$101,$B83,'Matchs'!$J$2:$J$101,"Joué")) | E83: =IF($B83="","",COUNTIFS('Matchs'!$F$2:$F$101,$B83,'Matchs'!$J$2:$J$101,"Joué",'Matchs'!$L$2:$L$101,3)+COUNTIFS('Matchs'!$G$2:$G$101,$B83,'Matchs'!$J$2:$J$101,"Joué",'Matchs'!$M$2:$M$101,3)) | F83: =IF($B83="","",COUNTIFS('Matchs'!$F$2:$F$101,$B83,'Matchs'!$J$2:$J$101,"Joué",'Matchs'!$L$2:$L$101,1)+COUNTIFS('Matchs'!$G$2:$G$101,$B83,'Matchs'!$J$2:$J$101,"Joué",'Matchs'!$M$2:$M$101,1)) | G83: =IF($B83="","",D83-E83-F83) | H83: =IF($B83="","",SUMPRODUCT(('Matchs'!$F$2:$F$101=$B83)*('Matchs'!$J$2:$J$101="Joué")*'Matchs'!$H$2:$H$101)+SUMPRODUCT(('Matchs'!$G$2:$G$101=$B83)*('Matchs'!$J$2:$J$101="Joué")*'Matchs'!$I$2:$I$101)) | I83: =IF($B83="","",SUMPRODUCT(('Matchs'!$F$2:$F$101=$B83)*('Matchs'!$J$2:$J$101="Joué")*'Matchs'!$I$2:$I$101)+SUMPRODUCT(('Matchs'!$G$2:$G$101=$B83)*('Matchs'!$J$2:$J$101="Joué")*'Matchs'!$H$2:$H$101)) | J83: =IF($B83="","",H83-I83) | K83: =IF($B83="","",SUMIF('Matchs'!$F$2:$F$101,$B83,'Matchs'!$L$2:$L$101)+SUMIF('Matchs'!$G$2:$G$101,$B83,'Matchs'!$M$2:$M$101)) | L83: =IF($B83="","",IFERROR(E83/D83,0))
A84: =IF('Équipes'!$B$72="","",1+COUNTIFS($K$14:$K$113,">"&K84)+COUNTIFS($K$14:$K$113,K84,$J$14:$J$113,">"&J84)) | B84: =IF('Équipes'!$B$72="","",'Équipes'!$B$72) | C84: =IF($B84="","",IFERROR(VLOOKUP($B84,'Équipes'!$B$2:$G$101,6,FALSE),"")) | D84: =IF($B84="","",COUNTIFS('Matchs'!$F$2:$F$101,$B84,'Matchs'!$J$2:$J$101,"Joué")+COUNTIFS('Matchs'!$G$2:$G$101,$B84,'Matchs'!$J$2:$J$101,"Joué")) | E84: =IF($B84="","",COUNTIFS('Matchs'!$F$2:$F$101,$B84,'Matchs'!$J$2:$J$101,"Joué",'Matchs'!$L$2:$L$101,3)+COUNTIFS('Matchs'!$G$2:$G$101,$B84,'Matchs'!$J$2:$J$101,"Joué",'Matchs'!$M$2:$M$101,3)) | F84: =IF($B84="","",COUNTIFS('Matchs'!$F$2:$F$101,$B84,'Matchs'!$J$2:$J$101,"Joué",'Matchs'!$L$2:$L$101,1)+COUNTIFS('Matchs'!$G$2:$G$101,$B84,'Matchs'!$J$2:$J$101,"Joué",'Matchs'!$M$2:$M$101,1)) | G84: =IF($B84="","",D84-E84-F84) | H84: =IF($B84="","",SUMPRODUCT(('Matchs'!$F$2:$F$101=$B84)*('Matchs'!$J$2:$J$101="Joué")*'Matchs'!$H$2:$H$101)+SUMPRODUCT(('Matchs'!$G$2:$G$101=$B84)*('Matchs'!$J$2:$J$101="Joué")*'Matchs'!$I$2:$I$101)) | I84: =IF($B84="","",SUMPRODUCT(('Matchs'!$F$2:$F$101=$B84)*('Matchs'!$J$2:$J$101="Joué")*'Matchs'!$I$2:$I$101)+SUMPRODUCT(('Matchs'!$G$2:$G$101=$B84)*('Matchs'!$J$2:$J$101="Joué")*'Matchs'!$H$2:$H$101)) | J84: =IF($B84="","",H84-I84) | K84: =IF($B84="","",SUMIF('Matchs'!$F$2:$F$101,$B84,'Matchs'!$L$2:$L$101)+SUMIF('Matchs'!$G$2:$G$101,$B84,'Matchs'!$M$2:$M$101)) | L84: =IF($B84="","",IFERROR(E84/D84,0))
A85: =IF('Équipes'!$B$73="","",1+COUNTIFS($K$14:$K$113,">"&K85)+COUNTIFS($K$14:$K$113,K85,$J$14:$J$113,">"&J85)) | B85: =IF('Équipes'!$B$73="","",'Équipes'!$B$73) | C85: =IF($B85="","",IFERROR(VLOOKUP($B85,'Équipes'!$B$2:$G$101,6,FALSE),"")) | D85: =IF($B85="","",COUNTIFS('Matchs'!$F$2:$F$101,$B85,'Matchs'!$J$2:$J$101,"Joué")+COUNTIFS('Matchs'!$G$2:$G$101,$B85,'Matchs'!$J$2:$J$101,"Joué")) | E85: =IF($B85="","",COUNTIFS('Matchs'!$F$2:$F$101,$B85,'Matchs'!$J$2:$J$101,"Joué",'Matchs'!$L$2:$L$101,3)+COUNTIFS('Matchs'!$G$2:$G$101,$B85,'Matchs'!$J$2:$J$101,"Joué",'Matchs'!$M$2:$M$101,3)) | F85: =IF($B85="","",COUNTIFS('Matchs'!$F$2:$F$101,$B85,'Matchs'!$J$2:$J$101,"Joué",'Matchs'!$L$2:$L$101,1)+COUNTIFS('Matchs'!$G$2:$G$101,$B85,'Matchs'!$J$2:$J$101,"Joué",'Matchs'!$M$2:$M$101,1)) | G85: =IF($B85="","",D85-E85-F85) | H85: =IF($B85="","",SUMPRODUCT(('Matchs'!$F$2:$F$101=$B85)*('Matchs'!$J$2:$J$101="Joué")*'Matchs'!$H$2:$H$101)+SUMPRODUCT(('Matchs'!$G$2:$G$101=$B85)*('Matchs'!$J$2:$J$101="Joué")*'Matchs'!$I$2:$I$101)) | I85: =IF($B85="","",SUMPRODUCT(('Matchs'!$F$2:$F$101=$B85)*('Matchs'!$J$2:$J$101="Joué")*'Matchs'!$I$2:$I$101)+SUMPRODUCT(('Matchs'!$G$2:$G$101=$B85)*('Matchs'!$J$2:$J$101="Joué")*'Matchs'!$H$2:$H$101)) | J85: =IF($B85="","",H85-I85) | K85: =IF($B85="","",SUMIF('Matchs'!$F$2:$F$101,$B85,'Matchs'!$L$2:$L$101)+SUMIF('Matchs'!$G$2:$G$101,$B85,'Matchs'!$M$2:$M$101)) | L85: =IF($B85="","",IFERROR(E85/D85,0))
A86: =IF('Équipes'!$B$74="","",1+COUNTIFS($K$14:$K$113,">"&K86)+COUNTIFS($K$14:$K$113,K86,$J$14:$J$113,">"&J86)) | B86: =IF('Équipes'!$B$74="","",'Équipes'!$B$74) | C86: =IF($B86="","",IFERROR(VLOOKUP($B86,'Équipes'!$B$2:$G$101,6,FALSE),"")) | D86: =IF($B86="","",COUNTIFS('Matchs'!$F$2:$F$101,$B86,'Matchs'!$J$2:$J$101,"Joué")+COUNTIFS('Matchs'!$G$2:$G$101,$B86,'Matchs'!$J$2:$J$101,"Joué")) | E86: =IF($B86="","",COUNTIFS('Matchs'!$F$2:$F$101,$B86,'Matchs'!$J$2:$J$101,"Joué",'Matchs'!$L$2:$L$101,3)+COUNTIFS('Matchs'!$G$2:$G$101,$B86,'Matchs'!$J$2:$J$101,"Joué",'Matchs'!$M$2:$M$101,3)) | F86: =IF($B86="","",COUNTIFS('Matchs'!$F$2:$F$101,$B86,'Matchs'!$J$2:$J$101,"Joué",'Matchs'!$L$2:$L$101,1)+COUNTIFS('Matchs'!$G$2:$G$101,$B86,'Matchs'!$J$2:$J$101,"Joué",'Matchs'!$M$2:$M$101,1)) | G86: =IF($B86="","",D86-E86-F86) | H86: =IF($B86="","",SUMPRODUCT(('Matchs'!$F$2:$F$101=$B86)*('Matchs'!$J$2:$J$101="Joué")*'Matchs'!$H$2:$H$101)+SUMPRODUCT(('Matchs'!$G$2:$G$101=$B86)*('Matchs'!$J$2:$J$101="Joué")*'Matchs'!$I$2:$I$101)) | I86: =IF($B86="","",SUMPRODUCT(('Matchs'!$F$2:$F$101=$B86)*('Matchs'!$J$2:$J$101="Joué")*'Matchs'!$I$2:$I$101)+SUMPRODUCT(('Matchs'!$G$2:$G$101=$B86)*('Matchs'!$J$2:$J$101="Joué")*'Matchs'!$H$2:$H$101)) | J86: =IF($B86="","",H86-I86) | K86: =IF($B86="","",SUMIF('Matchs'!$F$2:$F$101,$B86,'Matchs'!$L$2:$L$101)+SUMIF('Matchs'!$G$2:$G$101,$B86,'Matchs'!$M$2:$M$101)) | L86: =IF($B86="","",IFERROR(E86/D86,0))
A87: =IF('Équipes'!$B$75="","",1+COUNTIFS($K$14:$K$113,">"&K87)+COUNTIFS($K$14:$K$113,K87,$J$14:$J$113,">"&J87)) | B87: =IF('Équipes'!$B$75="","",'Équipes'!$B$75) | C87: =IF($B87="","",IFERROR(VLOOKUP($B87,'Équipes'!$B$2:$G$101,6,FALSE),"")) | D87: =IF($B87="","",COUNTIFS('Matchs'!$F$2:$F$101,$B87,'Matchs'!$J$2:$J$101,"Joué")+COUNTIFS('Matchs'!$G$2:$G$101,$B87,'Matchs'!$J$2:$J$101,"Joué")) | E87: =IF($B87="","",COUNTIFS('Matchs'!$F$2:$F$101,$B87,'Matchs'!$J$2:$J$101,"Joué",'Matchs'!$L$2:$L$101,3)+COUNTIFS('Matchs'!$G$2:$G$101,$B87,'Matchs'!$J$2:$J$101,"Joué",'Matchs'!$M$2:$M$101,3)) | F87: =IF($B87="","",COUNTIFS('Matchs'!$F$2:$F$101,$B87,'Matchs'!$J$2:$J$101,"Joué",'Matchs'!$L$2:$L$101,1)+COUNTIFS('Matchs'!$G$2:$G$101,$B87,'Matchs'!$J$2:$J$101,"Joué",'Matchs'!$M$2:$M$101,1)) | G87: =IF($B87="","",D87-E87-F87) | H87: =IF($B87="","",SUMPRODUCT(('Matchs'!$F$2:$F$101=$B87)*('Matchs'!$J$2:$J$101="Joué")*'Matchs'!$H$2:$H$101)+SUMPRODUCT(('Matchs'!$G$2:$G$101=$B87)*('Matchs'!$J$2:$J$101="Joué")*'Matchs'!$I$2:$I$101)) | I87: =IF($B87="","",SUMPRODUCT(('Matchs'!$F$2:$F$101=$B87)*('Matchs'!$J$2:$J$101="Joué")*'Matchs'!$I$2:$I$101)+SUMPRODUCT(('Matchs'!$G$2:$G$101=$B87)*('Matchs'!$J$2:$J$101="Joué")*'Matchs'!$H$2:$H$101)) | J87: =IF($B87="","",H87-I87) | K87: =IF($B87="","",SUMIF('Matchs'!$F$2:$F$101,$B87,'Matchs'!$L$2:$L$101)+SUMIF('Matchs'!$G$2:$G$101,$B87,'Matchs'!$M$2:$M$101)) | L87: =IF($B87="","",IFERROR(E87/D87,0))
A88: =IF('Équipes'!$B$76="","",1+COUNTIFS($K$14:$K$113,">"&K88)+COUNTIFS($K$14:$K$113,K88,$J$14:$J$113,">"&J88)) | B88: =IF('Équipes'!$B$76="","",'Équipes'!$B$76) | C88: =IF($B88="","",IFERROR(VLOOKUP($B88,'Équipes'!$B$2:$G$101,6,FALSE),"")) | D88: =IF($B88="","",COUNTIFS('Matchs'!$F$2:$F$101,$B88,'Matchs'!$J$2:$J$101,"Joué")+COUNTIFS('Matchs'!$G$2:$G$101,$B88,'Matchs'!$J$2:$J$101,"Joué")) | E88: =IF($B88="","",COUNTIFS('Matchs'!$F$2:$F$101,$B88,'Matchs'!$J$2:$J$101,"Joué",'Matchs'!$L$2:$L$101,3)+COUNTIFS('Matchs'!$G$2:$G$101,$B88,'Matchs'!$J$2:$J$101,"Joué",'Matchs'!$M$2:$M$101,3)) | F88: =IF($B88="","",COUNTIFS('Matchs'!$F$2:$F$101,$B88,'Matchs'!$J$2:$J$101,"Joué",'Matchs'!$L$2:$L$101,1)+COUNTIFS('Matchs'!$G$2:$G$101,$B88,'Matchs'!$J$2:$J$101,"Joué",'Matchs'!$M$2:$M$101,1)) | G88: =IF($B88="","",D88-E88-F88) | H88: =IF($B88="","",SUMPRODUCT(('Matchs'!$F$2:$F$101=$B88)*('Matchs'!$J$2:$J$101="Joué")*'Matchs'!$H$2:$H$101)+SUMPRODUCT(('Matchs'!$G$2:$G$101=$B88)*('Matchs'!$J$2:$J$101="Joué")*'Matchs'!$I$2:$I$101)) | I88: =IF($B88="","",SUMPRODUCT(('Matchs'!$F$2:$F$101=$B88)*('Matchs'!$J$2:$J$101="Joué")*'Matchs'!$I$2:$I$101)+SUMPRODUCT(('Matchs'!$G$2:$G$101=$B88)*('Matchs'!$J$2:$J$101="Joué")*'Matchs'!$H$2:$H$101)) | J88: =IF($B88="","",H88-I88) | K88: =IF($B88="","",SUMIF('Matchs'!$F$2:$F$101,$B88,'Matchs'!$L$2:$L$101)+SUMIF('Matchs'!$G$2:$G$101,$B88,'Matchs'!$M$2:$M$101)) | L88: =IF($B88="","",IFERROR(E88/D88,0))
A89: =IF('Équipes'!$B$77="","",1+COUNTIFS($K$14:$K$113,">"&K89)+COUNTIFS($K$14:$K$113,K89,$J$14:$J$113,">"&J89)) | B89: =IF('Équipes'!$B$77="","",'Équipes'!$B$77) | C89: =IF($B89="","",IFERROR(VLOOKUP($B89,'Équipes'!$B$2:$G$101,6,FALSE),"")) | D89: =IF($B89="","",COUNTIFS('Matchs'!$F$2:$F$101,$B89,'Matchs'!$J$2:$J$101,"Joué")+COUNTIFS('Matchs'!$G$2:$G$101,$B89,'Matchs'!$J$2:$J$101,"Joué")) | E89: =IF($B89="","",COUNTIFS('Matchs'!$F$2:$F$101,$B89,'Matchs'!$J$2:$J$101,"Joué",'Matchs'!$L$2:$L$101,3)+COUNTIFS('Matchs'!$G$2:$G$101,$B89,'Matchs'!$J$2:$J$101,"Joué",'Matchs'!$M$2:$M$101,3)) | F89: =IF($B89="","",COUNTIFS('Matchs'!$F$2:$F$101,$B89,'Matchs'!$J$2:$J$101,"Joué",'Matchs'!$L$2:$L$101,1)+COUNTIFS('Matchs'!$G$2:$G$101,$B89,'Matchs'!$J$2:$J$101,"Joué",'Matchs'!$M$2:$M$101,1)) | G89: =IF($B89="","",D89-E89-F89) | H89: =IF($B89="","",SUMPRODUCT(('Matchs'!$F$2:$F$101=$B89)*('Matchs'!$J$2:$J$101="Joué")*'Matchs'!$H$2:$H$101)+SUMPRODUCT(('Matchs'!$G$2:$G$101=$B89)*('Matchs'!$J$2:$J$101="Joué")*'Matchs'!$I$2:$I$101)) | I89: =IF($B89="","",SUMPRODUCT(('Matchs'!$F$2:$F$101=$B89)*('Matchs'!$J$2:$J$101="Joué")*'Matchs'!$I$2:$I$101)+SUMPRODUCT(('Matchs'!$G$2:$G$101=$B89)*('Matchs'!$J$2:$J$101="Joué")*'Matchs'!$H$2:$H$101)) | J89: =IF($B89="","",H89-I89) | K89: =IF($B89="","",SUMIF('Matchs'!$F$2:$F$101,$B89,'Matchs'!$L$2:$L$101)+SUMIF('Matchs'!$G$2:$G$101,$B89,'Matchs'!$M$2:$M$101)) | L89: =IF($B89="","",IFERROR(E89/D89,0))
A90: =IF('Équipes'!$B$78="","",1+COUNTIFS($K$14:$K$113,">"&K90)+COUNTIFS($K$14:$K$113,K90,$J$14:$J$113,">"&J90)) | B90: =IF('Équipes'!$B$78="","",'Équipes'!$B$78) | C90: =IF($B90="","",IFERROR(VLOOKUP($B90,'Équipes'!$B$2:$G$101,6,FALSE),"")) | D90: =IF($B90="","",COUNTIFS('Matchs'!$F$2:$F$101,$B90,'Matchs'!$J$2:$J$101,"Joué")+COUNTIFS('Matchs'!$G$2:$G$101,$B90,'Matchs'!$J$2:$J$101,"Joué")) | E90: =IF($B90="","",COUNTIFS('Matchs'!$F$2:$F$101,$B90,'Matchs'!$J$2:$J$101,"Joué",'Matchs'!$L$2:$L$101,3)+COUNTIFS('Matchs'!$G$2:$G$101,$B90,'Matchs'!$J$2:$J$101,"Joué",'Matchs'!$M$2:$M$101,3)) | F90: =IF($B90="","",COUNTIFS('Matchs'!$F$2:$F$101,$B90,'Matchs'!$J$2:$J$101,"Joué",'Matchs'!$L$2:$L$101,1)+COUNTIFS('Matchs'!$G$2:$G$101,$B90,'Matchs'!$J$2:$J$101,"Joué",'Matchs'!$M$2:$M$101,1)) | G90: =IF($B90="","",D90-E90-F90) | H90: =IF($B90="","",SUMPRODUCT(('Matchs'!$F$2:$F$101=$B90)*('Matchs'!$J$2:$J$101="Joué")*'Matchs'!$H$2:$H$101)+SUMPRODUCT(('Matchs'!$G$2:$G$101=$B90)*('Matchs'!$J$2:$J$101="Joué")*'Matchs'!$I$2:$I$101)) | I90: =IF($B90="","",SUMPRODUCT(('Matchs'!$F$2:$F$101=$B90)*('Matchs'!$J$2:$J$101="Joué")*'Matchs'!$I$2:$I$101)+SUMPRODUCT(('Matchs'!$G$2:$G$101=$B90)*('Matchs'!$J$2:$J$101="Joué")*'Matchs'!$H$2:$H$101)) | J90: =IF($B90="","",H90-I90) | K90: =IF($B90="","",SUMIF('Matchs'!$F$2:$F$101,$B90,'Matchs'!$L$2:$L$101)+SUMIF('Matchs'!$G$2:$G$101,$B90,'Matchs'!$M$2:$M$101)) | L90: =IF($B90="","",IFERROR(E90/D90,0))
A91: =IF('Équipes'!$B$79="","",1+COUNTIFS($K$14:$K$113,">"&K91)+COUNTIFS($K$14:$K$113,K91,$J$14:$J$113,">"&J91)) | B91: =IF('Équipes'!$B$79="","",'Équipes'!$B$79) | C91: =IF($B91="","",IFERROR(VLOOKUP($B91,'Équipes'!$B$2:$G$101,6,FALSE),"")) | D91: =IF($B91="","",COUNTIFS('Matchs'!$F$2:$F$101,$B91,'Matchs'!$J$2:$J$101,"Joué")+COUNTIFS('Matchs'!$G$2:$G$101,$B91,'Matchs'!$J$2:$J$101,"Joué")) | E91: =IF($B91="","",COUNTIFS('Matchs'!$F$2:$F$101,$B91,'Matchs'!$J$2:$J$101,"Joué",'Matchs'!$L$2:$L$101,3)+COUNTIFS('Matchs'!$G$2:$G$101,$B91,'Matchs'!$J$2:$J$101,"Joué",'Matchs'!$M$2:$M$101,3)) | F91: =IF($B91="","",COUNTIFS('Matchs'!$F$2:$F$101,$B91,'Matchs'!$J$2:$J$101,"Joué",'Matchs'!$L$2:$L$101,1)+COUNTIFS('Matchs'!$G$2:$G$101,$B91,'Matchs'!$J$2:$J$101,"Joué",'Matchs'!$M$2:$M$101,1)) | G91: =IF($B91="","",D91-E91-F91) | H91: =IF($B91="","",SUMPRODUCT(('Matchs'!$F$2:$F$101=$B91)*('Matchs'!$J$2:$J$101="Joué")*'Matchs'!$H$2:$H$101)+SUMPRODUCT(('Matchs'!$G$2:$G$101=$B91)*('Matchs'!$J$2:$J$101="Joué")*'Matchs'!$I$2:$I$101)) | I91: =IF($B91="","",SUMPRODUCT(('Matchs'!$F$2:$F$101=$B91)*('Matchs'!$J$2:$J$101="Joué")*'Matchs'!$I$2:$I$101)+SUMPRODUCT(('Matchs'!$G$2:$G$101=$B91)*('Matchs'!$J$2:$J$101="Joué")*'Matchs'!$H$2:$H$101)) | J91: =IF($B91="","",H91-I91) | K91: =IF($B91="","",SUMIF('Matchs'!$F$2:$F$101,$B91,'Matchs'!$L$2:$L$101)+SUMIF('Matchs'!$G$2:$G$101,$B91,'Matchs'!$M$2:$M$101)) | L91: =IF($B91="","",IFERROR(E91/D91,0))
A92: =IF('Équipes'!$B$80="","",1+COUNTIFS($K$14:$K$113,">"&K92)+COUNTIFS($K$14:$K$113,K92,$J$14:$J$113,">"&J92)) | B92: =IF('Équipes'!$B$80="","",'Équipes'!$B$80) | C92: =IF($B92="","",IFERROR(VLOOKUP($B92,'Équipes'!$B$2:$G$101,6,FALSE),"")) | D92: =IF($B92="","",COUNTIFS('Matchs'!$F$2:$F$101,$B92,'Matchs'!$J$2:$J$101,"Joué")+COUNTIFS('Matchs'!$G$2:$G$101,$B92,'Matchs'!$J$2:$J$101,"Joué")) | E92: =IF($B92="","",COUNTIFS('Matchs'!$F$2:$F$101,$B92,'Matchs'!$J$2:$J$101,"Joué",'Matchs'!$L$2:$L$101,3)+COUNTIFS('Matchs'!$G$2:$G$101,$B92,'Matchs'!$J$2:$J$101,"Joué",'Matchs'!$M$2:$M$101,3)) | F92: =IF($B92="","",COUNTIFS('Matchs'!$F$2:$F$101,$B92,'Matchs'!$J$2:$J$101,"Joué",'Matchs'!$L$2:$L$101,1)+COUNTIFS('Matchs'!$G$2:$G$101,$B92,'Matchs'!$J$2:$J$101,"Joué",'Matchs'!$M$2:$M$101,1)) | G92: =IF($B92="","",D92-E92-F92) | H92: =IF($B92="","",SUMPRODUCT(('Matchs'!$F$2:$F$101=$B92)*('Matchs'!$J$2:$J$101="Joué")*'Matchs'!$H$2:$H$101)+SUMPRODUCT(('Matchs'!$G$2:$G$101=$B92)*('Matchs'!$J$2:$J$101="Joué")*'Matchs'!$I$2:$I$101)) | I92: =IF($B92="","",SUMPRODUCT(('Matchs'!$F$2:$F$101=$B92)*('Matchs'!$J$2:$J$101="Joué")*'Matchs'!$I$2:$I$101)+SUMPRODUCT(('Matchs'!$G$2:$G$101=$B92)*('Matchs'!$J$2:$J$101="Joué")*'Matchs'!$H$2:$H$101)) | J92: =IF($B92="","",H92-I92) | K92: =IF($B92="","",SUMIF('Matchs'!$F$2:$F$101,$B92,'Matchs'!$L$2:$L$101)+SUMIF('Matchs'!$G$2:$G$101,$B92,'Matchs'!$M$2:$M$101)) | L92: =IF($B92="","",IFERROR(E92/D92,0))
A93: =IF('Équipes'!$B$81="","",1+COUNTIFS($K$14:$K$113,">"&K93)+COUNTIFS($K$14:$K$113,K93,$J$14:$J$113,">"&J93)) | B93: =IF('Équipes'!$B$81="","",'Équipes'!$B$81) | C93: =IF($B93="","",IFERROR(VLOOKUP($B93,'Équipes'!$B$2:$G$101,6,FALSE),"")) | D93: =IF($B93="","",COUNTIFS('Matchs'!$F$2:$F$101,$B93,'Matchs'!$J$2:$J$101,"Joué")+COUNTIFS('Matchs'!$G$2:$G$101,$B93,'Matchs'!$J$2:$J$101,"Joué")) | E93: =IF($B93="","",COUNTIFS('Matchs'!$F$2:$F$101,$B93,'Matchs'!$J$2:$J$101,"Joué",'Matchs'!$L$2:$L$101,3)+COUNTIFS('Matchs'!$G$2:$G$101,$B93,'Matchs'!$J$2:$J$101,"Joué",'Matchs'!$M$2:$M$101,3)) | F93: =IF($B93="","",COUNTIFS('Matchs'!$F$2:$F$101,$B93,'Matchs'!$J$2:$J$101,"Joué",'Matchs'!$L$2:$L$101,1)+COUNTIFS('Matchs'!$G$2:$G$101,$B93,'Matchs'!$J$2:$J$101,"Joué",'Matchs'!$M$2:$M$101,1)) | G93: =IF($B93="","",D93-E93-F93) | H93: =IF($B93="","",SUMPRODUCT(('Matchs'!$F$2:$F$101=$B93)*('Matchs'!$J$2:$J$101="Joué")*'Matchs'!$H$2:$H$101)+SUMPRODUCT(('Matchs'!$G$2:$G$101=$B93)*('Matchs'!$J$2:$J$101="Joué")*'Matchs'!$I$2:$I$101)) | I93: =IF($B93="","",SUMPRODUCT(('Matchs'!$F$2:$F$101=$B93)*('Matchs'!$J$2:$J$101="Joué")*'Matchs'!$I$2:$I$101)+SUMPRODUCT(('Matchs'!$G$2:$G$101=$B93)*('Matchs'!$J$2:$J$101="Joué")*'Matchs'!$H$2:$H$101)) | J93: =IF($B93="","",H93-I93) | K93: =IF($B93="","",SUMIF('Matchs'!$F$2:$F$101,$B93,'Matchs'!$L$2:$L$101)+SUMIF('Matchs'!$G$2:$G$101,$B93,'Matchs'!$M$2:$M$101)) | L93: =IF($B93="","",IFERROR(E93/D93,0))
A94: =IF('Équipes'!$B$82="","",1+COUNTIFS($K$14:$K$113,">"&K94)+COUNTIFS($K$14:$K$113,K94,$J$14:$J$113,">"&J94)) | B94: =IF('Équipes'!$B$82="","",'Équipes'!$B$82) | C94: =IF($B94="","",IFERROR(VLOOKUP($B94,'Équipes'!$B$2:$G$101,6,FALSE),"")) | D94: =IF($B94="","",COUNTIFS('Matchs'!$F$2:$F$101,$B94,'Matchs'!$J$2:$J$101,"Joué")+COUNTIFS('Matchs'!$G$2:$G$101,$B94,'Matchs'!$J$2:$J$101,"Joué")) | E94: =IF($B94="","",COUNTIFS('Matchs'!$F$2:$F$101,$B94,'Matchs'!$J$2:$J$101,"Joué",'Matchs'!$L$2:$L$101,3)+COUNTIFS('Matchs'!$G$2:$G$101,$B94,'Matchs'!$J$2:$J$101,"Joué",'Matchs'!$M$2:$M$101,3)) | F94: =IF($B94="","",COUNTIFS('Matchs'!$F$2:$F$101,$B94,'Matchs'!$J$2:$J$101,"Joué",'Matchs'!$L$2:$L$101,1)+COUNTIFS('Matchs'!$G$2:$G$101,$B94,'Matchs'!$J$2:$J$101,"Joué",'Matchs'!$M$2:$M$101,1)) | G94: =IF($B94="","",D94-E94-F94) | H94: =IF($B94="","",SUMPRODUCT(('Matchs'!$F$2:$F$101=$B94)*('Matchs'!$J$2:$J$101="Joué")*'Matchs'!$H$2:$H$101)+SUMPRODUCT(('Matchs'!$G$2:$G$101=$B94)*('Matchs'!$J$2:$J$101="Joué")*'Matchs'!$I$2:$I$101)) | I94: =IF($B94="","",SUMPRODUCT(('Matchs'!$F$2:$F$101=$B94)*('Matchs'!$J$2:$J$101="Joué")*'Matchs'!$I$2:$I$101)+SUMPRODUCT(('Matchs'!$G$2:$G$101=$B94)*('Matchs'!$J$2:$J$101="Joué")*'Matchs'!$H$2:$H$101)) | J94: =IF($B94="","",H94-I94) | K94: =IF($B94="","",SUMIF('Matchs'!$F$2:$F$101,$B94,'Matchs'!$L$2:$L$101)+SUMIF('Matchs'!$G$2:$G$101,$B94,'Matchs'!$M$2:$M$101)) | L94: =IF($B94="","",IFERROR(E94/D94,0))
A95: =IF('Équipes'!$B$83="","",1+COUNTIFS($K$14:$K$113,">"&K95)+COUNTIFS($K$14:$K$113,K95,$J$14:$J$113,">"&J95)) | B95: =IF('Équipes'!$B$83="","",'Équipes'!$B$83) | C95: =IF($B95="","",IFERROR(VLOOKUP($B95,'Équipes'!$B$2:$G$101,6,FALSE),"")) | D95: =IF($B95="","",COUNTIFS('Matchs'!$F$2:$F$101,$B95,'Matchs'!$J$2:$J$101,"Joué")+COUNTIFS('Matchs'!$G$2:$G$101,$B95,'Matchs'!$J$2:$J$101,"Joué")) | E95: =IF($B95="","",COUNTIFS('Matchs'!$F$2:$F$101,$B95,'Matchs'!$J$2:$J$101,"Joué",'Matchs'!$L$2:$L$101,3)+COUNTIFS('Matchs'!$G$2:$G$101,$B95,'Matchs'!$J$2:$J$101,"Joué",'Matchs'!$M$2:$M$101,3)) | F95: =IF($B95="","",COUNTIFS('Matchs'!$F$2:$F$101,$B95,'Matchs'!$J$2:$J$101,"Joué",'Matchs'!$L$2:$L$101,1)+COUNTIFS('Matchs'!$G$2:$G$101,$B95,'Matchs'!$J$2:$J$101,"Joué",'Matchs'!$M$2:$M$101,1)) | G95: =IF($B95="","",D95-E95-F95) | H95: =IF($B95="","",SUMPRODUCT(('Matchs'!$F$2:$F$101=$B95)*('Matchs'!$J$2:$J$101="Joué")*'Matchs'!$H$2:$H$101)+SUMPRODUCT(('Matchs'!$G$2:$G$101=$B95)*('Matchs'!$J$2:$J$101="Joué")*'Matchs'!$I$2:$I$101)) | I95: =IF($B95="","",SUMPRODUCT(('Matchs'!$F$2:$F$101=$B95)*('Matchs'!$J$2:$J$101="Joué")*'Matchs'!$I$2:$I$101)+SUMPRODUCT(('Matchs'!$G$2:$G$101=$B95)*('Matchs'!$J$2:$J$101="Joué")*'Matchs'!$H$2:$H$101)) | J95: =IF($B95="","",H95-I95) | K95: =IF($B95="","",SUMIF('Matchs'!$F$2:$F$101,$B95,'Matchs'!$L$2:$L$101)+SUMIF('Matchs'!$G$2:$G$101,$B95,'Matchs'!$M$2:$M$101)) | L95: =IF($B95="","",IFERROR(E95/D95,0))
A96: =IF('Équipes'!$B$84="","",1+COUNTIFS($K$14:$K$113,">"&K96)+COUNTIFS($K$14:$K$113,K96,$J$14:$J$113,">"&J96)) | B96: =IF('Équipes'!$B$84="","",'Équipes'!$B$84) | C96: =IF($B96="","",IFERROR(VLOOKUP($B96,'Équipes'!$B$2:$G$101,6,FALSE),"")) | D96: =IF($B96="","",COUNTIFS('Matchs'!$F$2:$F$101,$B96,'Matchs'!$J$2:$J$101,"Joué")+COUNTIFS('Matchs'!$G$2:$G$101,$B96,'Matchs'!$J$2:$J$101,"Joué")) | E96: =IF($B96="","",COUNTIFS('Matchs'!$F$2:$F$101,$B96,'Matchs'!$J$2:$J$101,"Joué",'Matchs'!$L$2:$L$101,3)+COUNTIFS('Matchs'!$G$2:$G$101,$B96,'Matchs'!$J$2:$J$101,"Joué",'Matchs'!$M$2:$M$101,3)) | F96: =IF($B96="","",COUNTIFS('Matchs'!$F$2:$F$101,$B96,'Matchs'!$J$2:$J$101,"Joué",'Matchs'!$L$2:$L$101,1)+COUNTIFS('Matchs'!$G$2:$G$101,$B96,'Matchs'!$J$2:$J$101,"Joué",'Matchs'!$M$2:$M$101,1)) | G96: =IF($B96="","",D96-E96-F96) | H96: =IF($B96="","",SUMPRODUCT(('Matchs'!$F$2:$F$101=$B96)*('Matchs'!$J$2:$J$101="Joué")*'Matchs'!$H$2:$H$101)+SUMPRODUCT(('Matchs'!$G$2:$G$101=$B96)*('Matchs'!$J$2:$J$101="Joué")*'Matchs'!$I$2:$I$101)) | I96: =IF($B96="","",SUMPRODUCT(('Matchs'!$F$2:$F$101=$B96)*('Matchs'!$J$2:$J$101="Joué")*'Matchs'!$I$2:$I$101)+SUMPRODUCT(('Matchs'!$G$2:$G$101=$B96)*('Matchs'!$J$2:$J$101="Joué")*'Matchs'!$H$2:$H$101)) | J96: =IF($B96="","",H96-I96) | K96: =IF($B96="","",SUMIF('Matchs'!$F$2:$F$101,$B96,'Matchs'!$L$2:$L$101)+SUMIF('Matchs'!$G$2:$G$101,$B96,'Matchs'!$M$2:$M$101)) | L96: =IF($B96="","",IFERROR(E96/D96,0))
A97: =IF('Équipes'!$B$85="","",1+COUNTIFS($K$14:$K$113,">"&K97)+COUNTIFS($K$14:$K$113,K97,$J$14:$J$113,">"&J97)) | B97: =IF('Équipes'!$B$85="","",'Équipes'!$B$85) | C97: =IF($B97="","",IFERROR(VLOOKUP($B97,'Équipes'!$B$2:$G$101,6,FALSE),"")) | D97: =IF($B97="","",COUNTIFS('Matchs'!$F$2:$F$101,$B97,'Matchs'!$J$2:$J$101,"Joué")+COUNTIFS('Matchs'!$G$2:$G$101,$B97,'Matchs'!$J$2:$J$101,"Joué")) | E97: =IF($B97="","",COUNTIFS('Matchs'!$F$2:$F$101,$B97,'Matchs'!$J$2:$J$101,"Joué",'Matchs'!$L$2:$L$101,3)+COUNTIFS('Matchs'!$G$2:$G$101,$B97,'Matchs'!$J$2:$J$101,"Joué",'Matchs'!$M$2:$M$101,3)) | F97: =IF($B97="","",COUNTIFS('Matchs'!$F$2:$F$101,$B97,'Matchs'!$J$2:$J$101,"Joué",'Matchs'!$L$2:$L$101,1)+COUNTIFS('Matchs'!$G$2:$G$101,$B97,'Matchs'!$J$2:$J$101,"Joué",'Matchs'!$M$2:$M$101,1)) | G97: =IF($B97="","",D97-E97-F97) | H97: =IF($B97="","",SUMPRODUCT(('Matchs'!$F$2:$F$101=$B97)*('Matchs'!$J$2:$J$101="Joué")*'Matchs'!$H$2:$H$101)+SUMPRODUCT(('Matchs'!$G$2:$G$101=$B97)*('Matchs'!$J$2:$J$101="Joué")*'Matchs'!$I$2:$I$101)) | I97: =IF($B97="","",SUMPRODUCT(('Matchs'!$F$2:$F$101=$B97)*('Matchs'!$J$2:$J$101="Joué")*'Matchs'!$I$2:$I$101)+SUMPRODUCT(('Matchs'!$G$2:$G$101=$B97)*('Matchs'!$J$2:$J$101="Joué")*'Matchs'!$H$2:$H$101)) | J97: =IF($B97="","",H97-I97) | K97: =IF($B97="","",SUMIF('Matchs'!$F$2:$F$101,$B97,'Matchs'!$L$2:$L$101)+SUMIF('Matchs'!$G$2:$G$101,$B97,'Matchs'!$M$2:$M$101)) | L97: =IF($B97="","",IFERROR(E97/D97,0))
A98: =IF('Équipes'!$B$86="","",1+COUNTIFS($K$14:$K$113,">"&K98)+COUNTIFS($K$14:$K$113,K98,$J$14:$J$113,">"&J98)) | B98: =IF('Équipes'!$B$86="","",'Équipes'!$B$86) | C98: =IF($B98="","",IFERROR(VLOOKUP($B98,'Équipes'!$B$2:$G$101,6,FALSE),"")) | D98: =IF($B98="","",COUNTIFS('Matchs'!$F$2:$F$101,$B98,'Matchs'!$J$2:$J$101,"Joué")+COUNTIFS('Matchs'!$G$2:$G$101,$B98,'Matchs'!$J$2:$J$101,"Joué")) | E98: =IF($B98="","",COUNTIFS('Matchs'!$F$2:$F$101,$B98,'Matchs'!$J$2:$J$101,"Joué",'Matchs'!$L$2:$L$101,3)+COUNTIFS('Matchs'!$G$2:$G$101,$B98,'Matchs'!$J$2:$J$101,"Joué",'Matchs'!$M$2:$M$101,3)) | F98: =IF($B98="","",COUNTIFS('Matchs'!$F$2:$F$101,$B98,'Matchs'!$J$2:$J$101,"Joué",'Matchs'!$L$2:$L$101,1)+COUNTIFS('Matchs'!$G$2:$G$101,$B98,'Matchs'!$J$2:$J$101,"Joué",'Matchs'!$M$2:$M$101,1)) | G98: =IF($B98="","",D98-E98-F98) | H98: =IF($B98="","",SUMPRODUCT(('Matchs'!$F$2:$F$101=$B98)*('Matchs'!$J$2:$J$101="Joué")*'Matchs'!$H$2:$H$101)+SUMPRODUCT(('Matchs'!$G$2:$G$101=$B98)*('Matchs'!$J$2:$J$101="Joué")*'Matchs'!$I$2:$I$101)) | I98: =IF($B98="","",SUMPRODUCT(('Matchs'!$F$2:$F$101=$B98)*('Matchs'!$J$2:$J$101="Joué")*'Matchs'!$I$2:$I$101)+SUMPRODUCT(('Matchs'!$G$2:$G$101=$B98)*('Matchs'!$J$2:$J$101="Joué")*'Matchs'!$H$2:$H$101)) | J98: =IF($B98="","",H98-I98) | K98: =IF($B98="","",SUMIF('Matchs'!$F$2:$F$101,$B98,'Matchs'!$L$2:$L$101)+SUMIF('Matchs'!$G$2:$G$101,$B98,'Matchs'!$M$2:$M$101)) | L98: =IF($B98="","",IFERROR(E98/D98,0))
A99: =IF('Équipes'!$B$87="","",1+COUNTIFS($K$14:$K$113,">"&K99)+COUNTIFS($K$14:$K$113,K99,$J$14:$J$113,">"&J99)) | B99: =IF('Équipes'!$B$87="","",'Équipes'!$B$87) | C99: =IF($B99="","",IFERROR(VLOOKUP($B99,'Équipes'!$B$2:$G$101,6,FALSE),"")) | D99: =IF($B99="","",COUNTIFS('Matchs'!$F$2:$F$101,$B99,'Matchs'!$J$2:$J$101,"Joué")+COUNTIFS('Matchs'!$G$2:$G$101,$B99,'Matchs'!$J$2:$J$101,"Joué")) | E99: =IF($B99="","",COUNTIFS('Matchs'!$F$2:$F$101,$B99,'Matchs'!$J$2:$J$101,"Joué",'Matchs'!$L$2:$L$101,3)+COUNTIFS('Matchs'!$G$2:$G$101,$B99,'Matchs'!$J$2:$J$101,"Joué",'Matchs'!$M$2:$M$101,3)) | F99: =IF($B99="","",COUNTIFS('Matchs'!$F$2:$F$101,$B99,'Matchs'!$J$2:$J$101,"Joué",'Matchs'!$L$2:$L$101,1)+COUNTIFS('Matchs'!$G$2:$G$101,$B99,'Matchs'!$J$2:$J$101,"Joué",'Matchs'!$M$2:$M$101,1)) | G99: =IF($B99="","",D99-E99-F99) | H99: =IF($B99="","",SUMPRODUCT(('Matchs'!$F$2:$F$101=$B99)*('Matchs'!$J$2:$J$101="Joué")*'Matchs'!$H$2:$H$101)+SUMPRODUCT(('Matchs'!$G$2:$G$101=$B99)*('Matchs'!$J$2:$J$101="Joué")*'Matchs'!$I$2:$I$101)) | I99: =IF($B99="","",SUMPRODUCT(('Matchs'!$F$2:$F$101=$B99)*('Matchs'!$J$2:$J$101="Joué")*'Matchs'!$I$2:$I$101)+SUMPRODUCT(('Matchs'!$G$2:$G$101=$B99)*('Matchs'!$J$2:$J$101="Joué")*'Matchs'!$H$2:$H$101)) | J99: =IF($B99="","",H99-I99) | K99: =IF($B99="","",SUMIF('Matchs'!$F$2:$F$101,$B99,'Matchs'!$L$2:$L$101)+SUMIF('Matchs'!$G$2:$G$101,$B99,'Matchs'!$M$2:$M$101)) | L99: =IF($B99="","",IFERROR(E99/D99,0))
A100: =IF('Équipes'!$B$88="","",1+COUNTIFS($K$14:$K$113,">"&K100)+COUNTIFS($K$14:$K$113,K100,$J$14:$J$113,">"&J100)) | B100: =IF('Équipes'!$B$88="","",'Équipes'!$B$88) | C100: =IF($B100="","",IFERROR(VLOOKUP($B100,'Équipes'!$B$2:$G$101,6,FALSE),"")) | D100: =IF($B100="","",COUNTIFS('Matchs'!$F$2:$F$101,$B100,'Matchs'!$J$2:$J$101,"Joué")+COUNTIFS('Matchs'!$G$2:$G$101,$B100,'Matchs'!$J$2:$J$101,"Joué")) | E100: =IF($B100="","",COUNTIFS('Matchs'!$F$2:$F$101,$B100,'Matchs'!$J$2:$J$101,"Joué",'Matchs'!$L$2:$L$101,3)+COUNTIFS('Matchs'!$G$2:$G$101,$B100,'Matchs'!$J$2:$J$101,"Joué",'Matchs'!$M$2:$M$101,3)) | F100: =IF($B100="","",COUNTIFS('Matchs'!$F$2:$F$101,$B100,'Matchs'!$J$2:$J$101,"Joué",'Matchs'!$L$2:$L$101,1)+COUNTIFS('Matchs'!$G$2:$G$101,$B100,'Matchs'!$J$2:$J$101,"Joué",'Matchs'!$M$2:$M$101,1)) | G100: =IF($B100="","",D100-E100-F100) | H100: =IF($B100="","",SUMPRODUCT(('Matchs'!$F$2:$F$101=$B100)*('Matchs'!$J$2:$J$101="Joué")*'Matchs'!$H$2:$H$101)+SUMPRODUCT(('Matchs'!$G$2:$G$101=$B100)*('Matchs'!$J$2:$J$101="Joué")*'Matchs'!$I$2:$I$101)) | I100: =IF($B100="","",SUMPRODUCT(('Matchs'!$F$2:$F$101=$B100)*('Matchs'!$J$2:$J$101="Joué")*'Matchs'!$I$2:$I$101)+SUMPRODUCT(('Matchs'!$G$2:$G$101=$B100)*('Matchs'!$J$2:$J$101="Joué")*'Matchs'!$H$2:$H$101)) | J100: =IF($B100="","",H100-I100) | K100: =IF($B100="","",SUMIF('Matchs'!$F$2:$F$101,$B100,'Matchs'!$L$2:$L$101)+SUMIF('Matchs'!$G$2:$G$101,$B100,'Matchs'!$M$2:$M$101)) | L100: =IF($B100="","",IFERROR(E100/D100,0))
A101: =IF('Équipes'!$B$89="","",1+COUNTIFS($K$14:$K$113,">"&K101)+COUNTIFS($K$14:$K$113,K101,$J$14:$J$113,">"&J101)) | B101: =IF('Équipes'!$B$89="","",'Équipes'!$B$89) | C101: =IF($B101="","",IFERROR(VLOOKUP($B101,'Équipes'!$B$2:$G$101,6,FALSE),"")) | D101: =IF($B101="","",COUNTIFS('Matchs'!$F$2:$F$101,$B101,'Matchs'!$J$2:$J$101,"Joué")+COUNTIFS('Matchs'!$G$2:$G$101,$B101,'Matchs'!$J$2:$J$101,"Joué")) | E101: =IF($B101="","",COUNTIFS('Matchs'!$F$2:$F$101,$B101,'Matchs'!$J$2:$J$101,"Joué",'Matchs'!$L$2:$L$101,3)+COUNTIFS('Matchs'!$G$2:$G$101,$B101,'Matchs'!$J$2:$J$101,"Joué",'Matchs'!$M$2:$M$101,3)) | F101: =IF($B101="","",COUNTIFS('Matchs'!$F$2:$F$101,$B101,'Matchs'!$J$2:$J$101,"Joué",'Matchs'!$L$2:$L$101,1)+COUNTIFS('Matchs'!$G$2:$G$101,$B101,'Matchs'!$J$2:$J$101,"Joué",'Matchs'!$M$2:$M$101,1)) | G101: =IF($B101="","",D101-E101-F101) | H101: =IF($B101="","",SUMPRODUCT(('Matchs'!$F$2:$F$101=$B101)*('Matchs'!$J$2:$J$101="Joué")*'Matchs'!$H$2:$H$101)+SUMPRODUCT(('Matchs'!$G$2:$G$101=$B101)*('Matchs'!$J$2:$J$101="Joué")*'Matchs'!$I$2:$I$101)) | I101: =IF($B101="","",SUMPRODUCT(('Matchs'!$F$2:$F$101=$B101)*('Matchs'!$J$2:$J$101="Joué")*'Matchs'!$I$2:$I$101)+SUMPRODUCT(('Matchs'!$G$2:$G$101=$B101)*('Matchs'!$J$2:$J$101="Joué")*'Matchs'!$H$2:$H$101)) | J101: =IF($B101="","",H101-I101) | K101: =IF($B101="","",SUMIF('Matchs'!$F$2:$F$101,$B101,'Matchs'!$L$2:$L$101)+SUMIF('Matchs'!$G$2:$G$101,$B101,'Matchs'!$M$2:$M$101)) | L101: =IF($B101="","",IFERROR(E101/D101,0))
A102: =IF('Équipes'!$B$90="","",1+COUNTIFS($K$14:$K$113,">"&K102)+COUNTIFS($K$14:$K$113,K102,$J$14:$J$113,">"&J102)) | B102: =IF('Équipes'!$B$90="","",'Équipes'!$B$90) | C102: =IF($B102="","",IFERROR(VLOOKUP($B102,'Équipes'!$B$2:$G$101,6,FALSE),"")) | D102: =IF($B102="","",COUNTIFS('Matchs'!$F$2:$F$101,$B102,'Matchs'!$J$2:$J$101,"Joué")+COUNTIFS('Matchs'!$G$2:$G$101,$B102,'Matchs'!$J$2:$J$101,"Joué")) | E102: =IF($B102="","",COUNTIFS('Matchs'!$F$2:$F$101,$B102,'Matchs'!$J$2:$J$101,"Joué",'Matchs'!$L$2:$L$101,3)+COUNTIFS('Matchs'!$G$2:$G$101,$B102,'Matchs'!$J$2:$J$101,"Joué",'Matchs'!$M$2:$M$101,3)) | F102: =IF($B102="","",COUNTIFS('Matchs'!$F$2:$F$101,$B102,'Matchs'!$J$2:$J$101,"Joué",'Matchs'!$L$2:$L$101,1)+COUNTIFS('Matchs'!$G$2:$G$101,$B102,'Matchs'!$J$2:$J$101,"Joué",'Matchs'!$M$2:$M$101,1)) | G102: =IF($B102="","",D102-E102-F102) | H102: =IF($B102="","",SUMPRODUCT(('Matchs'!$F$2:$F$101=$B102)*('Matchs'!$J$2:$J$101="Joué")*'Matchs'!$H$2:$H$101)+SUMPRODUCT(('Matchs'!$G$2:$G$101=$B102)*('Matchs'!$J$2:$J$101="Joué")*'Matchs'!$I$2:$I$101)) | I102: =IF($B102="","",SUMPRODUCT(('Matchs'!$F$2:$F$101=$B102)*('Matchs'!$J$2:$J$101="Joué")*'Matchs'!$I$2:$I$101)+SUMPRODUCT(('Matchs'!$G$2:$G$101=$B102)*('Matchs'!$J$2:$J$101="Joué")*'Matchs'!$H$2:$H$101)) | J102: =IF($B102="","",H102-I102) | K102: =IF($B102="","",SUMIF('Matchs'!$F$2:$F$101,$B102,'Matchs'!$L$2:$L$101)+SUMIF('Matchs'!$G$2:$G$101,$B102,'Matchs'!$M$2:$M$101)) | L102: =IF($B102="","",IFERROR(E102/D102,0))
A103: =IF('Équipes'!$B$91="","",1+COUNTIFS($K$14:$K$113,">"&K103)+COUNTIFS($K$14:$K$113,K103,$J$14:$J$113,">"&J103)) | B103: =IF('Équipes'!$B$91="","",'Équipes'!$B$91) | C103: =IF($B103="","",IFERROR(VLOOKUP($B103,'Équipes'!$B$2:$G$101,6,FALSE),"")) | D103: =IF($B103="","",COUNTIFS('Matchs'!$F$2:$F$101,$B103,'Matchs'!$J$2:$J$101,"Joué")+COUNTIFS('Matchs'!$G$2:$G$101,$B103,'Matchs'!$J$2:$J$101,"Joué")) | E103: =IF($B103="","",COUNTIFS('Matchs'!$F$2:$F$101,$B103,'Matchs'!$J$2:$J$101,"Joué",'Matchs'!$L$2:$L$101,3)+COUNTIFS('Matchs'!$G$2:$G$101,$B103,'Matchs'!$J$2:$J$101,"Joué",'Matchs'!$M$2:$M$101,3)) | F103: =IF($B103="","",COUNTIFS('Matchs'!$F$2:$F$101,$B103,'Matchs'!$J$2:$J$101,"Joué",'Matchs'!$L$2:$L$101,1)+COUNTIFS('Matchs'!$G$2:$G$101,$B103,'Matchs'!$J$2:$J$101,"Joué",'Matchs'!$M$2:$M$101,1)) | G103: =IF($B103="","",D103-E103-F103) | H103: =IF($B103="","",SUMPRODUCT(('Matchs'!$F$2:$F$101=$B103)*('Matchs'!$J$2:$J$101="Joué")*'Matchs'!$H$2:$H$101)+SUMPRODUCT(('Matchs'!$G$2:$G$101=$B103)*('Matchs'!$J$2:$J$101="Joué")*'Matchs'!$I$2:$I$101)) | I103: =IF($B103="","",SUMPRODUCT(('Matchs'!$F$2:$F$101=$B103)*('Matchs'!$J$2:$J$101="Joué")*'Matchs'!$I$2:$I$101)+SUMPRODUCT(('Matchs'!$G$2:$G$101=$B103)*('Matchs'!$J$2:$J$101="Joué")*'Matchs'!$H$2:$H$101)) | J103: =IF($B103="","",H103-I103) | K103: =IF($B103="","",SUMIF('Matchs'!$F$2:$F$101,$B103,'Matchs'!$L$2:$L$101)+SUMIF('Matchs'!$G$2:$G$101,$B103,'Matchs'!$M$2:$M$101)) | L103: =IF($B103="","",IFERROR(E103/D103,0))
A104: =IF('Équipes'!$B$92="","",1+COUNTIFS($K$14:$K$113,">"&K104)+COUNTIFS($K$14:$K$113,K104,$J$14:$J$113,">"&J104)) | B104: =IF('Équipes'!$B$92="","",'Équipes'!$B$92) | C104: =IF($B104="","",IFERROR(VLOOKUP($B104,'Équipes'!$B$2:$G$101,6,FALSE),"")) | D104: =IF($B104="","",COUNTIFS('Matchs'!$F$2:$F$101,$B104,'Matchs'!$J$2:$J$101,"Joué")+COUNTIFS('Matchs'!$G$2:$G$101,$B104,'Matchs'!$J$2:$J$101,"Joué")) | E104: =IF($B104="","",COUNTIFS('Matchs'!$F$2:$F$101,$B104,'Matchs'!$J$2:$J$101,"Joué",'Matchs'!$L$2:$L$101,3)+COUNTIFS('Matchs'!$G$2:$G$101,$B104,'Matchs'!$J$2:$J$101,"Joué",'Matchs'!$M$2:$M$101,3)) | F104: =IF($B104="","",COUNTIFS('Matchs'!$F$2:$F$101,$B104,'Matchs'!$J$2:$J$101,"Joué",'Matchs'!$L$2:$L$101,1)+COUNTIFS('Matchs'!$G$2:$G$101,$B104,'Matchs'!$J$2:$J$101,"Joué",'Matchs'!$M$2:$M$101,1)) | G104: =IF($B104="","",D104-E104-F104) | H104: =IF($B104="","",SUMPRODUCT(('Matchs'!$F$2:$F$101=$B104)*('Matchs'!$J$2:$J$101="Joué")*'Matchs'!$H$2:$H$101)+SUMPRODUCT(('Matchs'!$G$2:$G$101=$B104)*('Matchs'!$J$2:$J$101="Joué")*'Matchs'!$I$2:$I$101)) | I104: =IF($B104="","",SUMPRODUCT(('Matchs'!$F$2:$F$101=$B104)*('Matchs'!$J$2:$J$101="Joué")*'Matchs'!$I$2:$I$101)+SUMPRODUCT(('Matchs'!$G$2:$G$101=$B104)*('Matchs'!$J$2:$J$101="Joué")*'Matchs'!$H$2:$H$101)) | J104: =IF($B104="","",H104-I104) | K104: =IF($B104="","",SUMIF('Matchs'!$F$2:$F$101,$B104,'Matchs'!$L$2:$L$101)+SUMIF('Matchs'!$G$2:$G$101,$B104,'Matchs'!$M$2:$M$101)) | L104: =IF($B104="","",IFERROR(E104/D104,0))
...
