Workbook

Sheet Pointage
A1: N° | B1: Date | C1: Salarié | D1: Ville / site | E1: Poste | F1: Type de journée | G1: Heure d’arrivée | H1: Début pause | I1: Fin pause | J1: Heure de départ | K1: Heures prévues | L1: Heures travaillées | M1: Heures normales | N1: Heures supplémentaires | O1: Absence | P1: Taux horaire (€) | Q1: Coût estimé (€) | R1: Commentaire
A2: =IF($C2="","",COUNTA($C$2:$C2)) | B2: 46083 | C2: Camille Martin | D2: Paris | E2: Assistante administrative | F2: Présence | G2: 0.35416667 | H2: 0.52083333 | I2: 0.55208333 | J2: 0.69791667 | K2: 0.29166667 | L2: =IF($C2="","",IF($F2="Absence",0,IFERROR(($J2-$G2)-($I2-$H2),0))) | M2: =IF($C2="","",IF($L2>$K2,$K2,$L2)) | N2: =IF($C2="","",IF($L2>$K2,$L2-$K2,0)) | O2: =IF($C2="","",IF($F2="Absence",1,0)) | P2: 15.5 | Q2: =IF($C2="","",IFERROR(($M2+$N2)*24*$P2,0)) | R2: Journée standard
A3: =IF($C3="","",COUNTA($C$2:$C3)) | B3: 46084 | C3: Julien Bernard | D3: Lyon | E3: Technicien | F3: Présence | G3: 0.33333333 | H3: 0.5 | I3: 0.54166667 | J3: 0.75 | K3: 0.29166667 | L3: =IF($C3="","",IF($F3="Absence",0,IFERROR(($J3-$G3)-($I3-$H3),0))) | M3: =IF($C3="","",IF($L3>$K3,$K3,$L3)) | N3: =IF($C3="","",IF($L3>$K3,$L3-$K3,0)) | O3: =IF($C3="","",IF($F3="Absence",1,0)) | P3: 21 | Q3: =IF($C3="","",IFERROR(($M3+$N3)*24*$P3,0)) | R3: Intervention client
A4: =IF($C4="","",COUNTA($C$2:$C4)) | B4: 46085 | C4: Émilie Robert | D4: Marseille | E4: Chargée de clientèle | F4: Présence | G4: 0.36458333 | H4: 0.52083333 | I4: 0.55208333 | J4: 0.70833333 | K4: 0.29166667 | L4: =IF($C4="","",IF($F4="Absence",0,IFERROR(($J4-$G4)-($I4-$H4),0))) | M4: =IF($C4="","",IF($L4>$K4,$K4,$L4)) | N4: =IF($C4="","",IF($L4>$K4,$L4-$K4,0)) | O4: =IF($C4="","",IF($F4="Absence",1,0)) | P4: 19.5 | Q4: =IF($C4="","",IFERROR(($M4+$N4)*24*$P4,0)) | R4: Suivi portefeuille
A5: =IF($C5="","",COUNTA($C$2:$C5)) | B5: 46086 | C5: Lucas Petit | D5: Toulouse | E5: Développeur | F5: Télétravail | G5: 0.375 | H5: 0.52083333 | I5: 0.55208333 | J5: 0.76041667 | K5: 0.29166667 | L5: =IF($C5="","",IF($F5="Absence",0,IFERROR(($J5-$G5)-($I5-$H5),0))) | M5: =IF($C5="","",IF($L5>$K5,$K5,$L5)) | N5: =IF($C5="","",IF($L5>$K5,$L5-$K5,0)) | O5: =IF($C5="","",IF($F5="Absence",1,0)) | P5: 28 | Q5: =IF($C5="","",IFERROR(($M5+$N5)*24*$P5,0)) | R5: Sprint produit
A6: =IF($C6="","",COUNTA($C$2:$C6)) | B6: 46087 | C6: Chloé Moreau | D6: Bordeaux | E6: Commerciale | F6: Présence | G6: 0.35416667 | H6: 0.51041667 | I6: 0.54166667 | J6: 0.77083333 | K6: 0.29166667 | L6: =IF($C6="","",IF($F6="Absence",0,IFERROR(($J6-$G6)-($I6-$H6),0))) | M6: =IF($C6="","",IF($L6>$K6,$K6,$L6)) | N6: =IF($C6="","",IF($L6>$K6,$L6-$K6,0)) | O6: =IF($C6="","",IF($F6="Absence",1,0)) | P6: 24 | Q6: =IF($C6="","",IFERROR(($M6+$N6)*24*$P6,0)) | R6: Rendez-vous clients
A7: =IF($C7="","",COUNTA($C$2:$C7)) | B7: 46090 | C7: Thomas Leroy | D7: Lille | E7: Responsable logistique | F7: Présence | G7: 0.33333333 | H7: 0.5 | I7: 0.54166667 | J7: 0.79166667 | K7: 0.29166667 | L7: =IF($C7="","",IF($F7="Absence",0,IFERROR(($J7-$G7)-($I7-$H7),0))) | M7: =IF($C7="","",IF($L7>$K7,$K7,$L7)) | N7: =IF($C7="","",IF($L7>$K7,$L7-$K7,0)) | O7: =IF($C7="","",IF($F7="Absence",1,0)) | P7: 26.5 | Q7: =IF($C7="","",IFERROR(($M7+$N7)*24*$P7,0)) | R7: Inventaire mensuel
A8: =IF($C8="","",COUNTA($C$2:$C8)) | B8: 46091 | C8: Léa Fournier | D8: Nantes | E8: Comptable | F8: Absence | K8: 0.29166667 | L8: =IF($C8="","",IF($F8="Absence",0,IFERROR(($J8-$G8)-($I8-$H8),0))) | M8: =IF($C8="","",IF($L8>$K8,$K8,$L8)) | N8: =IF($C8="","",IF($L8>$K8,$L8-$K8,0)) | O8: =IF($C8="","",IF($F8="Absence",1,0)) | P8: 23 | Q8: =IF($C8="","",IFERROR(($M8+$N8)*24*$P8,0)) | R8: Absence déclarée
A9: =IF($C9="","",COUNTA($C$2:$C9)) | B9: 46092 | C9: Nicolas Girard | D9: Strasbourg | E9: Technicien | F9: Télétravail | G9: 0.34375 | H9: 0.51041667 | I9: 0.54166667 | J9: 0.71875 | K9: 0.29166667 | L9: =IF($C9="","",IF($F9="Absence",0,IFERROR(($J9-$G9)-($I9-$H9),0))) | M9: =IF($C9="","",IF($L9>$K9,$K9,$L9)) | N9: =IF($C9="","",IF($L9>$K9,$L9-$K9,0)) | O9: =IF($C9="","",IF($F9="Absence",1,0)) | P9: 20 | Q9: =IF($C9="","",IFERROR(($M9+$N9)*24*$P9,0)) | R9: Maintenance à distance
A10: =IF($C10="","",COUNTA($C$2:$C10)) | B10: 46093 | C10: Manon André | D10: Nice | E10: Assistante RH | F10: Présence | G10: 0.375 | H10: 0.52083333 | I10: 0.55208333 | J10: 0.71875 | K10: 0.29166667 | L10: =IF($C10="","",IF($F10="Absence",0,IFERROR(($J10-$G10)-($I10-$H10),0))) | M10: =IF($C10="","",IF($L10>$K10,$K10,$L10)) | N10: =IF($C10="","",IF($L10>$K10,$L10-$K10,0)) | O10: =IF($C10="","",IF($F10="Absence",1,0)) | P10: 18.5 | Q10: =IF($C10="","",IFERROR(($M10+$N10)*24*$P10,0)) | R10: Entretiens annuels
A11: =IF($C11="","",COUNTA($C$2:$C11)) | B11: 46094 | C11: Antoine Mercier | D11: Rennes | E11: Chef de projet | F11: Présence | G11: 0.35416667 | H11: 0.52083333 | I11: 0.5625 | J11: 0.77083333 | K11: 0.29166667 | L11: =IF($C11="","",IF($F11="Absence",0,IFERROR(($J11-$G11)-($I11-$H11),0))) | M11: =IF($C11="","",IF($L11>$K11,$K11,$L11)) | N11: =IF($C11="","",IF($L11>$K11,$L11-$K11,0)) | O11: =IF($C11="","",IF($F11="Absence",1,0)) | P11: 32 | Q11: =IF($C11="","",IFERROR(($M11+$N11)*24*$P11,0)) | R11: Comité projet
A12: =IF($C12="","",COUNTA($C$2:$C12)) | L12: =IF($C12="","",IF($F12="Absence",0,IFERROR(($J12-$G12)-($I12-$H12),0))) | M12: =IF($C12="","",IF($L12>$K12,$K12,$L12)) | N12: =IF($C12="","",IF($L12>$K12,$L12-$K12,0)) | O12: =IF($C12="","",IF($F12="Absence",1,0)) | Q12: =IF($C12="","",IFERROR(($M12+$N12)*24*$P12,0))
A13: =IF($C13="","",COUNTA($C$2:$C13)) | L13: =IF($C13="","",IF($F13="Absence",0,IFERROR(($J13-$G13)-($I13-$H13),0))) | M13: =IF($C13="","",IF($L13>$K13,$K13,$L13)) | N13: =IF($C13="","",IF($L13>$K13,$L13-$K13,0)) | O13: =IF($C13="","",IF($F13="Absence",1,0)) | Q13: =IF($C13="","",IFERROR(($M13+$N13)*24*$P13,0))
A14: =IF($C14="","",COUNTA($C$2:$C14)) | L14: =IF($C14="","",IF($F14="Absence",0,IFERROR(($J14-$G14)-($I14-$H14),0))) | M14: =IF($C14="","",IF($L14>$K14,$K14,$L14)) | N14: =IF($C14="","",IF($L14>$K14,$L14-$K14,0)) | O14: =IF($C14="","",IF($F14="Absence",1,0)) | Q14: =IF($C14="","",IFERROR(($M14+$N14)*24*$P14,0))
A15: =IF($C15="","",COUNTA($C$2:$C15)) | L15: =IF($C15="","",IF($F15="Absence",0,IFERROR(($J15-$G15)-($I15-$H15),0))) | M15: =IF($C15="","",IF($L15>$K15,$K15,$L15)) | N15: =IF($C15="","",IF($L15>$K15,$L15-$K15,0)) | O15: =IF($C15="","",IF($F15="Absence",1,0)) | Q15: =IF($C15="","",IFERROR(($M15+$N15)*24*$P15,0))
A16: =IF($C16="","",COUNTA($C$2:$C16)) | L16: =IF($C16="","",IF($F16="Absence",0,IFERROR(($J16-$G16)-($I16-$H16),0))) | M16: =IF($C16="","",IF($L16>$K16,$K16,$L16)) | N16: =IF($C16="","",IF($L16>$K16,$L16-$K16,0)) | O16: =IF($C16="","",IF($F16="Absence",1,0)) | Q16: =IF($C16="","",IFERROR(($M16+$N16)*24*$P16,0))
A17: =IF($C17="","",COUNTA($C$2:$C17)) | L17: =IF($C17="","",IF($F17="Absence",0,IFERROR(($J17-$G17)-($I17-$H17),0))) | M17: =IF($C17="","",IF($L17>$K17,$K17,$L17)) | N17: =IF($C17="","",IF($L17>$K17,$L17-$K17,0)) | O17: =IF($C17="","",IF($F17="Absence",1,0)) | Q17: =IF($C17="","",IFERROR(($M17+$N17)*24*$P17,0))
A18: =IF($C18="","",COUNTA($C$2:$C18)) | L18: =IF($C18="","",IF($F18="Absence",0,IFERROR(($J18-$G18)-($I18-$H18),0))) | M18: =IF($C18="","",IF($L18>$K18,$K18,$L18)) | N18: =IF($C18="","",IF($L18>$K18,$L18-$K18,0)) | O18: =IF($C18="","",IF($F18="Absence",1,0)) | Q18: =IF($C18="","",IFERROR(($M18+$N18)*24*$P18,0))
A19: =IF($C19="","",COUNTA($C$2:$C19)) | L19: =IF($C19="","",IF($F19="Absence",0,IFERROR(($J19-$G19)-($I19-$H19),0))) | M19: =IF($C19="","",IF($L19>$K19,$K19,$L19)) | N19: =IF($C19="","",IF($L19>$K19,$L19-$K19,0)) | O19: =IF($C19="","",IF($F19="Absence",1,0)) | Q19: =IF($C19="","",IFERROR(($M19+$N19)*24*$P19,0))
A20: =IF($C20="","",COUNTA($C$2:$C20)) | L20: =IF($C20="","",IF($F20="Absence",0,IFERROR(($J20-$G20)-($I20-$H20),0))) | M20: =IF($C20="","",IF($L20>$K20,$K20,$L20)) | N20: =IF($C20="","",IF($L20>$K20,$L20-$K20,0)) | O20: =IF($C20="","",IF($F20="Absence",1,0)) | Q20: =IF($C20="","",IFERROR(($M20+$N20)*24*$P20,0))
A21: =IF($C21="","",COUNTA($C$2:$C21)) | L21: =IF($C21="","",IF($F21="Absence",0,IFERROR(($J21-$G21)-($I21-$H21),0))) | M21: =IF($C21="","",IF($L21>$K21,$K21,$L21)) | N21: =IF($C21="","",IF($L21>$K21,$L21-$K21,0)) | O21: =IF($C21="","",IF($F21="Absence",1,0)) | Q21: =IF($C21="","",IFERROR(($M21+$N21)*24*$P21,0))
A22: =IF($C22="","",COUNTA($C$2:$C22)) | L22: =IF($C22="","",IF($F22="Absence",0,IFERROR(($J22-$G22)-($I22-$H22),0))) | M22: =IF($C22="","",IF($L22>$K22,$K22,$L22)) | N22: =IF($C22="","",IF($L22>$K22,$L22-$K22,0)) | O22: =IF($C22="","",IF($F22="Absence",1,0)) | Q22: =IF($C22="","",IFERROR(($M22+$N22)*24*$P22,0))
A23: =IF($C23="","",COUNTA($C$2:$C23)) | L23: =IF($C23="","",IF($F23="Absence",0,IFERROR(($J23-$G23)-($I23-$H23),0))) | M23: =IF($C23="","",IF($L23>$K23,$K23,$L23)) | N23: =IF($C23="","",IF($L23>$K23,$L23-$K23,0)) | O23: =IF($C23="","",IF($F23="Absence",1,0)) | Q23: =IF($C23="","",IFERROR(($M23+$N23)*24*$P23,0))
... A101: =IF($C101="","",COUNTA($C$2:$C101)) | L101: =IF($C101="","",IF($F101="Absence",0,IFERROR(($J101-$G101)-($I101-$H101),0))) | M101: =IF($C101="","",IF($L101>$K101,$K101,$L101)) | N101: =IF($C101="","",IF($L101>$K101,$L101-$K101,0)) | O101: =IF($C101="","",IF($F101="Absence",1,0)) | Q101: =IF($C101="","",IFERROR(($M101+$N101)*24*$P101,0))
A102: Totaux | K102: Taux HS | L102: =SUM(L2:L101) | M102: =SUM(M2:M101) | N102: =SUM(N2:N101) | O102: =SUM(O2:O101) | Q102: =SUM(Q2:Q101) | R102: =IFERROR(SUM(N2:N101)/SUM(L2:L101),0)

Sheet Synthèse
A1: Synthèse du pointage – Mars 2026
A2: Indicateur | B2: Valeur
A3: Nombre de salariés suivis | B3: =COUNTA('Pointage'!$C$2:$C$101)
A4: Total heures travaillées | B4: =SUM('Pointage'!$L$2:$L$101)
A5: Total heures supplémentaires | B5: =SUM('Pointage'!$N$2:$N$101)
A6: Nombre de jours d’absence | B6: =COUNTIF('Pointage'!$F$2:$F$101,"Absence")
A7: Coût estimé total | B7: =SUM('Pointage'!$Q$2:$Q$101)
A8: Taux moyen de présence | B8: =IFERROR(1-COUNTIF('Pointage'!$F$2:$F$101,"Absence")/COUNTA('Pointage'!$C$2:$C$101),0)
A9: Salarié | B9: Ville / site | C9: Total heures travaillées | D9: Heures supplémentaires | E9: Jours d’absence | F9: Taux horaire | G9: Coût estimé | N9: Ville / site | O9: Heures travaillées
A10: Camille Martin | B10: =IF($A10="","",IFERROR(VLOOKUP($A10,'Pointage'!$C$2:$P$101,2,FALSE),"")) | C10: =IF($A10="","",SUMIF('Pointage'!$C$2:$C$101,$A10,'Pointage'!$L$2:$L$101)) | D10: =IF($A10="","",SUMIF('Pointage'!$C$2:$C$101,$A10,'Pointage'!$N$2:$N$101)) | E10: =IF($A10="","",COUNTIFS('Pointage'!$C$2:$C$101,$A10,'Pointage'!$F$2:$F$101,"Absence")) | F10: =IF($A10="","",IFERROR(VLOOKUP($A10,'Pointage'!$C$2:$P$101,14,FALSE),0)) | G10: =IF($A10="","",SUMIF('Pointage'!$C$2:$C$101,$A10,'Pointage'!$Q$2:$Q$101)) | N10: Paris | O10: =IF($N10="","",SUMIF('Pointage'!$D$2:$D$101,$N10,'Pointage'!$L$2:$L$101))
A11: Julien Bernard | B11: =IF($A11="","",IFERROR(VLOOKUP($A11,'Pointage'!$C$2:$P$101,2,FALSE),"")) | C11: =IF($A11="","",SUMIF('Pointage'!$C$2:$C$101,$A11,'Pointage'!$L$2:$L$101)) | D11: =IF($A11="","",SUMIF('Pointage'!$C$2:$C$101,$A11,'Pointage'!$N$2:$N$101)) | E11: =IF($A11="","",COUNTIFS('Pointage'!$C$2:$C$101,$A11,'Pointage'!$F$2:$F$101,"Absence")) | F11: =IF($A11="","",IFERROR(VLOOKUP($A11,'Pointage'!$C$2:$P$101,14,FALSE),0)) | G11: =IF($A11="","",SUMIF('Pointage'!$C$2:$C$101,$A11,'Pointage'!$Q$2:$Q$101)) | N11: Lyon | O11: =IF($N11="","",SUMIF('Pointage'!$D$2:$D$101,$N11,'Pointage'!$L$2:$L$101))
A12: Émilie Robert | B12: =IF($A12="","",IFERROR(VLOOKUP($A12,'Pointage'!$C$2:$P$101,2,FALSE),"")) | C12: =IF($A12="","",SUMIF('Pointage'!$C$2:$C$101,$A12,'Pointage'!$L$2:$L$101)) | D12: =IF($A12="","",SUMIF('Pointage'!$C$2:$C$101,$A12,'Pointage'!$N$2:$N$101)) | E12: =IF($A12="","",COUNTIFS('Pointage'!$C$2:$C$101,$A12,'Pointage'!$F$2:$F$101,"Absence")) | F12: =IF($A12="","",IFERROR(VLOOKUP($A12,'Pointage'!$C$2:$P$101,14,FALSE),0)) | G12: =IF($A12="","",SUMIF('Pointage'!$C$2:$C$101,$A12,'Pointage'!$Q$2:$Q$101)) | N12: Marseille | O12: =IF($N12="","",SUMIF('Pointage'!$D$2:$D$101,$N12,'Pointage'!$L$2:$L$101))
A13: Lucas Petit | B13: =IF($A13="","",IFERROR(VLOOKUP($A13,'Pointage'!$C$2:$P$101,2,FALSE),"")) | C13: =IF($A13="","",SUMIF('Pointage'!$C$2:$C$101,$A13,'Pointage'!$L$2:$L$101)) | D13: =IF($A13="","",SUMIF('Pointage'!$C$2:$C$101,$A13,'Pointage'!$N$2:$N$101)) | E13: =IF($A13="","",COUNTIFS('Pointage'!$C$2:$C$101,$A13,'Pointage'!$F$2:$F$101,"Absence")) | F13: =IF($A13="","",IFERROR(VLOOKUP($A13,'Pointage'!$C$2:$P$101,14,FALSE),0)) | G13: =IF($A13="","",SUMIF('Pointage'!$C$2:$C$101,$A13,'Pointage'!$Q$2:$Q$101)) | N13: Toulouse | O13: =IF($N13="","",SUMIF('Pointage'!$D$2:$D$101,$N13,'Pointage'!$L$2:$L$101))
A14: Chloé Moreau | B14: =IF($A14="","",IFERROR(VLOOKUP($A14,'Pointage'!$C$2:$P$101,2,FALSE),"")) | C14: =IF($A14="","",SUMIF('Pointage'!$C$2:$C$101,$A14,'Pointage'!$L$2:$L$101)) | D14: =IF($A14="","",SUMIF('Pointage'!$C$2:$C$101,$A14,'Pointage'!$N$2:$N$101)) | E14: =IF($A14="","",COUNTIFS('Pointage'!$C$2:$C$101,$A14,'Pointage'!$F$2:$F$101,"Absence")) | F14: =IF($A14="","",IFERROR(VLOOKUP($A14,'Pointage'!$C$2:$P$101,14,FALSE),0)) | G14: =IF($A14="","",SUMIF('Pointage'!$C$2:$C$101,$A14,'Pointage'!$Q$2:$Q$101)) | N14: Bordeaux | O14: =IF($N14="","",SUMIF('Pointage'!$D$2:$D$101,$N14,'Pointage'!$L$2:$L$101))
A15: Thomas Leroy | B15: =IF($A15="","",IFERROR(VLOOKUP($A15,'Pointage'!$C$2:$P$101,2,FALSE),"")) | C15: =IF($A15="","",SUMIF('Pointage'!$C$2:$C$101,$A15,'Pointage'!$L$2:$L$101)) | D15: =IF($A15="","",SUMIF('Pointage'!$C$2:$C$101,$A15,'Pointage'!$N$2:$N$101)) | E15: =IF($A15="","",COUNTIFS('Pointage'!$C$2:$C$101,$A15,'Pointage'!$F$2:$F$101,"Absence")) | F15: =IF($A15="","",IFERROR(VLOOKUP($A15,'Pointage'!$C$2:$P$101,14,FALSE),0)) | G15: =IF($A15="","",SUMIF('Pointage'!$C$2:$C$101,$A15,'Pointage'!$Q$2:$Q$101)) | N15: Lille | O15: =IF($N15="","",SUMIF('Pointage'!$D$2:$D$101,$N15,'Pointage'!$L$2:$L$101))
A16: Léa Fournier | B16: =IF($A16="","",IFERROR(VLOOKUP($A16,'Pointage'!$C$2:$P$101,2,FALSE),"")) | C16: =IF($A16="","",SUMIF('Pointage'!$C$2:$C$101,$A16,'Pointage'!$L$2:$L$101)) | D16: =IF($A16="","",SUMIF('Pointage'!$C$2:$C$101,$A16,'Pointage'!$N$2:$N$101)) | E16: =IF($A16="","",COUNTIFS('Pointage'!$C$2:$C$101,$A16,'Pointage'!$F$2:$F$101,"Absence")) | F16: =IF($A16="","",IFERROR(VLOOKUP($A16,'Pointage'!$C$2:$P$101,14,FALSE),0)) | G16: =IF($A16="","",SUMIF('Pointage'!$C$2:$C$101,$A16,'Pointage'!$Q$2:$Q$101)) | N16: Nantes | O16: =IF($N16="","",SUMIF('Pointage'!$D$2:$D$101,$N16,'Pointage'!$L$2:$L$101))
A17: Nicolas Girard | B17: =IF($A17="","",IFERROR(VLOOKUP($A17,'Pointage'!$C$2:$P$101,2,FALSE),"")) | C17: =IF($A17="","",SUMIF('Pointage'!$C$2:$C$101,$A17,'Pointage'!$L$2:$L$101)) | D17: =IF($A17="","",SUMIF('Pointage'!$C$2:$C$101,$A17,'Pointage'!$N$2:$N$101)) | E17: =IF($A17="","",COUNTIFS('Pointage'!$C$2:$C$101,$A17,'Pointage'!$F$2:$F$101,"Absence")) | F17: =IF($A17="","",IFERROR(VLOOKUP($A17,'Pointage'!$C$2:$P$101,14,FALSE),0)) | G17: =IF($A17="","",SUMIF('Pointage'!$C$2:$C$101,$A17,'Pointage'!$Q$2:$Q$101)) | N17: Strasbourg | O17: =IF($N17="","",SUMIF('Pointage'!$D$2:$D$101,$N17,'Pointage'!$L$2:$L$101))
A18: Manon André | B18: =IF($A18="","",IFERROR(VLOOKUP($A18,'Pointage'!$C$2:$P$101,2,FALSE),"")) | C18: =IF($A18="","",SUMIF('Pointage'!$C$2:$C$101,$A18,'Pointage'!$L$2:$L$101)) | D18: =IF($A18="","",SUMIF('Pointage'!$C$2:$C$101,$A18,'Pointage'!$N$2:$N$101)) | E18: =IF($A18="","",COUNTIFS('Pointage'!$C$2:$C$101,$A18,'Pointage'!$F$2:$F$101,"Absence")) | F18: =IF($A18="","",IFERROR(VLOOKUP($A18,'Pointage'!$C$2:$P$101,14,FALSE),0)) | G18: =IF($A18="","",SUMIF('Pointage'!$C$2:$C$101,$A18,'Pointage'!$Q$2:$Q$101)) | N18: Nice | O18: =IF($N18="","",SUMIF('Pointage'!$D$2:$D$101,$N18,'Pointage'!$L$2:$L$101))
A19: Antoine Mercier | B19: =IF($A19="","",IFERROR(VLOOKUP($A19,'Pointage'!$C$2:$P$101,2,FALSE),"")) | C19: =IF($A19="","",SUMIF('Pointage'!$C$2:$C$101,$A19,'Pointage'!$L$2:$L$101)) | D19: =IF($A19="","",SUMIF('Pointage'!$C$2:$C$101,$A19,'Pointage'!$N$2:$N$101)) | E19: =IF($A19="","",COUNTIFS('Pointage'!$C$2:$C$101,$A19,'Pointage'!$F$2:$F$101,"Absence")) | F19: =IF($A19="","",IFERROR(VLOOKUP($A19,'Pointage'!$C$2:$P$101,14,FALSE),0)) | G19: =IF($A19="","",SUMIF('Pointage'!$C$2:$C$101,$A19,'Pointage'!$Q$2:$Q$101)) | N19: Rennes | O19: =IF($N19="","",SUMIF('Pointage'!$D$2:$D$101,$N19,'Pointage'!$L$2:$L$101))
B20: =IF($A20="","",IFERROR(VLOOKUP($A20,'Pointage'!$C$2:$P$101,2,FALSE),"")) | C20: =IF($A20="","",SUMIF('Pointage'!$C$2:$C$101,$A20,'Pointage'!$L$2:$L$101)) | D20: =IF($A20="","",SUMIF('Pointage'!$C$2:$C$101,$A20,'Pointage'!$N$2:$N$101)) | E20: =IF($A20="","",COUNTIFS('Pointage'!$C$2:$C$101,$A20,'Pointage'!$F$2:$F$101,"Absence")) | F20: =IF($A20="","",IFERROR(VLOOKUP($A20,'Pointage'!$C$2:$P$101,14,FALSE),0)) | G20: =IF($A20="","",SUMIF('Pointage'!$C$2:$C$101,$A20,'Pointage'!$Q$2:$Q$101)) | O20: =IF($N20="","",SUMIF('Pointage'!$D$2:$D$101,$N20,'Pointage'!$L$2:$L$101))
B21: =IF($A21="","",IFERROR(VLOOKUP($A21,'Pointage'!$C$2:$P$101,2,FALSE),"")) | C21: =IF($A21="","",SUMIF('Pointage'!$C$2:$C$101,$A21,'Pointage'!$L$2:$L$101)) | D21: =IF($A21="","",SUMIF('Pointage'!$C$2:$C$101,$A21,'Pointage'!$N$2:$N$101)) | E21: =IF($A21="","",COUNTIFS('Pointage'!$C$2:$C$101,$A21,'Pointage'!$F$2:$F$101,"Absence")) | F21: =IF($A21="","",IFERROR(VLOOKUP($A21,'Pointage'!$C$2:$P$101,14,FALSE),0)) | G21: =IF($A21="","",SUMIF('Pointage'!$C$2:$C$101,$A21,'Pointage'!$Q$2:$Q$101)) | O21: =IF($N21="","",SUMIF('Pointage'!$D$2:$D$101,$N21,'Pointage'!$L$2:$L$101))
B22: =IF($A22="","",IFERROR(VLOOKUP($A22,'Pointage'!$C$2:$P$101,2,FALSE),"")) | C22: =IF($A22="","",SUMIF('Pointage'!$C$2:$C$101,$A22,'Pointage'!$L$2:$L$101)) | D22: =IF($A22="","",SUMIF('Pointage'!$C$2:$C$101,$A22,'Pointage'!$N$2:$N$101)) | E22: =IF($A22="","",COUNTIFS('Pointage'!$C$2:$C$101,$A22,'Pointage'!$F$2:$F$101,"Absence")) | F22: =IF($A22="","",IFERROR(VLOOKUP($A22,'Pointage'!$C$2:$P$101,14,FALSE),0)) | G22: =IF($A22="","",SUMIF('Pointage'!$C$2:$C$101,$A22,'Pointage'!$Q$2:$Q$101)) | O22: =IF($N22="","",SUMIF('Pointage'!$D$2:$D$101,$N22,'Pointage'!$L$2:$L$101))
B23: =IF($A23="","",IFERROR(VLOOKUP($A23,'Pointage'!$C$2:$P$101,2,FALSE),"")) | C23: =IF($A23="","",SUMIF('Pointage'!$C$2:$C$101,$A23,'Pointage'!$L$2:$L$101)) | D23: =IF($A23="","",SUMIF('Pointage'!$C$2:$C$101,$A23,'Pointage'!$N$2:$N$101)) | E23: =IF($A23="","",COUNTIFS('Pointage'!$C$2:$C$101,$A23,'Pointage'!$F$2:$F$101,"Absence")) | F23: =IF($A23="","",IFERROR(VLOOKUP($A23,'Pointage'!$C$2:$P$101,14,FALSE),0)) | G23: =IF($A23="","",SUMIF('Pointage'!$C$2:$C$101,$A23,'Pointage'!$Q$2:$Q$101)) | O23: =IF($N23="","",SUMIF('Pointage'!$D$2:$D$101,$N23,'Pointage'!$L$2:$L$101))
B24: =IF($A24="","",IFERROR(VLOOKUP($A24,'Pointage'!$C$2:$P$101,2,FALSE),"")) | C24: =IF($A24="","",SUMIF('Pointage'!$C$2:$C$101,$A24,'Pointage'!$L$2:$L$101)) | D24: =IF($A24="","",SUMIF('Pointage'!$C$2:$C$101,$A24,'Pointage'!$N$2:$N$101)) | E24: =IF($A24="","",COUNTIFS('Pointage'!$C$2:$C$101,$A24,'Pointage'!$F$2:$F$101,"Absence")) | F24: =IF($A24="","",IFERROR(VLOOKUP($A24,'Pointage'!$C$2:$P$101,14,FALSE),0)) | G24: =IF($A24="","",SUMIF('Pointage'!$C$2:$C$101,$A24,'Pointage'!$Q$2:$Q$101)) | O24: =IF($N24="","",SUMIF('Pointage'!$D$2:$D$101,$N24,'Pointage'!$L$2:$L$101))
B25: =IF($A25="","",IFERROR(VLOOKUP($A25,'Pointage'!$C$2:$P$101,2,FALSE),"")) | C25: =IF($A25="","",SUMIF('Pointage'!$C$2:$C$101,$A25,'Pointage'!$L$2:$L$101)) | D25: =IF($A25="","",SUMIF('Pointage'!$C$2:$C$101,$A25,'Pointage'!$N$2:$N$101)) | E25: =IF($A25="","",COUNTIFS('Pointage'!$C$2:$C$101,$A25,'Pointage'!$F$2:$F$101,"Absence")) | F25: =IF($A25="","",IFERROR(VLOOKUP($A25,'Pointage'!$C$2:$P$101,14,FALSE),0)) | G25: =IF($A25="","",SUMIF('Pointage'!$C$2:$C$101,$A25,'Pointage'!$Q$2:$Q$101)) | O25: =IF($N25="","",SUMIF('Pointage'!$D$2:$D$101,$N25,'Pointage'!$L$2:$L$101))
B26: =IF($A26="","",IFERROR(VLOOKUP($A26,'Pointage'!$C$2:$P$101,2,FALSE),"")) | C26: =IF($A26="","",SUMIF('Pointage'!$C$2:$C$101,$A26,'Pointage'!$L$2:$L$101)) | D26: =IF($A26="","",SUMIF('Pointage'!$C$2:$C$101,$A26,'Pointage'!$N$2:$N$101)) | E26: =IF($A26="","",COUNTIFS('Pointage'!$C$2:$C$101,$A26,'Pointage'!$F$2:$F$101,"Absence")) | F26: =IF($A26="","",IFERROR(VLOOKUP($A26,'Pointage'!$C$2:$P$101,14,FALSE),0)) | G26: =IF($A26="","",SUMIF('Pointage'!$C$2:$C$101,$A26,'Pointage'!$Q$2:$Q$101)) | O26: =IF($N26="","",SUMIF('Pointage'!$D$2:$D$101,$N26,'Pointage'!$L$2:$L$101))
B27: =IF($A27="","",IFERROR(VLOOKUP($A27,'Pointage'!$C$2:$P$101,2,FALSE),"")) | C27: =IF($A27="","",SUMIF('Pointage'!$C$2:$C$101,$A27,'Pointage'!$L$2:$L$101)) | D27: =IF($A27="","",SUMIF('Pointage'!$C$2:$C$101,$A27,'Pointage'!$N$2:$N$101)) | E27: =IF($A27="","",COUNTIFS('Pointage'!$C$2:$C$101,$A27,'Pointage'!$F$2:$F$101,"Absence")) | F27: =IF($A27="","",IFERROR(VLOOKUP($A27,'Pointage'!$C$2:$P$101,14,FALSE),0)) | G27: =IF($A27="","",SUMIF('Pointage'!$C$2:$C$101,$A27,'Pointage'!$Q$2:$Q$101)) | O27: =IF($N27="","",SUMIF('Pointage'!$D$2:$D$101,$N27,'Pointage'!$L$2:$L$101))
B28: =IF($A28="","",IFERROR(VLOOKUP($A28,'Pointage'!$C$2:$P$101,2,FALSE),"")) | C28: =IF($A28="","",SUMIF('Pointage'!$C$2:$C$101,$A28,'Pointage'!$L$2:$L$101)) | D28: =IF($A28="","",SUMIF('Pointage'!$C$2:$C$101,$A28,'Pointage'!$N$2:$N$101)) | E28: =IF($A28="","",COUNTIFS('Pointage'!$C$2:$C$101,$A28,'Pointage'!$F$2:$F$101,"Absence")) | F28: =IF($A28="","",IFERROR(VLOOKUP($A28,'Pointage'!$C$2:$P$101,14,FALSE),0)) | G28: =IF($A28="","",SUMIF('Pointage'!$C$2:$C$101,$A28,'Pointage'!$Q$2:$Q$101)) | O28: =IF($N28="","",SUMIF('Pointage'!$D$2:$D$101,$N28,'Pointage'!$L$2:$L$101))
B29: =IF($A29="","",IFERROR(VLOOKUP($A29,'Pointage'!$C$2:$P$101,2,FALSE),"")) | C29: =IF($A29="","",SUMIF('Pointage'!$C$2:$C$101,$A29,'Pointage'!$L$2:$L$101)) | D29: =IF($A29="","",SUMIF('Pointage'!$C$2:$C$101,$A29,'Pointage'!$N$2:$N$101)) | E29: =IF($A29="","",COUNTIFS('Pointage'!$C$2:$C$101,$A29,'Pointage'!$F$2:$F$101,"Absence")) | F29: =IF($A29="","",IFERROR(VLOOKUP($A29,'Pointage'!$C$2:$P$101,14,FALSE),0)) | G29: =IF($A29="","",SUMIF('Pointage'!$C$2:$C$101,$A29,'Pointage'!$Q$2:$Q$101)) | O29: =IF($N29="","",SUMIF('Pointage'!$D$2:$D$101,$N29,'Pointage'!$L$2:$L$101))
B30: =IF($A30="","",IFERROR(VLOOKUP($A30,'Pointage'!$C$2:$P$101,2,FALSE),"")) | C30: =IF($A30="","",SUMIF('Pointage'!$C$2:$C$101,$A30,'Pointage'!$L$2:$L$101)) | D30: =IF($A30="","",SUMIF('Pointage'!$C$2:$C$101,$A30,'Pointage'!$N$2:$N$101)) | E30: =IF($A30="","",COUNTIFS('Pointage'!$C$2:$C$101,$A30,'Pointage'!$F$2:$F$101,"Absence")) | F30: =IF($A30="","",IFERROR(VLOOKUP($A30,'Pointage'!$C$2:$P$101,14,FALSE),0)) | G30: =IF($A30="","",SUMIF('Pointage'!$C$2:$C$101,$A30,'Pointage'!$Q$2:$Q$101)) | O30: =IF($N30="","",SUMIF('Pointage'!$D$2:$D$101,$N30,'Pointage'!$L$2:$L$101))
B31: =IF($A31="","",IFERROR(VLOOKUP($A31,'Pointage'!$C$2:$P$101,2,FALSE),"")) | C31: =IF($A31="","",SUMIF('Pointage'!$C$2:$C$101,$A31,'Pointage'!$L$2:$L$101)) | D31: =IF($A31="","",SUMIF('Pointage'!$C$2:$C$101,$A31,'Pointage'!$N$2:$N$101)) | E31: =IF($A31="","",COUNTIFS('Pointage'!$C$2:$C$101,$A31,'Pointage'!$F$2:$F$101,"Absence")) | F31: =IF($A31="","",IFERROR(VLOOKUP($A31,'Pointage'!$C$2:$P$101,14,FALSE),0)) | G31: =IF($A31="","",SUMIF('Pointage'!$C$2:$C$101,$A31,'Pointage'!$Q$2:$Q$101)) | O31: =IF($N31="","",SUMIF('Pointage'!$D$2:$D$101,$N31,'Pointage'!$L$2:$L$101))
... B109: =IF($A109="","",IFERROR(VLOOKUP($A109,'Pointage'!$C$2:$P$101,2,FALSE),"")) | C109: =IF($A109="","",SUMIF('Pointage'!$C$2:$C$101,$A109,'Pointage'!$L$2:$L$101)) | D109: =IF($A109="","",SUMIF('Pointage'!$C$2:$C$101,$A109,'Pointage'!$N$2:$N$101)) | E109: =IF($A109="","",COUNTIFS('Pointage'!$C$2:$C$101,$A109,'Pointage'!$F$2:$F$101,"Absence")) | F109: =IF($A109="","",IFERROR(VLOOKUP($A109,'Pointage'!$C$2:$P$101,14,FALSE),0)) | G109: =IF($A109="","",SUMIF('Pointage'!$C$2:$C$101,$A109,'Pointage'!$Q$2:$Q$101)) | O109: =IF($N109="","",SUMIF('Pointage'!$D$2:$D$101,$N109,'Pointage'!$L$2:$L$101))

Sheet Instructions
A1: Mode d’emploi – Fichier pointage heures
A3: Feuille | B3: Utilisation
A4: Pointage | B4: Saisir une ligne par salarié et par journée. Les cellules jaunes sont prévues pour la saisie ou la correction des informations.
A5: Synthèse | B5: Consulter les indicateurs mensuels, le récapitulatif individuel et les graphiques. Ajouter un salarié dans la colonne Salarié du tableau récapitulatif pour le suivre.
A6: Formats | B6: Utiliser le format JJ/MM/AAAA pour les dates, hh:mm pour les heures d’arrivée, de pause et de départ, et [h]:mm pour les durées.
A7: Type de journée | B7: Sélectionner Présence, Télétravail, Congé payé, Maladie ou Absence dans la liste déroulante Type de journée.
A8: Calcul automatique | B8: Les heures travaillées sont calculées automatiquement à partir des horaires saisis et de la pause méridienne.
A9: Paie | B9: Vérifier les heures supplémentaires avant validation de la paie et contrôler les commentaires associés.
A10: Conformité | B10: Ce fichier constitue un outil de suivi. Les données doivent être contrôlées avec les règles internes, la convention collective et le Code du travail.
A11: Confidentialité | B11: Les données salariés sont confidentielles. Limiter l’accès aux personnes habilitées, appliquer les durées de conservation internes et respecter les principes RGPD ainsi que les recommandations de la CNIL.
A13: Colonnes principales | B13: Date, salarié, site, poste, type de journée, horaires, heures prévues, taux horaire et commentaire sont saisis ou vérifiés dans la feuille Pointage.
