Workbook

Sheet Mouvements
A1: ID mouvement | B1: Date | C1: Type | D1: Référence | E1: Désignation | F1: Catégorie | G1: Quantité | H1: Prix unitaire HT (€) | I1: Montant HT (€) | J1: TVA | K1: Montant TTC (€) | L1: Motif / document | M1: Responsable | N1: Ville | O1: Contrôle
A2: MVT-2026-001 | B2: 46027 | C2: Entrée | D2: ART-001 | E2: =IF(D2="","",IFERROR(VLOOKUP(D2,'Produits'!$A$2:$I$101,2,FALSE),"Référence inconnue")) | F2: =IF(D2="","",IFERROR(VLOOKUP(D2,'Produits'!$A$2:$I$101,3,FALSE),"")) | G2: 20 | H2: =IF(D2="","",IFERROR(VLOOKUP(D2,'Produits'!$A$2:$I$101,7,FALSE),0)) | I2: =IF(OR(G2="",H2=""),"",G2*H2) | J2: 0.2 | K2: =IF(OR(I2="",J2=""),"",I2*(1+J2)) | L2: Réception fournisseur - BL-2026-014 | M2: Camille Martin | N2: Paris | O2: =IF(AND(D2="",G2=""),"",IF(OR(D2="",G2<=0),"À vérifier","OK"))
A3: MVT-2026-002 | B3: 46031 | C3: Entrée | D3: ART-002 | E3: =IF(D3="","",IFERROR(VLOOKUP(D3,'Produits'!$A$2:$I$101,2,FALSE),"Référence inconnue")) | F3: =IF(D3="","",IFERROR(VLOOKUP(D3,'Produits'!$A$2:$I$101,3,FALSE),"")) | G3: 60 | H3: =IF(D3="","",IFERROR(VLOOKUP(D3,'Produits'!$A$2:$I$101,7,FALSE),0)) | I3: =IF(OR(G3="",H3=""),"",G3*H3) | J3: 0.2 | K3: =IF(OR(I3="",J3=""),"",I3*(1+J3)) | L3: Bon de livraison - BL-2026-027 | M3: Julien Bernard | N3: Lyon | O3: =IF(AND(D3="",G3=""),"",IF(OR(D3="",G3<=0),"À vérifier","OK"))
A4: MVT-2026-003 | B4: 46036 | C4: Sortie | D4: ART-003 | E4: =IF(D4="","",IFERROR(VLOOKUP(D4,'Produits'!$A$2:$I$101,2,FALSE),"Référence inconnue")) | F4: =IF(D4="","",IFERROR(VLOOKUP(D4,'Produits'!$A$2:$I$101,3,FALSE),"")) | G4: 14 | H4: =IF(D4="","",IFERROR(VLOOKUP(D4,'Produits'!$A$2:$I$101,7,FALSE),0)) | I4: =IF(OR(G4="",H4=""),"",G4*H4) | J4: 0.2 | K4: =IF(OR(I4="",J4=""),"",I4*(1+J4)) | L4: Consommation interne - SORT-2026-008 | M4: Émilie Robert | N4: Marseille | O4: =IF(AND(D4="",G4=""),"",IF(OR(D4="",G4<=0),"À vérifier","OK"))
A5: MVT-2026-004 | B5: 46043 | C5: Entrée | D5: ART-004 | E5: =IF(D5="","",IFERROR(VLOOKUP(D5,'Produits'!$A$2:$I$101,2,FALSE),"Référence inconnue")) | F5: =IF(D5="","",IFERROR(VLOOKUP(D5,'Produits'!$A$2:$I$101,3,FALSE),"")) | G5: 12 | H5: =IF(D5="","",IFERROR(VLOOKUP(D5,'Produits'!$A$2:$I$101,7,FALSE),0)) | I5: =IF(OR(G5="",H5=""),"",G5*H5) | J5: 0.2 | K5: =IF(OR(I5="",J5=""),"",I5*(1+J5)) | L5: Réception fournisseur - BL-2026-027 | M5: Lucas Petit | N5: Nantes | O5: =IF(AND(D5="",G5=""),"",IF(OR(D5="",G5<=0),"À vérifier","OK"))
A6: MVT-2026-005 | B6: 46050 | C6: Sortie | D6: ART-005 | E6: =IF(D6="","",IFERROR(VLOOKUP(D6,'Produits'!$A$2:$I$101,2,FALSE),"Référence inconnue")) | F6: =IF(D6="","",IFERROR(VLOOKUP(D6,'Produits'!$A$2:$I$101,3,FALSE),"")) | G6: 10 | H6: =IF(D6="","",IFERROR(VLOOKUP(D6,'Produits'!$A$2:$I$101,7,FALSE),0)) | I6: =IF(OR(G6="",H6=""),"",G6*H6) | J6: 0.2 | K6: =IF(OR(I6="",J6=""),"",I6*(1+J6)) | L6: Préparation commande client - BC-2026-041 | M6: Chloé Moreau | N6: Toulouse | O6: =IF(AND(D6="",G6=""),"",IF(OR(D6="",G6<=0),"À vérifier","OK"))
A7: MVT-2026-006 | B7: 46057 | C7: Entrée | D7: ART-006 | E7: =IF(D7="","",IFERROR(VLOOKUP(D7,'Produits'!$A$2:$I$101,2,FALSE),"Référence inconnue")) | F7: =IF(D7="","",IFERROR(VLOOKUP(D7,'Produits'!$A$2:$I$101,3,FALSE),"")) | G7: 30 | H7: =IF(D7="","",IFERROR(VLOOKUP(D7,'Produits'!$A$2:$I$101,7,FALSE),0)) | I7: =IF(OR(G7="",H7=""),"",G7*H7) | J7: 0.2 | K7: =IF(OR(I7="",J7=""),"",I7*(1+J7)) | L7: Bon de livraison - BL-2026-014 | M7: Thomas Laurent | N7: Paris | O7: =IF(AND(D7="",G7=""),"",IF(OR(D7="",G7<=0),"À vérifier","OK"))
A8: MVT-2026-007 | B8: 46064 | C8: Sortie | D8: ART-007 | E8: =IF(D8="","",IFERROR(VLOOKUP(D8,'Produits'!$A$2:$I$101,2,FALSE),"Référence inconnue")) | F8: =IF(D8="","",IFERROR(VLOOKUP(D8,'Produits'!$A$2:$I$101,3,FALSE),"")) | G8: 120 | H8: =IF(D8="","",IFERROR(VLOOKUP(D8,'Produits'!$A$2:$I$101,7,FALSE),0)) | I8: =IF(OR(G8="",H8=""),"",G8*H8) | J8: 0.2 | K8: =IF(OR(I8="",J8=""),"",I8*(1+J8)) | L8: Préparation commande client - BC-2026-041 | M8: Camille Martin | N8: Lille | O8: =IF(AND(D8="",G8=""),"",IF(OR(D8="",G8<=0),"À vérifier","OK"))
A9: MVT-2026-008 | B9: 46071 | C9: Entrée | D9: ART-008 | E9: =IF(D9="","",IFERROR(VLOOKUP(D9,'Produits'!$A$2:$I$101,2,FALSE),"Référence inconnue")) | F9: =IF(D9="","",IFERROR(VLOOKUP(D9,'Produits'!$A$2:$I$101,3,FALSE),"")) | G9: 50 | H9: =IF(D9="","",IFERROR(VLOOKUP(D9,'Produits'!$A$2:$I$101,7,FALSE),0)) | I9: =IF(OR(G9="",H9=""),"",G9*H9) | J9: 0.2 | K9: =IF(OR(I9="",J9=""),"",I9*(1+J9)) | L9: Réception fournisseur - BL-2026-027 | M9: Julien Bernard | N9: Lyon | O9: =IF(AND(D9="",G9=""),"",IF(OR(D9="",G9<=0),"À vérifier","OK"))
A10: MVT-2026-009 | B10: 46076 | C10: Sortie | D10: ART-001 | E10: =IF(D10="","",IFERROR(VLOOKUP(D10,'Produits'!$A$2:$I$101,2,FALSE),"Référence inconnue")) | F10: =IF(D10="","",IFERROR(VLOOKUP(D10,'Produits'!$A$2:$I$101,3,FALSE),"")) | G10: 18 | H10: =IF(D10="","",IFERROR(VLOOKUP(D10,'Produits'!$A$2:$I$101,7,FALSE),0)) | I10: =IF(OR(G10="",H10=""),"",G10*H10) | J10: 0.2 | K10: =IF(OR(I10="",J10=""),"",I10*(1+J10)) | L10: Consommation interne - SORT-2026-008 | M10: Émilie Robert | N10: Bordeaux | O10: =IF(AND(D10="",G10=""),"",IF(OR(D10="",G10<=0),"À vérifier","OK"))
A11: MVT-2026-010 | B11: 46081 | C11: Sortie | D11: ART-004 | E11: =IF(D11="","",IFERROR(VLOOKUP(D11,'Produits'!$A$2:$I$101,2,FALSE),"Référence inconnue")) | F11: =IF(D11="","",IFERROR(VLOOKUP(D11,'Produits'!$A$2:$I$101,3,FALSE),"")) | G11: 25 | H11: =IF(D11="","",IFERROR(VLOOKUP(D11,'Produits'!$A$2:$I$101,7,FALSE),0)) | I11: =IF(OR(G11="",H11=""),"",G11*H11) | J11: 0.2 | K11: =IF(OR(I11="",J11=""),"",I11*(1+J11)) | L11: Préparation commande client - BC-2026-041 | M11: Lucas Petit | N11: Paris | O11: =IF(AND(D11="",G11=""),"",IF(OR(D11="",G11<=0),"À vérifier","OK"))
E12: =IF(D12="","",IFERROR(VLOOKUP(D12,'Produits'!$A$2:$I$101,2,FALSE),"Référence inconnue")) | F12: =IF(D12="","",IFERROR(VLOOKUP(D12,'Produits'!$A$2:$I$101,3,FALSE),"")) | H12: =IF(D12="","",IFERROR(VLOOKUP(D12,'Produits'!$A$2:$I$101,7,FALSE),0)) | I12: =IF(OR(G12="",H12=""),"",G12*H12) | K12: =IF(OR(I12="",J12=""),"",I12*(1+J12)) | O12: =IF(AND(D12="",G12=""),"",IF(OR(D12="",G12<=0),"À vérifier","OK"))
E13: =IF(D13="","",IFERROR(VLOOKUP(D13,'Produits'!$A$2:$I$101,2,FALSE),"Référence inconnue")) | F13: =IF(D13="","",IFERROR(VLOOKUP(D13,'Produits'!$A$2:$I$101,3,FALSE),"")) | H13: =IF(D13="","",IFERROR(VLOOKUP(D13,'Produits'!$A$2:$I$101,7,FALSE),0)) | I13: =IF(OR(G13="",H13=""),"",G13*H13) | K13: =IF(OR(I13="",J13=""),"",I13*(1+J13)) | O13: =IF(AND(D13="",G13=""),"",IF(OR(D13="",G13<=0),"À vérifier","OK"))
E14: =IF(D14="","",IFERROR(VLOOKUP(D14,'Produits'!$A$2:$I$101,2,FALSE),"Référence inconnue")) | F14: =IF(D14="","",IFERROR(VLOOKUP(D14,'Produits'!$A$2:$I$101,3,FALSE),"")) | H14: =IF(D14="","",IFERROR(VLOOKUP(D14,'Produits'!$A$2:$I$101,7,FALSE),0)) | I14: =IF(OR(G14="",H14=""),"",G14*H14) | K14: =IF(OR(I14="",J14=""),"",I14*(1+J14)) | O14: =IF(AND(D14="",G14=""),"",IF(OR(D14="",G14<=0),"À vérifier","OK"))
E15: =IF(D15="","",IFERROR(VLOOKUP(D15,'Produits'!$A$2:$I$101,2,FALSE),"Référence inconnue")) | F15: =IF(D15="","",IFERROR(VLOOKUP(D15,'Produits'!$A$2:$I$101,3,FALSE),"")) | H15: =IF(D15="","",IFERROR(VLOOKUP(D15,'Produits'!$A$2:$I$101,7,FALSE),0)) | I15: =IF(OR(G15="",H15=""),"",G15*H15) | K15: =IF(OR(I15="",J15=""),"",I15*(1+J15)) | O15: =IF(AND(D15="",G15=""),"",IF(OR(D15="",G15<=0),"À vérifier","OK"))
E16: =IF(D16="","",IFERROR(VLOOKUP(D16,'Produits'!$A$2:$I$101,2,FALSE),"Référence inconnue")) | F16: =IF(D16="","",IFERROR(VLOOKUP(D16,'Produits'!$A$2:$I$101,3,FALSE),"")) | H16: =IF(D16="","",IFERROR(VLOOKUP(D16,'Produits'!$A$2:$I$101,7,FALSE),0)) | I16: =IF(OR(G16="",H16=""),"",G16*H16) | K16: =IF(OR(I16="",J16=""),"",I16*(1+J16)) | O16: =IF(AND(D16="",G16=""),"",IF(OR(D16="",G16<=0),"À vérifier","OK"))
E17: =IF(D17="","",IFERROR(VLOOKUP(D17,'Produits'!$A$2:$I$101,2,FALSE),"Référence inconnue")) | F17: =IF(D17="","",IFERROR(VLOOKUP(D17,'Produits'!$A$2:$I$101,3,FALSE),"")) | H17: =IF(D17="","",IFERROR(VLOOKUP(D17,'Produits'!$A$2:$I$101,7,FALSE),0)) | I17: =IF(OR(G17="",H17=""),"",G17*H17) | K17: =IF(OR(I17="",J17=""),"",I17*(1+J17)) | O17: =IF(AND(D17="",G17=""),"",IF(OR(D17="",G17<=0),"À vérifier","OK"))
E18: =IF(D18="","",IFERROR(VLOOKUP(D18,'Produits'!$A$2:$I$101,2,FALSE),"Référence inconnue")) | F18: =IF(D18="","",IFERROR(VLOOKUP(D18,'Produits'!$A$2:$I$101,3,FALSE),"")) | H18: =IF(D18="","",IFERROR(VLOOKUP(D18,'Produits'!$A$2:$I$101,7,FALSE),0)) | I18: =IF(OR(G18="",H18=""),"",G18*H18) | K18: =IF(OR(I18="",J18=""),"",I18*(1+J18)) | O18: =IF(AND(D18="",G18=""),"",IF(OR(D18="",G18<=0),"À vérifier","OK"))
E19: =IF(D19="","",IFERROR(VLOOKUP(D19,'Produits'!$A$2:$I$101,2,FALSE),"Référence inconnue")) | F19: =IF(D19="","",IFERROR(VLOOKUP(D19,'Produits'!$A$2:$I$101,3,FALSE),"")) | H19: =IF(D19="","",IFERROR(VLOOKUP(D19,'Produits'!$A$2:$I$101,7,FALSE),0)) | I19: =IF(OR(G19="",H19=""),"",G19*H19) | K19: =IF(OR(I19="",J19=""),"",I19*(1+J19)) | O19: =IF(AND(D19="",G19=""),"",IF(OR(D19="",G19<=0),"À vérifier","OK"))
E20: =IF(D20="","",IFERROR(VLOOKUP(D20,'Produits'!$A$2:$I$101,2,FALSE),"Référence inconnue")) | F20: =IF(D20="","",IFERROR(VLOOKUP(D20,'Produits'!$A$2:$I$101,3,FALSE),"")) | H20: =IF(D20="","",IFERROR(VLOOKUP(D20,'Produits'!$A$2:$I$101,7,FALSE),0)) | I20: =IF(OR(G20="",H20=""),"",G20*H20) | K20: =IF(OR(I20="",J20=""),"",I20*(1+J20)) | O20: =IF(AND(D20="",G20=""),"",IF(OR(D20="",G20<=0),"À vérifier","OK"))
E21: =IF(D21="","",IFERROR(VLOOKUP(D21,'Produits'!$A$2:$I$101,2,FALSE),"Référence inconnue")) | F21: =IF(D21="","",IFERROR(VLOOKUP(D21,'Produits'!$A$2:$I$101,3,FALSE),"")) | H21: =IF(D21="","",IFERROR(VLOOKUP(D21,'Produits'!$A$2:$I$101,7,FALSE),0)) | I21: =IF(OR(G21="",H21=""),"",G21*H21) | K21: =IF(OR(I21="",J21=""),"",I21*(1+J21)) | O21: =IF(AND(D21="",G21=""),"",IF(OR(D21="",G21<=0),"À vérifier","OK"))
E22: =IF(D22="","",IFERROR(VLOOKUP(D22,'Produits'!$A$2:$I$101,2,FALSE),"Référence inconnue")) | F22: =IF(D22="","",IFERROR(VLOOKUP(D22,'Produits'!$A$2:$I$101,3,FALSE),"")) | H22: =IF(D22="","",IFERROR(VLOOKUP(D22,'Produits'!$A$2:$I$101,7,FALSE),0)) | I22: =IF(OR(G22="",H22=""),"",G22*H22) | K22: =IF(OR(I22="",J22=""),"",I22*(1+J22)) | O22: =IF(AND(D22="",G22=""),"",IF(OR(D22="",G22<=0),"À vérifier","OK"))
E23: =IF(D23="","",IFERROR(VLOOKUP(D23,'Produits'!$A$2:$I$101,2,FALSE),"Référence inconnue")) | F23: =IF(D23="","",IFERROR(VLOOKUP(D23,'Produits'!$A$2:$I$101,3,FALSE),"")) | H23: =IF(D23="","",IFERROR(VLOOKUP(D23,'Produits'!$A$2:$I$101,7,FALSE),0)) | I23: =IF(OR(G23="",H23=""),"",G23*H23) | K23: =IF(OR(I23="",J23=""),"",I23*(1+J23)) | O23: =IF(AND(D23="",G23=""),"",IF(OR(D23="",G23<=0),"À vérifier","OK"))
... E101: =IF(D101="","",IFERROR(VLOOKUP(D101,'Produits'!$A$2:$I$101,2,FALSE),"Référence inconnue")) | F101: =IF(D101="","",IFERROR(VLOOKUP(D101,'Produits'!$A$2:$I$101,3,FALSE),"")) | H101: =IF(D101="","",IFERROR(VLOOKUP(D101,'Produits'!$A$2:$I$101,7,FALSE),0)) | I101: =IF(OR(G101="",H101=""),"",G101*H101) | K101: =IF(OR(I101="",J101=""),"",I101*(1+J101)) | O101: =IF(AND(D101="",G101=""),"",IF(OR(D101="",G101<=0),"À vérifier","OK"))

Sheet Produits
A1: Référence | B1: Désignation | C1: Catégorie | D1: Fournisseur | E1: Stock initial | F1: Stock minimum | G1: Prix unitaire HT (€) | H1: TVA | I1: Emplacement | J1: Valeur du stock initial (€) | K1: Stock actuel | L1: Valeur du stock actuel (€) | M1: Alerte stock
A2: ART-001 | B2: Cartouche d’encre noire | C2: Consommables | D2: Bureau Services | E2: 25 | F2: 10 | G2: 42.5 | H2: 0.2 | I2: A-01 | J2: =IF(A2="","",E2*G2) | K2: =IF(A2="","",E2+SUMIFS('Mouvements'!$G$2:$G$101,'Mouvements'!$D$2:$D$101,A2,'Mouvements'!$C$2:$C$101,"Entrée")-SUMIFS('Mouvements'!$G$2:$G$101,'Mouvements'!$D$2:$D$101,A2,'Mouvements'!$C$2:$C$101,"Sortie")) | L2: =IF(A2="","",K2*G2) | M2: =IF(A2="","",IF(K2<=F2,"À commander","OK"))
A3: ART-002 | B3: Ramette papier A4 | C3: Consommables | D3: Papeterie Rhône | E3: 80 | F3: 30 | G3: 5.9 | H3: 0.2 | I3: A-02 | J3: =IF(A3="","",E3*G3) | K3: =IF(A3="","",E3+SUMIFS('Mouvements'!$G$2:$G$101,'Mouvements'!$D$2:$D$101,A3,'Mouvements'!$C$2:$C$101,"Entrée")-SUMIFS('Mouvements'!$G$2:$G$101,'Mouvements'!$D$2:$D$101,A3,'Mouvements'!$C$2:$C$101,"Sortie")) | L3: =IF(A3="","",K3*G3) | M3: =IF(A3="","",IF(K3<=F3,"À commander","OK"))
A4: ART-003 | B4: Clavier sans fil | C4: Informatique | D4: TechDistrib | E4: 18 | F4: 5 | G4: 29.9 | H4: 0.2 | I4: B-01 | J4: =IF(A4="","",E4*G4) | K4: =IF(A4="","",E4+SUMIFS('Mouvements'!$G$2:$G$101,'Mouvements'!$D$2:$D$101,A4,'Mouvements'!$C$2:$C$101,"Entrée")-SUMIFS('Mouvements'!$G$2:$G$101,'Mouvements'!$D$2:$D$101,A4,'Mouvements'!$C$2:$C$101,"Sortie")) | L4: =IF(A4="","",K4*G4) | M4: =IF(A4="","",IF(K4<=F4,"À commander","OK"))
A5: ART-004 | B5: Souris ergonomique | C5: Informatique | D5: TechDistrib | E5: 22 | F5: 6 | G5: 34.5 | H5: 0.2 | I5: B-02 | J5: =IF(A5="","",E5*G5) | K5: =IF(A5="","",E5+SUMIFS('Mouvements'!$G$2:$G$101,'Mouvements'!$D$2:$D$101,A5,'Mouvements'!$C$2:$C$101,"Entrée")-SUMIFS('Mouvements'!$G$2:$G$101,'Mouvements'!$D$2:$D$101,A5,'Mouvements'!$C$2:$C$101,"Sortie")) | L5: =IF(A5="","",K5*G5) | M5: =IF(A5="","",IF(K5<=F5,"À commander","OK"))
A6: ART-005 | B6: Écran 24 pouces | C6: Informatique | D6: Écrans France | E6: 12 | F6: 3 | G6: 159 | H6: 0.2 | I6: B-03 | J6: =IF(A6="","",E6*G6) | K6: =IF(A6="","",E6+SUMIFS('Mouvements'!$G$2:$G$101,'Mouvements'!$D$2:$D$101,A6,'Mouvements'!$C$2:$C$101,"Entrée")-SUMIFS('Mouvements'!$G$2:$G$101,'Mouvements'!$D$2:$D$101,A6,'Mouvements'!$C$2:$C$101,"Sortie")) | L6: =IF(A6="","",K6*G6) | M6: =IF(A6="","",IF(K6<=F6,"À commander","OK"))
A7: ART-006 | B7: Boîte d’archives | C7: Classement | D7: Archivage Pro | E7: 45 | F7: 15 | G7: 3.8 | H7: 0.2 | I7: C-01 | J7: =IF(A7="","",E7*G7) | K7: =IF(A7="","",E7+SUMIFS('Mouvements'!$G$2:$G$101,'Mouvements'!$D$2:$D$101,A7,'Mouvements'!$C$2:$C$101,"Entrée")-SUMIFS('Mouvements'!$G$2:$G$101,'Mouvements'!$D$2:$D$101,A7,'Mouvements'!$C$2:$C$101,"Sortie")) | L7: =IF(A7="","",K7*G7) | M7: =IF(A7="","",IF(K7<=F7,"À commander","OK"))
A8: ART-007 | B8: Étiquette adhésive | C8: Expédition | D8: Logistique Ouest | E8: 150 | F8: 50 | G8: 0.18 | H8: 0.2 | I8: C-02 | J8: =IF(A8="","",E8*G8) | K8: =IF(A8="","",E8+SUMIFS('Mouvements'!$G$2:$G$101,'Mouvements'!$D$2:$D$101,A8,'Mouvements'!$C$2:$C$101,"Entrée")-SUMIFS('Mouvements'!$G$2:$G$101,'Mouvements'!$D$2:$D$101,A8,'Mouvements'!$C$2:$C$101,"Sortie")) | L8: =IF(A8="","",K8*G8) | M8: =IF(A8="","",IF(K8<=F8,"À commander","OK"))
A9: ART-008 | B9: Ruban adhésif colis | C9: Expédition | D9: Logistique Ouest | E9: 60 | F9: 20 | G9: 2.4 | H9: 0.2 | I9: C-03 | J9: =IF(A9="","",E9*G9) | K9: =IF(A9="","",E9+SUMIFS('Mouvements'!$G$2:$G$101,'Mouvements'!$D$2:$D$101,A9,'Mouvements'!$C$2:$C$101,"Entrée")-SUMIFS('Mouvements'!$G$2:$G$101,'Mouvements'!$D$2:$D$101,A9,'Mouvements'!$C$2:$C$101,"Sortie")) | L9: =IF(A9="","",K9*G9) | M9: =IF(A9="","",IF(K9<=F9,"À commander","OK"))
J10: =IF(A10="","",E10*G10) | K10: =IF(A10="","",E10+SUMIFS('Mouvements'!$G$2:$G$101,'Mouvements'!$D$2:$D$101,A10,'Mouvements'!$C$2:$C$101,"Entrée")-SUMIFS('Mouvements'!$G$2:$G$101,'Mouvements'!$D$2:$D$101,A10,'Mouvements'!$C$2:$C$101,"Sortie")) | L10: =IF(A10="","",K10*G10) | M10: =IF(A10="","",IF(K10<=F10,"À commander","OK"))
J11: =IF(A11="","",E11*G11) | K11: =IF(A11="","",E11+SUMIFS('Mouvements'!$G$2:$G$101,'Mouvements'!$D$2:$D$101,A11,'Mouvements'!$C$2:$C$101,"Entrée")-SUMIFS('Mouvements'!$G$2:$G$101,'Mouvements'!$D$2:$D$101,A11,'Mouvements'!$C$2:$C$101,"Sortie")) | L11: =IF(A11="","",K11*G11) | M11: =IF(A11="","",IF(K11<=F11,"À commander","OK"))
J12: =IF(A12="","",E12*G12) | K12: =IF(A12="","",E12+SUMIFS('Mouvements'!$G$2:$G$101,'Mouvements'!$D$2:$D$101,A12,'Mouvements'!$C$2:$C$101,"Entrée")-SUMIFS('Mouvements'!$G$2:$G$101,'Mouvements'!$D$2:$D$101,A12,'Mouvements'!$C$2:$C$101,"Sortie")) | L12: =IF(A12="","",K12*G12) | M12: =IF(A12="","",IF(K12<=F12,"À commander","OK"))
J13: =IF(A13="","",E13*G13) | K13: =IF(A13="","",E13+SUMIFS('Mouvements'!$G$2:$G$101,'Mouvements'!$D$2:$D$101,A13,'Mouvements'!$C$2:$C$101,"Entrée")-SUMIFS('Mouvements'!$G$2:$G$101,'Mouvements'!$D$2:$D$101,A13,'Mouvements'!$C$2:$C$101,"Sortie")) | L13: =IF(A13="","",K13*G13) | M13: =IF(A13="","",IF(K13<=F13,"À commander","OK"))
J14: =IF(A14="","",E14*G14) | K14: =IF(A14="","",E14+SUMIFS('Mouvements'!$G$2:$G$101,'Mouvements'!$D$2:$D$101,A14,'Mouvements'!$C$2:$C$101,"Entrée")-SUMIFS('Mouvements'!$G$2:$G$101,'Mouvements'!$D$2:$D$101,A14,'Mouvements'!$C$2:$C$101,"Sortie")) | L14: =IF(A14="","",K14*G14) | M14: =IF(A14="","",IF(K14<=F14,"À commander","OK"))
J15: =IF(A15="","",E15*G15) | K15: =IF(A15="","",E15+SUMIFS('Mouvements'!$G$2:$G$101,'Mouvements'!$D$2:$D$101,A15,'Mouvements'!$C$2:$C$101,"Entrée")-SUMIFS('Mouvements'!$G$2:$G$101,'Mouvements'!$D$2:$D$101,A15,'Mouvements'!$C$2:$C$101,"Sortie")) | L15: =IF(A15="","",K15*G15) | M15: =IF(A15="","",IF(K15<=F15,"À commander","OK"))
J16: =IF(A16="","",E16*G16) | K16: =IF(A16="","",E16+SUMIFS('Mouvements'!$G$2:$G$101,'Mouvements'!$D$2:$D$101,A16,'Mouvements'!$C$2:$C$101,"Entrée")-SUMIFS('Mouvements'!$G$2:$G$101,'Mouvements'!$D$2:$D$101,A16,'Mouvements'!$C$2:$C$101,"Sortie")) | L16: =IF(A16="","",K16*G16) | M16: =IF(A16="","",IF(K16<=F16,"À commander","OK"))
J17: =IF(A17="","",E17*G17) | K17: =IF(A17="","",E17+SUMIFS('Mouvements'!$G$2:$G$101,'Mouvements'!$D$2:$D$101,A17,'Mouvements'!$C$2:$C$101,"Entrée")-SUMIFS('Mouvements'!$G$2:$G$101,'Mouvements'!$D$2:$D$101,A17,'Mouvements'!$C$2:$C$101,"Sortie")) | L17: =IF(A17="","",K17*G17) | M17: =IF(A17="","",IF(K17<=F17,"À commander","OK"))
J18: =IF(A18="","",E18*G18) | K18: =IF(A18="","",E18+SUMIFS('Mouvements'!$G$2:$G$101,'Mouvements'!$D$2:$D$101,A18,'Mouvements'!$C$2:$C$101,"Entrée")-SUMIFS('Mouvements'!$G$2:$G$101,'Mouvements'!$D$2:$D$101,A18,'Mouvements'!$C$2:$C$101,"Sortie")) | L18: =IF(A18="","",K18*G18) | M18: =IF(A18="","",IF(K18<=F18,"À commander","OK"))
J19: =IF(A19="","",E19*G19) | K19: =IF(A19="","",E19+SUMIFS('Mouvements'!$G$2:$G$101,'Mouvements'!$D$2:$D$101,A19,'Mouvements'!$C$2:$C$101,"Entrée")-SUMIFS('Mouvements'!$G$2:$G$101,'Mouvements'!$D$2:$D$101,A19,'Mouvements'!$C$2:$C$101,"Sortie")) | L19: =IF(A19="","",K19*G19) | M19: =IF(A19="","",IF(K19<=F19,"À commander","OK"))
J20: =IF(A20="","",E20*G20) | K20: =IF(A20="","",E20+SUMIFS('Mouvements'!$G$2:$G$101,'Mouvements'!$D$2:$D$101,A20,'Mouvements'!$C$2:$C$101,"Entrée")-SUMIFS('Mouvements'!$G$2:$G$101,'Mouvements'!$D$2:$D$101,A20,'Mouvements'!$C$2:$C$101,"Sortie")) | L20: =IF(A20="","",K20*G20) | M20: =IF(A20="","",IF(K20<=F20,"À commander","OK"))
J21: =IF(A21="","",E21*G21) | K21: =IF(A21="","",E21+SUMIFS('Mouvements'!$G$2:$G$101,'Mouvements'!$D$2:$D$101,A21,'Mouvements'!$C$2:$C$101,"Entrée")-SUMIFS('Mouvements'!$G$2:$G$101,'Mouvements'!$D$2:$D$101,A21,'Mouvements'!$C$2:$C$101,"Sortie")) | L21: =IF(A21="","",K21*G21) | M21: =IF(A21="","",IF(K21<=F21,"À commander","OK"))
... J101: =IF(A101="","",E101*G101) | K101: =IF(A101="","",E101+SUMIFS('Mouvements'!$G$2:$G$101,'Mouvements'!$D$2:$D$101,A101,'Mouvements'!$C$2:$C$101,"Entrée")-SUMIFS('Mouvements'!$G$2:$G$101,'Mouvements'!$D$2:$D$101,A101,'Mouvements'!$C$2:$C$101,"Sortie")) | L101: =IF(A101="","",K101*G101) | M101: =IF(A101="","",IF(K101<=F101,"À commander","OK"))

Sheet Tableau de bord
A1: Tableau de bord — Suivi des stocks
A3: Date de mise à jour | B3: =IF(COUNTA('Mouvements'!$B$2:$B$101)=0,"",MAX('Mouvements'!$B$2:$B$101)) | D3: Nombre total de références | E3: =COUNTIF('Produits'!$A$2:$A$101,"<>") | G3: Quantité totale entrée | H3: =SUMIF('Mouvements'!$C$2:$C$101,"Entrée",'Mouvements'!$G$2:$G$101)
A5: Quantité totale sortie | B5: =SUMIF('Mouvements'!$C$2:$C$101,"Sortie",'Mouvements'!$G$2:$G$101) | D5: Valeur totale des entrées HT | E5: =SUMIF('Mouvements'!$C$2:$C$101,"Entrée",'Mouvements'!$I$2:$I$101) | G5: Valeur totale des sorties HT | H5: =SUMIF('Mouvements'!$C$2:$C$101,"Sortie",'Mouvements'!$I$2:$I$101)
A7: Valeur moyenne d’un mouvement | B7: =IFERROR(AVERAGE('Mouvements'!$I$2:$I$101),0) | D7: Articles à commander | E7: =COUNTIF('Produits'!$M$2:$M$101,"À commander")
A10: Catégorie | B10: Quantité entrée | C10: Quantité sortie | D10: Valeur entrées HT (€) | E10: Valeur sorties HT (€) | F10: Stock actuel | G10: Valeur stock actuelle (€) | H10: Prix unitaire moyen HT (€)
A11: Consommables | B11: =SUMIFS('Mouvements'!$G$2:$G$101,'Mouvements'!$F$2:$F$101,A11,'Mouvements'!$C$2:$C$101,"Entrée") | C11: =SUMIFS('Mouvements'!$G$2:$G$101,'Mouvements'!$F$2:$F$101,A11,'Mouvements'!$C$2:$C$101,"Sortie") | D11: =SUMIFS('Mouvements'!$I$2:$I$101,'Mouvements'!$F$2:$F$101,A11,'Mouvements'!$C$2:$C$101,"Entrée") | E11: =SUMIFS('Mouvements'!$I$2:$I$101,'Mouvements'!$F$2:$F$101,A11,'Mouvements'!$C$2:$C$101,"Sortie") | F11: =SUMIF('Produits'!$C$2:$C$101,A11,'Produits'!$K$2:$K$101) | G11: =SUMIF('Produits'!$C$2:$C$101,A11,'Produits'!$L$2:$L$101) | H11: =IFERROR(AVERAGEIF('Produits'!$C$2:$C$101,A11,'Produits'!$G$2:$G$101),0)
A12: Informatique | B12: =SUMIFS('Mouvements'!$G$2:$G$101,'Mouvements'!$F$2:$F$101,A12,'Mouvements'!$C$2:$C$101,"Entrée") | C12: =SUMIFS('Mouvements'!$G$2:$G$101,'Mouvements'!$F$2:$F$101,A12,'Mouvements'!$C$2:$C$101,"Sortie") | D12: =SUMIFS('Mouvements'!$I$2:$I$101,'Mouvements'!$F$2:$F$101,A12,'Mouvements'!$C$2:$C$101,"Entrée") | E12: =SUMIFS('Mouvements'!$I$2:$I$101,'Mouvements'!$F$2:$F$101,A12,'Mouvements'!$C$2:$C$101,"Sortie") | F12: =SUMIF('Produits'!$C$2:$C$101,A12,'Produits'!$K$2:$K$101) | G12: =SUMIF('Produits'!$C$2:$C$101,A12,'Produits'!$L$2:$L$101) | H12: =IFERROR(AVERAGEIF('Produits'!$C$2:$C$101,A12,'Produits'!$G$2:$G$101),0)
A13: Classement | B13: =SUMIFS('Mouvements'!$G$2:$G$101,'Mouvements'!$F$2:$F$101,A13,'Mouvements'!$C$2:$C$101,"Entrée") | C13: =SUMIFS('Mouvements'!$G$2:$G$101,'Mouvements'!$F$2:$F$101,A13,'Mouvements'!$C$2:$C$101,"Sortie") | D13: =SUMIFS('Mouvements'!$I$2:$I$101,'Mouvements'!$F$2:$F$101,A13,'Mouvements'!$C$2:$C$101,"Entrée") | E13: =SUMIFS('Mouvements'!$I$2:$I$101,'Mouvements'!$F$2:$F$101,A13,'Mouvements'!$C$2:$C$101,"Sortie") | F13: =SUMIF('Produits'!$C$2:$C$101,A13,'Produits'!$K$2:$K$101) | G13: =SUMIF('Produits'!$C$2:$C$101,A13,'Produits'!$L$2:$L$101) | H13: =IFERROR(AVERAGEIF('Produits'!$C$2:$C$101,A13,'Produits'!$G$2:$G$101),0)
A14: Expédition | B14: =SUMIFS('Mouvements'!$G$2:$G$101,'Mouvements'!$F$2:$F$101,A14,'Mouvements'!$C$2:$C$101,"Entrée") | C14: =SUMIFS('Mouvements'!$G$2:$G$101,'Mouvements'!$F$2:$F$101,A14,'Mouvements'!$C$2:$C$101,"Sortie") | D14: =SUMIFS('Mouvements'!$I$2:$I$101,'Mouvements'!$F$2:$F$101,A14,'Mouvements'!$C$2:$C$101,"Entrée") | E14: =SUMIFS('Mouvements'!$I$2:$I$101,'Mouvements'!$F$2:$F$101,A14,'Mouvements'!$C$2:$C$101,"Sortie") | F14: =SUMIF('Produits'!$C$2:$C$101,A14,'Produits'!$K$2:$K$101) | G14: =SUMIF('Produits'!$C$2:$C$101,A14,'Produits'!$L$2:$L$101) | H14: =IFERROR(AVERAGEIF('Produits'!$C$2:$C$101,A14,'Produits'!$G$2:$G$101),0)
A18: Référence | B18: Désignation | C18: Stock actuel | D18: Stock minimum | E18: Écart à commander
A19: =IF('Produits'!$M$2="À commander",'Produits'!$A$2,"") | B19: =IF('Produits'!$M$2="À commander",'Produits'!$B$2,"") | C19: =IF('Produits'!$M$2="À commander",'Produits'!$K$2,0) | D19: =IF('Produits'!$M$2="À commander",'Produits'!$F$2,0) | E19: =IF(A19="","",D19-C19)
A20: =IF('Produits'!$M$3="À commander",'Produits'!$A$3,"") | B20: =IF('Produits'!$M$3="À commander",'Produits'!$B$3,"") | C20: =IF('Produits'!$M$3="À commander",'Produits'!$K$3,0) | D20: =IF('Produits'!$M$3="À commander",'Produits'!$F$3,0) | E20: =IF(A20="","",D20-C20)
A21: =IF('Produits'!$M$4="À commander",'Produits'!$A$4,"") | B21: =IF('Produits'!$M$4="À commander",'Produits'!$B$4,"") | C21: =IF('Produits'!$M$4="À commander",'Produits'!$K$4,0) | D21: =IF('Produits'!$M$4="À commander",'Produits'!$F$4,0) | E21: =IF(A21="","",D21-C21)
A22: =IF('Produits'!$M$5="À commander",'Produits'!$A$5,"") | B22: =IF('Produits'!$M$5="À commander",'Produits'!$B$5,"") | C22: =IF('Produits'!$M$5="À commander",'Produits'!$K$5,0) | D22: =IF('Produits'!$M$5="À commander",'Produits'!$F$5,0) | E22: =IF(A22="","",D22-C22)
A23: =IF('Produits'!$M$6="À commander",'Produits'!$A$6,"") | B23: =IF('Produits'!$M$6="À commander",'Produits'!$B$6,"") | C23: =IF('Produits'!$M$6="À commander",'Produits'!$K$6,0) | D23: =IF('Produits'!$M$6="À commander",'Produits'!$F$6,0) | E23: =IF(A23="","",D23-C23)
A24: =IF('Produits'!$M$7="À commander",'Produits'!$A$7,"") | B24: =IF('Produits'!$M$7="À commander",'Produits'!$B$7,"") | C24: =IF('Produits'!$M$7="À commander",'Produits'!$K$7,0) | D24: =IF('Produits'!$M$7="À commander",'Produits'!$F$7,0) | E24: =IF(A24="","",D24-C24)
A25: =IF('Produits'!$M$8="À commander",'Produits'!$A$8,"") | B25: =IF('Produits'!$M$8="À commander",'Produits'!$B$8,"") | C25: =IF('Produits'!$M$8="À commander",'Produits'!$K$8,0) | D25: =IF('Produits'!$M$8="À commander",'Produits'!$F$8,0) | E25: =IF(A25="","",D25-C25)
A26: =IF('Produits'!$M$9="À commander",'Produits'!$A$9,"") | B26: =IF('Produits'!$M$9="À commander",'Produits'!$B$9,"") | C26: =IF('Produits'!$M$9="À commander",'Produits'!$K$9,0) | D26: =IF('Produits'!$M$9="À commander",'Produits'!$F$9,0) | E26: =IF(A26="","",D26-C26)
